BEGIN:VCALENDAR
VERSION:2.0
PRODID:-//Agenda do Vinho - ECPv4.9.0//NONSGML v1.0//EN
CALSCALE:GREGORIAN
METHOD:PUBLISH
X-WR-CALNAME:Agenda do Vinho
X-ORIGINAL-URL:https://agendadovinho.com.br
X-WR-CALDESC:Eventos para Agenda do Vinho
BEGIN:VEVENT
DTSTART;TZID=America/Sao_Paulo:20211218T100000
DTEND;TZID=America/Sao_Paulo:20211218T200000
DTSTAMP:20260420T042411
CREATED:20211206T143500Z
LAST-MODIFIED:20211206T165005Z
UID:17849-1639821600-1639857600@agendadovinho.com.br
SUMMARY:Sparkling Festival
DESCRIPTION:Use o código ClubeCV e tenha 10% de desconto.\n
URL:https://agendadovinho.com.br/event/sparkling-festival-3/
LOCATION:Casa de Cultura do Parque\, Av. Prof. Fonseca Rodrigues\, 1300 - Alto de Pinheiros\, São Paulo\, SP\, 05461-010\, Brasil
CATEGORIES:Degustação,SP - São Paulo
ATTACH;FMTTYPE=image/png:https://agendadovinho.com.br/wp-content/uploads/2021/12/sparkling-festival_181221.png
END:VEVENT
END:VCALENDAR