BEGIN:VCALENDAR
VERSION:2.0
PRODID:-//Agenda do Vinho - ECPv4.9.0//NONSGML v1.0//EN
CALSCALE:GREGORIAN
METHOD:PUBLISH
X-WR-CALNAME:Agenda do Vinho
X-ORIGINAL-URL:https://agendadovinho.com.br
X-WR-CALDESC:Eventos para Agenda do Vinho
BEGIN:VEVENT
DTSTART;TZID=America/Sao_Paulo:20211121T130000
DTEND;TZID=America/Sao_Paulo:20211121T180000
DTSTAMP:20260420T025009
CREATED:20211013T203538Z
LAST-MODIFIED:20211013T203538Z
UID:17777-1637499600-1637517600@agendadovinho.com.br
SUMMARY:Feira Naturebas 2021
DESCRIPTION:
URL:https://agendadovinho.com.br/event/feira-naturebas-2021/
LOCATION:Ocupação 9 de Julho\, R. Álvaro de Carvalho\, 427 - Bela Vista\, São Paulo\, SP\, 01050-070\, Brasil
CATEGORIES:Degustação,SP - São Paulo
ATTACH;FMTTYPE=image/jpeg:https://agendadovinho.com.br/wp-content/uploads/2021/10/feira-naturebas_211121.jpg
END:VEVENT
END:VCALENDAR