BEGIN:VCALENDAR
VERSION:2.0
PRODID:-//Agenda do Vinho - ECPv4.9.0//NONSGML v1.0//EN
CALSCALE:GREGORIAN
METHOD:PUBLISH
X-WR-CALNAME:Agenda do Vinho
X-ORIGINAL-URL:https://agendadovinho.com.br
X-WR-CALDESC:Eventos para Agenda do Vinho
BEGIN:VEVENT
DTSTART;TZID=America/Sao_Paulo:20211023T170000
DTEND;TZID=America/Sao_Paulo:20211023T210000
DTSTAMP:20260420T012303
CREATED:20210914T143256Z
LAST-MODIFIED:20210914T143256Z
UID:17722-1635008400-1635022800@agendadovinho.com.br
SUMMARY:1º ENTARDECER COM VINHOS ENTRE TAÇAS E BEIJOS – SÃO PAULO!
DESCRIPTION:Uma tarde OPEN WINE\, com uma seleção especial com 10 rótulos de vinhos\, de diversos países\, que serão servidos durante o evento\, harmonizado com delicioso coquetel do Chef Rafael Silva do Buffet Andy Gastronomia. Tudo isso regado à muita música boa\, que ficará por conta do DJ Paulo Silva do Dueventi!\n\nEstamos com condição especial para confrarias! Juntos\, vamos trazer a turma toda para curtir uma tarde incrível!  VEM!\nEvento com ingressos super limitado\, garanta já o seu!\n
URL:https://agendadovinho.com.br/event/1o-entardecer-com-vinhos-entre-tacas-e-beijos-sao-paulo/
LOCATION:Lá Fora Eventos\, Rua Desembargador do Vale\, 449 - Perdizes\, São Paulo\, SP\, 05010-040\, Brasil
CATEGORIES:Degustação,SP - São Paulo
ATTACH;FMTTYPE=image/png:https://agendadovinho.com.br/wp-content/uploads/2021/09/entardecertacasebeijos-instagram.png
END:VEVENT
END:VCALENDAR