BEGIN:VCALENDAR
VERSION:2.0
PRODID:-//Agenda do Vinho - ECPv4.9.0//NONSGML v1.0//EN
CALSCALE:GREGORIAN
METHOD:PUBLISH
X-WR-CALNAME:Agenda do Vinho
X-ORIGINAL-URL:https://agendadovinho.com.br
X-WR-CALDESC:Eventos para Agenda do Vinho
BEGIN:VEVENT
DTSTART;TZID=America/Sao_Paulo:20210814T130000
DTEND;TZID=America/Sao_Paulo:20210814T190000
DTSTAMP:20260419T220525
CREATED:20210802T201212Z
LAST-MODIFIED:20210802T201212Z
UID:17655-1628946000-1628967600@agendadovinho.com.br
SUMMARY:Encontro de Vinhos São Paulo
DESCRIPTION:14/ago – 13:00 \n
URL:https://agendadovinho.com.br/event/encontro-de-vinhos-sao-paulo-2/
LOCATION:Casa das Caldeiras\, Av. Francisco Matarazzo\, 2000 - Água Branca\, São Paulo\, SP\, 05001-200\, Brasil
CATEGORIES:Degustação,SP - São Paulo
ATTACH;FMTTYPE=image/jpeg:https://agendadovinho.com.br/wp-content/uploads/2021/08/encontro-de-vinhos_140821.jpg
END:VEVENT
END:VCALENDAR