BEGIN:VCALENDAR
VERSION:2.0
PRODID:-//Agenda do Vinho - ECPv4.9.0//NONSGML v1.0//EN
CALSCALE:GREGORIAN
METHOD:PUBLISH
X-WR-CALNAME:Agenda do Vinho
X-ORIGINAL-URL:https://agendadovinho.com.br
X-WR-CALDESC:Eventos para Agenda do Vinho
BEGIN:VEVENT
DTSTART;TZID=America/Sao_Paulo:20210703T083000
DTEND;TZID=America/Sao_Paulo:20210703T123000
DTSTAMP:20260419T184938
CREATED:20210628T145207Z
LAST-MODIFIED:20210628T145207Z
UID:17546-1625301000-1625315400@agendadovinho.com.br
SUMMARY:Curso: O Básico Do Vinho
DESCRIPTION:03/jul – 08:30 \n
URL:https://agendadovinho.com.br/event/curso-o-basico-do-vinho-4/
LOCATION:Comer\, Beber e Viajar\, Consultoria e Cursos Ltda\, Rua Leandro Dupret\, 335\, Vila Clementino\, São Paulo\, SP\, Brasil
CATEGORIES:Curso técnico,SP - São Paulo
ATTACH;FMTTYPE=image/png:https://agendadovinho.com.br/wp-content/uploads/2021/06/o-básico-do-vinho_030721.png
END:VEVENT
END:VCALENDAR