BEGIN:VCALENDAR
VERSION:2.0
PRODID:-//Agenda do Vinho - ECPv4.9.0//NONSGML v1.0//EN
CALSCALE:GREGORIAN
METHOD:PUBLISH
X-WR-CALNAME:Agenda do Vinho
X-ORIGINAL-URL:https://agendadovinho.com.br
X-WR-CALDESC:Eventos para Agenda do Vinho
BEGIN:VEVENT
DTSTART;TZID=America/Sao_Paulo:20190731T190000
DTEND;TZID=America/Sao_Paulo:20190731T220000
DTSTAMP:20260419T120416
CREATED:20190712T134347Z
LAST-MODIFIED:20190716T135417Z
UID:5357-1564599600-1564610400@agendadovinho.com.br
SUMMARY:Vertical de Miolo Merlot Terroir
DESCRIPTION:Super evento!! Vertical de vinhos brasileiros!! Miolo Merlot Terroir! Safras 2004\, 2009\, 2011\, 2012\, 2015 e 2018!! Degustação guiada pelo enólogo da Miolo @lourencopedrotti  \nValor R$100 \nApenas 15 vagas!! \nGaranta sua participação!! \nData: 31/07 19:00 \nLocal @alvino_expert  \n
URL:https://agendadovinho.com.br/event/vertical-de-miolo-merlot-terroir/
LOCATION:Alvino Expert\, R. Dr. Samuel Pôrto\, 351 - cj 14 - Saúde\, São Paulo - SP\, 04054-010\, São Paulo\, SP\, 04054-010\, Brasil
CATEGORIES:Degustação,SP - São Paulo
ATTACH;FMTTYPE=image/jpeg:https://agendadovinho.com.br/wp-content/uploads/2019/07/vertical-merlot_310719.jpg
END:VEVENT
BEGIN:VEVENT
DTSTART;TZID=America/Sao_Paulo:20190731T193000
DTEND;TZID=America/Sao_Paulo:20190731T193000
DTSTAMP:20260419T120416
CREATED:20190722T144822Z
LAST-MODIFIED:20190722T144822Z
UID:5846-1564601400-1564601400@agendadovinho.com.br
SUMMARY:Jantar Harmonizado
DESCRIPTION:No próximo dia 31/07\, @patricia_brentzel vai harmonizar com vinhos brasileiros o menu do queridíssimo @chefcarlosribeironacozinha a convite da nossa amiga @luisainessaliba na @rotadoacaraje😍 \nDá uma olhada nesse menu delicioso: \nEntradas: caldinho de sururu e mini acarajé\nPrincipais: arroz de ahuça (foto) e moqueca de ovo\nSobremesas: mini carlota e mini bolinho de estudante \nOs ingressos são antecipados\, então corre lá pra fazer sua reserva! 3668.6222 \nBanquete Sagrado – Ajeum das Águas\n31/07 às 19h30\nRota do Acarajé\nRua Martins Francisco\, 533 – Santa Cecília\nR$ 150\,00 menu harmonizado por pessoa + serviço \n
URL:https://agendadovinho.com.br/event/jantar-harmonizado-22/
LOCATION:Rota do Acarajé\, R. Martim Francisco\, 529/533 - Santa Cecilia\, São Paulo\, SP\, 01226-001\, Brasil
CATEGORIES:Jantar harmonizado,SP - São Paulo
ATTACH;FMTTYPE=image/jpeg:https://agendadovinho.com.br/wp-content/uploads/2019/07/jantar-harmonizado_310719.jpg
END:VEVENT
BEGIN:VEVENT
DTSTART;TZID=America/Sao_Paulo:20190731T200000
DTEND;TZID=America/Sao_Paulo:20190731T200000
DTSTAMP:20260419T120416
CREATED:20190722T145348Z
LAST-MODIFIED:20190722T145348Z
UID:5850-1564603200-1564603200@agendadovinho.com.br
SUMMARY:Cardápio harmonizado de inverno
DESCRIPTION:Menu harmonizado!\nA chef Renata Biasin prepara um jantar com cardápio de inverno\, harmonizado com as dicas do consultor Paulo Ferretti. Entrada\, prato principal e sobremesa harmonizados com vinhos do Novo Mundo\nFaça sua reserva! \n
URL:https://agendadovinho.com.br/event/cardapio-harmonizado-de-inverno/
LOCATION:Edíficio Boulevard Lapa\, R. Campos Vergueiro\, 275 - ap. 42 - torre 1 - Vila Anastácio\, São Paulo\, SP\, 05095-020\, Brasil
CATEGORIES:Jantar harmonizado,SP - São Paulo
ATTACH;FMTTYPE=image/jpeg:https://agendadovinho.com.br/wp-content/uploads/2019/07/cardapio-harmonizado_310719.jpg
END:VEVENT
END:VCALENDAR