BEGIN:VCALENDAR
VERSION:2.0
PRODID:-//Agenda do Vinho - ECPv4.9.0//NONSGML v1.0//EN
CALSCALE:GREGORIAN
METHOD:PUBLISH
X-WR-CALNAME:Agenda do Vinho
X-ORIGINAL-URL:https://agendadovinho.com.br
X-WR-CALDESC:Eventos para Agenda do Vinho
BEGIN:VEVENT
DTSTART;TZID=America/Sao_Paulo:20190729T200000
DTEND;TZID=America/Sao_Paulo:20190729T200000
DTSTAMP:20260419T120132
CREATED:20190718T150421Z
LAST-MODIFIED:20190718T150421Z
UID:5610-1564430400-1564430400@agendadovinho.com.br
SUMMARY:Introdução ao Mundo do Vinho
DESCRIPTION:Introdução ao Mundo do Vinho\, porta de entrada nesse fascinante mundo\, é o mais abrangente e completo curso de introdução ao mundo do vinho. Objetivo\, levar informações e curiosidades gerais sobre este universo tão vasto\, porém de forma muito leve e descontraída. Curso especialmente formatado para leigos ou amadores que desejam ampliar seus conhecimentos sobre o assunto. Organizado em oito aulas semanais\, com degustação de ótimos vinhos. Visa assim um consumo com qualidade e conhecimento. \n  \nMais informações: https://www.abs-sp.com.br/turmas/t476/introducao-ao-mundo-do-vinho \n
URL:https://agendadovinho.com.br/event/introducao-ao-mundo-do-vinho-4/
LOCATION:ABS São Paulo\, 2 Edifício Olímpia Park\, R. Gomes de Carvalho\, 1327/1329 - Vila Olímpia\, São Paulo\, SP\, 04547-005\, Brasil
CATEGORIES:Curso técnico,SP - São Paulo
ATTACH;FMTTYPE=image/jpeg:https://agendadovinho.com.br/wp-content/uploads/2019/07/introducao-ao-mundo-do-vinho_290719.jpg
END:VEVENT
END:VCALENDAR