BEGIN:VCALENDAR
VERSION:2.0
PRODID:-//Agenda do Vinho - ECPv4.9.0//NONSGML v1.0//EN
CALSCALE:GREGORIAN
METHOD:PUBLISH
X-WR-CALNAME:Agenda do Vinho
X-ORIGINAL-URL:https://agendadovinho.com.br
X-WR-CALDESC:Eventos para Agenda do Vinho
BEGIN:VEVENT
DTSTART;TZID=America/Sao_Paulo:20190717T180000
DTEND;TZID=America/Sao_Paulo:20190717T220000
DTSTAMP:20260419T132659
CREATED:20190710T152204Z
LAST-MODIFIED:20190710T152204Z
UID:5296-1563386400-1563400800@agendadovinho.com.br
SUMMARY:Festival do Hambúrguer e Vinho Azul
DESCRIPTION:Anota na agenda para não perder: dia 17 de julho acontece no Restaurante Tenda Paulista o “Festival de Hambúrguer com Vinho Azul”. \nO Restaurante Tenda Paulista está localizado no melhor ponto da Avenida Paulista – no conjunto nacional emblemático símbolo paulista. \nEstamos do lado do metrô consolação para sua maior comodidade\, venha de qualquer parte de São Paulo e delicie-se com nosso festival. \nFaça já a compra do seu Combo\, chame os amigos e tenha uma experiência gastronômica deliciosa. \nO combo consiste em: a) você irá escolher 1 dos 3 tipos de hambúrgueres do festival: Kafta\, Xsalada ou XBacon b) batata frita c) 1 taça de Vinho Azul d) 1 drink de Vinho Azul. \nUma deliciosa harmonização de sabores feito exclusivamente para seu paladar. \n
URL:https://agendadovinho.com.br/event/festival-do-hamburguer-e-vinho-azul/
LOCATION:Restaurante Tenda Paulista\, Avenida Paulista\, 2113\, Cerqueira César\, São Paulo\, SP\, Brasil
CATEGORIES:Outros,SP - São Paulo
ATTACH;FMTTYPE=image/png:https://agendadovinho.com.br/wp-content/uploads/2019/07/vinho-azul_170719.png
END:VEVENT
BEGIN:VEVENT
DTSTART;TZID=America/Sao_Paulo:20190717T190000
DTEND;TZID=America/Sao_Paulo:20190717T213000
DTSTAMP:20260419T132659
CREATED:20190714T145559Z
LAST-MODIFIED:20190714T145559Z
UID:5438-1563390000-1563399000@agendadovinho.com.br
SUMMARY:Workshop: Vinhos de “Condições Extremas”
DESCRIPTION:Regiões montanhosas com encostas muito íngremes\, condições climáticas no limite para a viticultura ou ventos devastadores são alguns exemplos de condições extremas que tornam alguns produtores verdadeiros heróis! Mas se eles se sujeitam a isso\, em muitos casos é porque o resultado vale muito a pena… Conheça conosco a história e os vinhos de algumas das mais interessantes regiões extremas do mundo do vinho. \n
URL:https://agendadovinho.com.br/event/workshop-vinhos-de-condicoes-extremas/
LOCATION:Enocultura – São Paulo\, Alameda Lorena\, 150 - Jardim Paulista\, São Paulo\, SP\, 01424-000\, Brasil
CATEGORIES:Curso técnico,SP - São Paulo
ATTACH;FMTTYPE=image/jpeg:https://agendadovinho.com.br/wp-content/uploads/2019/07/condicoes-extremas_170719.jpg
END:VEVENT
BEGIN:VEVENT
DTSTART;TZID=America/Sao_Paulo:20190717T190000
DTEND;TZID=America/Sao_Paulo:20190717T190000
DTSTAMP:20260419T132659
CREATED:20190714T153011Z
LAST-MODIFIED:20190714T153011Z
UID:5456-1563390000-1563390000@agendadovinho.com.br
SUMMARY:Degustação harmonizada - Bordeaux
DESCRIPTION:Degustação harmonizada – BORDEAUX \nVenha degustar conosco 3 vinhos de Bordeaux\, uma região importante e bastante conhecida da França. \nOs vinhos serão degustados com L’ Etivaz AOP\, um queijo tradicional suíço especialidade da nossa Cave e baquete rústica. \n*Château Barrail Meyney AOC Bordeaux 2016(Merlot) \n*Château Bidonnet Laffitte AOC Bordeaux 2016 (Merlot) \n*Château Le Doyenné AOC Côtes de Bordeaux 2012 (Merlot) \nValor: individual R$70\,00 Casal: R$120\,00 | 50 ml \n
URL:https://agendadovinho.com.br/event/degustacao-harmonizada-bordeaux-4/
LOCATION:Cave Suíça\, Rua João Ramalho\, 1392\, São Paulo\, SP\, Brasil
CATEGORIES:Degustação,SP - São Paulo
ATTACH;FMTTYPE=image/jpeg:https://agendadovinho.com.br/wp-content/uploads/2019/07/degustacao-harmonizada-bordeaux_170719.jpg
END:VEVENT
BEGIN:VEVENT
DTSTART;TZID=America/Sao_Paulo:20190717T200000
DTEND;TZID=America/Sao_Paulo:20190717T200000
DTSTAMP:20260419T132659
CREATED:20190714T152330Z
LAST-MODIFIED:20190714T152330Z
UID:5452-1563393600-1563393600@agendadovinho.com.br
SUMMARY:Aula de degustação de vinhos
DESCRIPTION:Aula sobre degustação de vinhos\nVocê irá aprender como identificar os aromas\, acidez\, tanino\, corpo\, e como harmonizar com as comidas.\nVai ser um bate papo informal com muita prática 🥂\nReservas antecipadas no WhatsApp 📞 (11) 99934-3348 \n
URL:https://agendadovinho.com.br/event/aula-de-degustacao-de-vinhos-2/
LOCATION:R. Cel. Joaquim Ferreira Lôbo\, 338\, R. Cel. Joaquim Ferreira Lôbo\, 338 - Vila Nova Conceição\, São Paulo\, SP\, 04544-150\, Brasil
CATEGORIES:Curso técnico,SP - São Paulo
ATTACH;FMTTYPE=image/jpeg:https://agendadovinho.com.br/wp-content/uploads/2019/07/aula-de-degustacao-de-vinhos_170719.jpg
END:VEVENT
END:VCALENDAR