BEGIN:VCALENDAR
VERSION:2.0
PRODID:-//Agenda do Vinho - ECPv4.9.0//NONSGML v1.0//EN
CALSCALE:GREGORIAN
METHOD:PUBLISH
X-WR-CALNAME:Agenda do Vinho
X-ORIGINAL-URL:https://agendadovinho.com.br
X-WR-CALDESC:Eventos para Agenda do Vinho
BEGIN:VEVENT
DTSTART;TZID=America/Sao_Paulo:20190716T083000
DTEND;TZID=America/Sao_Paulo:20190716T083000
DTSTAMP:20260419T133002
CREATED:20190505T232858Z
LAST-MODIFIED:20190505T232858Z
UID:3230-1563265800-1563265800@agendadovinho.com.br
SUMMARY:Curso de Formação de Sommeliers e Profissionais - Módulo I
DESCRIPTION:A ABS-SP abre vagas para nova turma do Módulo I (Fundamentos do Vinho) de seu curso de Formação de Profissionais. Esse curso será realizado às terças e quintas\, ou seja\, duas vezes por semana\, no período da manhã\, às 8h30min. Início previsto para 16 de julho de 2019. Duração de 4 meses. \n  \nInformações: https://www.abs-sp.com.br/turmas/t442/curso-de-formacao-de-sommeliers-e-profissionais-modulo-i \n
URL:https://agendadovinho.com.br/event/curso-de-formacao-de-sommeliers-e-profissionais-modulo-i-3/
LOCATION:ABS São Paulo\, 2 Edifício Olímpia Park\, R. Gomes de Carvalho\, 1327/1329 - Vila Olímpia\, São Paulo\, SP\, 04547-005\, Brasil
CATEGORIES:Curso técnico,SP - São Paulo
ATTACH;FMTTYPE=image/jpeg:https://agendadovinho.com.br/wp-content/uploads/2019/05/sommeliers_030619.jpg
END:VEVENT
BEGIN:VEVENT
DTSTART;TZID=America/Sao_Paulo:20190716T150000
DTEND;TZID=America/Sao_Paulo:20190716T210000
DTSTAMP:20260419T133002
CREATED:20190708T150144Z
LAST-MODIFIED:20190708T150144Z
UID:5204-1563289200-1563310800@agendadovinho.com.br
SUMMARY:Mania de Vinho 2019
DESCRIPTION:Que tal conhecer um dos maiores eventos sobre vinhos de São Paulo\, conhecer tudo sobre o universo dos vinhos\, degustar alguns dos melhores rótulos nacionais e importados\, aproveitar descontos especiais e ainda conhecer pessoas incríveis? \nNa 12ª Edição do Mania de Vinho você poderá fazer tudo isso e muito mais. \nO evento organizado pela Art des Caves tem entrada gratuita e  acontecerá no dia 16 de Julho no Shopping D&D à partir das 15h. Aproveite!! \nNa 12ª edição do Mania de Vinho você vai encontrar: \n\nDiversos rótulos selecionados pela Art des Caves com condições especiais\nDegustação dos melhores vinhos nacionais e importados\nEsclarecimento das principais dúvidas sobre enologia\nAuxílio na escolha da melhor adega para cada ambiente\n\nDurante todo o dia\, as adegas da  Linha Sommelier contarão com uma OFERTA EXCLUSIVA para os participantes do evento!! Inscreva-se e receba todas as informações na sua caixa de e-mail. \n
URL:https://agendadovinho.com.br/event/mania-de-vinho-2019/
LOCATION:Shopping D&D\, Av. das Nações Unidas\, 12555 - Brooklin\, São Paulo\, SP\, 04578-903\, Brasil
CATEGORIES:Degustação,SP - São Paulo
ATTACH;FMTTYPE=image/jpeg:https://agendadovinho.com.br/wp-content/uploads/2019/07/mania-de-vinho_160719.jpg
END:VEVENT
BEGIN:VEVENT
DTSTART;TZID=America/Sao_Paulo:20190716T180000
DTEND;TZID=America/Sao_Paulo:20190716T223000
DTSTAMP:20260419T133002
CREATED:20190710T151841Z
LAST-MODIFIED:20190714T154230Z
UID:5294-1563300000-1563316200@agendadovinho.com.br
SUMMARY:Happy Hour
DESCRIPTION:Venha relaxar após um dia de trabalho em nossa Cave! \nPorção de mini Raclette acompanhada por uma taça de vinho da sua escolha (branco\, tinto ou espumante)\, por apenas R$25\,00. \n
URL:https://agendadovinho.com.br/event/happy-hour-3/
LOCATION:Cave Suíça\, Rua João Ramalho\, 1392\, São Paulo\, SP\, Brasil
CATEGORIES:Outros,SP - São Paulo
ATTACH;FMTTYPE=image/jpeg:https://agendadovinho.com.br/wp-content/uploads/2019/07/happy-hour_090719.jpg
END:VEVENT
BEGIN:VEVENT
DTSTART;TZID=America/Sao_Paulo:20190716T190000
DTEND;TZID=America/Sao_Paulo:20190716T190000
DTSTAMP:20260419T133002
CREATED:20190714T150103Z
LAST-MODIFIED:20190714T150103Z
UID:5441-1563303600-1563303600@agendadovinho.com.br
SUMMARY:Curso de vinho
DESCRIPTION:Você também é do time do vinho? Quer aprender a fazer as melhores escolhas? Conhecer novos rótulos e mergulhar nesse mundo com a gente? Sim\, é isso mesmo! Estamos com vagas abertas para o curso de degustação. São três dias de muita imersão nesse mundo incrível. De 4 a 5 vinhos por aula com petiscos e um prato principal para fechar cada noite. Nosso sommelier @joaorenatosilva está pronto para receber você. Dias 16\, 23 e 30 de julho. Mais informações via direct. Tintin! \n
URL:https://agendadovinho.com.br/event/curso-de-vinho-2/
LOCATION:Ovo e Uva\, R. Mateus Grou\, 286 - Pinheiros\, São Paulo - SP\, 05415-040\, São Paulo\, SP\, 05415-040\, Brasil
CATEGORIES:Curso técnico,SP - São Paulo
ATTACH;FMTTYPE=image/jpeg:https://agendadovinho.com.br/wp-content/uploads/2019/07/curso-de-vinho_160719.jpg
END:VEVENT
BEGIN:VEVENT
DTSTART;TZID=America/Sao_Paulo:20190716T200000
DTEND;TZID=America/Sao_Paulo:20190716T200000
DTSTAMP:20260419T133002
CREATED:20190713T150218Z
LAST-MODIFIED:20190713T150218Z
UID:5431-1563307200-1563307200@agendadovinho.com.br
SUMMARY:Jantar harmonizado com a melhor vinícola de Lisboa
DESCRIPTION:A Adega Alentejana convida para um jantar harmonizado com a melhor vinícola de Lisboa \nA Quinta de Chocapalha\, uma vinícola familiar fundada em 1855\, é um ícone dessa região portuguesa.\nSua enóloga é a prestigiada Sandra Tavares\, tembém responsável pelos vinhos Pintas\, Quinta da Manoella\, Crochet e Tricot. \nInformações e reservas: (11) 5094-5760 \n
URL:https://agendadovinho.com.br/event/jantar-harmonizado-com-a-melhor-vinicola-de-lisboa/
LOCATION:Ráscal Itaim\, R. Leopoldo Couto de Magalhães Júnior\, 831 - Itaim Bibi\, São Paulo - SP\, 04542-011\, São Paulo\, SP\, 04542-011\, Brasil
CATEGORIES:Jantar harmonizado,SP - São Paulo
ATTACH;FMTTYPE=image/png:https://agendadovinho.com.br/wp-content/uploads/2019/07/adega-alentejana_160719.png
END:VEVENT
END:VCALENDAR