BEGIN:VCALENDAR
VERSION:2.0
PRODID:-//Agenda do Vinho - ECPv4.9.0//NONSGML v1.0//EN
CALSCALE:GREGORIAN
METHOD:PUBLISH
X-WR-CALNAME:Agenda do Vinho
X-ORIGINAL-URL:https://agendadovinho.com.br
X-WR-CALDESC:Eventos para Agenda do Vinho
BEGIN:VEVENT
DTSTART;TZID=America/Sao_Paulo:20190713T073000
DTEND;TZID=America/Sao_Paulo:20190713T173000
DTSTAMP:20260419T133218
CREATED:20190603T164431Z
LAST-MODIFIED:20190603T164431Z
UID:4579-1563003000-1563039000@agendadovinho.com.br
SUMMARY:Visita à Cacau Show Megastore e vinícolas de São Roque
DESCRIPTION:O roteiro inclui dois passeios bem legais para quem busca entretenimento\, gastronomia e compras. Pela manhã vamos para a Rota do Vinho em São Roque. Lá\, faremos paradas nas principais adegas\, vinícolas e destilaria. Vamos conhecer a maior loja da Cacau Show\, que fica em Itapevi e teremos degustação de chocolate. Depois\, seguiremos para a Rota do Vinho e da Alcachofra em São Roque. Lá\, faremos paradas nas principais adegas e vinícolas\,. Haverá degustação de vinho\, suco de uva (branca e tinta)\, licor\, cooler\, chopp de vinho\, além de queijos e salames. . Reservas: passeios@passeiosbaratosemsp.com.br ou whatsapp 94562-3015. Parceria Plataforma 28. \nValores à vista:\nR$ 135 por pessoa\nR$ 115 crianças de 5 a 10 anos\nCrianças de até 4 anos de colo não pagam\, desde que viajem no colo da mãe ou do pai \nO que inclui: \n\nTransporte em ônibus executivo\nVisita às vinícolas: Vinícola Góes\, Cangueira e Dom Patto (ou similares)\nDegustação de vinhos de mesa\, sucos\, queijos\, salames e licores nas vinícolas e adegas\nGuia credenciado no Ministério do Turismo\nSeguro viagem\nServiço de bordo \nRoteiro \n\n13 de julho – sábado\n\n7h30 apresentação para embarque – Saída Centro Cultural São Paulo\, rua Vergueiro\, 1000– Metrô Vergueiro\n7h45 saída\n– Estrada do Vinho com vinícolas (degustação de vinhos\, sucos\, frios)\n– Cacau Show\n17h30– Saída para São Paulo\n\n\n\nNúmero mínimo de participantes:\nMínimo de 20 passageiros. Caso não atinja o número mínimo\, o dinheiro já pago será devolvido em até 2 dias antes da viagem. \nPolítica de cancelamento:\nDevolução de 80% de 21 a 30 dias do início da viagem\nDevolução de 50% de 10 a 20 dias do início da viagem\nDevolução de 30% de 5 a 9 dias do início da viagem\nSem devolução a menos de 4 dias do início da viagem\nDe acordo com a deliberação normativa nº161 de 09 de agosto de 1985 da Embratur \n
URL:https://agendadovinho.com.br/event/visita-a-cacau-show-megastore-e-vinicolas-de-sao-roque-2/
LOCATION:Centro Cultural São Paulo\, Rua Vergueiro\, 1000 - Paraíso\, São Paulo\, SP\, 01504-000\, Brasil
CATEGORIES:Outros,SP - São Paulo
ATTACH;FMTTYPE=image/jpeg:https://agendadovinho.com.br/wp-content/uploads/2019/06/cacau-show-e-sao-roque_130719.jpg
END:VEVENT
BEGIN:VEVENT
DTSTART;TZID=America/Sao_Paulo:20190713T080000
DTEND;TZID=America/Sao_Paulo:20190713T183000
DTSTAMP:20260419T133218
CREATED:20190709T145123Z
LAST-MODIFIED:20190709T145123Z
UID:5256-1563004800-1563042600@agendadovinho.com.br
SUMMARY:Sakura-Matsuri: Festival das Cerejeiras e Rota do Vinho em São Roque
DESCRIPTION:O Sakura Matsuri – Festival das Cerejeiras Bunkyos chega a sua 23ª edição e faz parte do calendário turístico de São Roque. Além da florada das cerejeiras\, entre as atrações do evento está a programação de atividades culturais e shows artísticos. Nparte da tarde\, o passeio continua pela Rota do Vinho com visita a duas vinícolas com degustação de vinhos e visita a uma fazenda de alcachofras onde iremos ver a produção e visitar a loja. Parceria Graffit Turismo. \nValor por pessoa : R$ 135 através de depósito ou transferência bancária Itaú \nValor clientes Passeios Baratos em SP: R$ 125 \nInformações \nReservas: passeios@passeiosbaratosemsp.com.br ou whatsapp 94562-3015 \nValor com cartão de crédito ou boleto sem desconto\, clique neste link: \nPara fazer a reserva envie nome completo\, RG\, CPF\, data de nascimento\, e-mail e celular e comprovante de pagamento para passeios@passeiosbaratosemsp.com.br \nInclui: \n\ntransporte fretado (microônibus ou ônibus executivo)\nguia de turismo credenciado\nkit-lanche\nvisita às vinícolas e fazenda com degustação de vinhos\, sucos\, produtos artesanais\ntempo livre no festival das cerejeiras\n\nNão inclui: refeição\, despesas pessoais e estacionamento \nRoteiro \n13 de julho sábado \nPonto de encontro: Centro Cultural São Paulo\, rua Vergueiro\, 1000\, próximo da estação Vergueiro – linha azul \nHorário: 8h30 (pedimos para chegar às 8h para embarque) \nRetorno:17h00 \nPrevisão de chegada: 18h30 \nOBSERVAÇÃO: SUJEITO A FORMAÇÃO DE GRUPO \nO passeio só sairá com 22 pessoas. Caso não atinja o número\, faremos o reembolso integral 3 dias antes do passeio ou o participante pode trocar de passeio caso preferir. \nCANCELAMENTO/ DESISTÊNCIA \nO valor em percentual a ser restituído será de acordo com a deliberação normativa nº 161 de 09 de Agosto de 1985\, da Embratur: \n– 90% até 31 dias do início da viagem;\n– 80% de 21 a 30 dias do início da viagem;\n– 0% a menos de 20 dias do início da viagem. \nNa impossibilidade do embarque por falta de documentação adequada ou atrasos referentes aos horários estipulados será considerada desistência e nos isenta de quaisquer reembolsos dos valores pagos.\n**os horários podem ser alterados conforme a necessidade dos clientes e condições climáticas identificadas pelo guia durante a execução do roteiro. \n
URL:https://agendadovinho.com.br/event/sakura-matsuri-festival-das-cerejeiras-e-rota-do-vinho-em-sao-roque/
LOCATION:Centro Cultural São Paulo\, Rua Vergueiro\, 1000 - Paraíso\, São Paulo\, SP\, 01504-000\, Brasil
CATEGORIES:Outros,SP - São Paulo
ATTACH;FMTTYPE=image/jpeg:https://agendadovinho.com.br/wp-content/uploads/2019/07/rota-do-vinho_130719.jpg
END:VEVENT
BEGIN:VEVENT
DTSTART;TZID=America/Sao_Paulo:20190713T120000
DTEND;TZID=America/Sao_Paulo:20190713T160000
DTSTAMP:20260419T133218
CREATED:20190711T184819Z
LAST-MODIFIED:20190711T184819Z
UID:5334-1563019200-1563033600@agendadovinho.com.br
SUMMARY:Degustação - Sábado
DESCRIPTION:Venha degustar com a gente 1 taça de vinho por nossa conta neste sábado\, dia 13/07! 🍷Tenha um final de semana diferente\, apreciando um bom vinho e conversando com nossos sommeliers sobre cada rótulo! 😉Estamos na Vila Olímpia\, na Rua Lourenço Marques\, 59 | Degustação das 12h às 16h. ⠀\nCombine com seus amigos que precisam curtir esse momento especial com você ❤ \n
URL:https://agendadovinho.com.br/event/degustacao-sabado/
LOCATION:Wine Brasil\, Rua Lourenço Marques\, 59 - Vila Olímpia\, São Paulo\, SP\, 04547-100\, Brasil
CATEGORIES:Degustação,SP - São Paulo
ATTACH;FMTTYPE=image/jpeg:https://agendadovinho.com.br/wp-content/uploads/2019/07/degustacao_130719.jpg
END:VEVENT
BEGIN:VEVENT
DTSTART;TZID=America/Sao_Paulo:20190713T150000
DTEND;TZID=America/Sao_Paulo:20190713T170000
DTSTAMP:20260419T133218
CREATED:20190708T151711Z
LAST-MODIFIED:20190708T151711Z
UID:5221-1563030000-1563037200@agendadovinho.com.br
SUMMARY:Evento de Lançamento do Vinho na Vila no JazzNosFundos
DESCRIPTION:Foi dada a largada para o Vinho na Vila 2019 em São Paulo 🍷\nTudo começa com o lançamento do circuito no JazzNosFundos\, em um ambiente impregnado de arte e música os visitantes terão uma “degustação” do que vai rolar esse ano em cada cidade. \nSerão poucos expositores\, mas já vai dar para se ter uma ideia do que estamos preparando: uma experiência inesquecível para degustar o vinho da sua vida.\nVem com a gente! 12 vinícolas confirmadas\, show de jazz e um talk descontraído com um sommelier. Serão duas sessões. Garanta seu ingresso! \nO evento de lançamento funcionará como um petit Vinho na Vila\, onde as pessoas poderão degustar\, em duas sessões às 15h e as 17h\, com 12 vinícolas participantes\, embutidos e queijos\, show de jazz com o Bina Coquet Trio e um talk descontraído com um sommelier. Cada sessão custará R$ 90\,00 \nO evento\, que nasceu há três anos para impulsionar o mercado produtor brasileiro de vinhos\, cresceu\, ganhou reconhecimento\, elevou o status do produto nacional e mostrou para as pessoas que evento de vinhos não é um programa para um público fechado. “Quando comecei a fazer o Vinho na Vila\, o vinho brasileiro não era protagonista de nenhum evento. Isso obviamente me deixava muito angustiada\, já que conhecia de perto tanto a produção nacional quanto a do exterior e sempre soube que não ficávamos devendo em nada. O problema era mesmo o preconceito”. diz\, Larissa. Hoje a empresária sabe que inspirou outros eventos do segmento e isso a enche de orgulho. \nDurante o evento de lançamento\, a idealizadora do Vinho na Vila\, Larissa Fin\, apresentará as novidades para a edição\, que contará com vinícolas\, queijarias\, fabricantes de gim\, palestrantes e outras atrações. Além dos já confirmados 200 rótulos de vinhos nacionais\, em sua maioria premiados. \nSERVIÇO: \nPreview Vinho na Vila – JazzNosFundos \nQuando: 13 de julho \nSessões: Das 15h às 17h e 17h as 19h \nPreço por sessão: R$ 90\,00 por pessoa – ingressos no local \nRua Cardeal Arcoverde\, 742 – Pinheiros \nwww.vinhonavila.com.br \nwww.jazznosfundos.net \n
URL:https://agendadovinho.com.br/event/evento-de-lancamento-do-vinho-na-vila-no-jazznosfundos/
LOCATION:JazzNosFundos\, Rua Cardeal Arcoverde\, 742 - Pinheiros\, São Paulo\, SP\, 05412-002\, Brasil
CATEGORIES:Degustação,SP - São Paulo
ATTACH;FMTTYPE=image/jpeg:https://agendadovinho.com.br/wp-content/uploads/2019/07/lancamento-vinho-na-vila_130719.jpeg
END:VEVENT
BEGIN:VEVENT
DTSTART;TZID=America/Sao_Paulo:20190713T170000
DTEND;TZID=America/Sao_Paulo:20190713T190000
DTSTAMP:20260419T133218
CREATED:20190708T151822Z
LAST-MODIFIED:20190708T151822Z
UID:5224-1563037200-1563044400@agendadovinho.com.br
SUMMARY:Evento de Lançamento do Vinho na Vila no JazzNosFundos
DESCRIPTION:Foi dada a largada para o Vinho na Vila 2019 em São Paulo 🍷\nTudo começa com o lançamento do circuito no JazzNosFundos\, em um ambiente impregnado de arte e música os visitantes terão uma “degustação” do que vai rolar esse ano em cada cidade. \nSerão poucos expositores\, mas já vai dar para se ter uma ideia do que estamos preparando: uma experiência inesquecível para degustar o vinho da sua vida.\nVem com a gente! 12 vinícolas confirmadas\, show de jazz e um talk descontraído com um sommelier. Serão duas sessões. Garanta seu ingresso! \nO evento de lançamento funcionará como um petit Vinho na Vila\, onde as pessoas poderão degustar\, em duas sessões às 15h e as 17h\, com 12 vinícolas participantes\, embutidos e queijos\, show de jazz com o Bina Coquet Trio e um talk descontraído com um sommelier. Cada sessão custará R$ 90\,00 \nO evento\, que nasceu há três anos para impulsionar o mercado produtor brasileiro de vinhos\, cresceu\, ganhou reconhecimento\, elevou o status do produto nacional e mostrou para as pessoas que evento de vinhos não é um programa para um público fechado. “Quando comecei a fazer o Vinho na Vila\, o vinho brasileiro não era protagonista de nenhum evento. Isso obviamente me deixava muito angustiada\, já que conhecia de perto tanto a produção nacional quanto a do exterior e sempre soube que não ficávamos devendo em nada. O problema era mesmo o preconceito”. diz\, Larissa. Hoje a empresária sabe que inspirou outros eventos do segmento e isso a enche de orgulho. \nDurante o evento de lançamento\, a idealizadora do Vinho na Vila\, Larissa Fin\, apresentará as novidades para a edição\, que contará com vinícolas\, queijarias\, fabricantes de gim\, palestrantes e outras atrações. Além dos já confirmados 200 rótulos de vinhos nacionais\, em sua maioria premiados. \nSERVIÇO: \nPreview Vinho na Vila – JazzNosFundos \nQuando: 13 de julho \nSessões: Das 15h às 17h e 17h as 19h \nPreço por sessão: R$ 90\,00 por pessoa – ingressos no local \nRua Cardeal Arcoverde\, 742 – Pinheiros \nwww.vinhonavila.com.br \nwww.jazznosfundos.net \n
URL:https://agendadovinho.com.br/event/evento-de-lancamento-do-vinho-na-vila-no-jazznosfundos-2/
LOCATION:JazzNosFundos\, Rua Cardeal Arcoverde\, 742 - Pinheiros\, São Paulo\, SP\, 05412-002\, Brasil
CATEGORIES:Degustação,SP - São Paulo
ATTACH;FMTTYPE=image/jpeg:https://agendadovinho.com.br/wp-content/uploads/2019/07/lancamento-vinho-na-vila_130719.jpeg
END:VEVENT
BEGIN:VEVENT
DTSTART;TZID=America/Sao_Paulo:20190713T200000
DTEND;TZID=America/Sao_Paulo:20190713T235900
DTSTAMP:20260419T133218
CREATED:20190708T145218Z
LAST-MODIFIED:20190708T145218Z
UID:5187-1563048000-1563062340@agendadovinho.com.br
SUMMARY:3º Encontrão Viajeinovinho
DESCRIPTION:ESTÁ CHEGANDO! DIA 13/07/19 SÁBADO 20Hs 3ºENCONTRÃO DA CONFRARIA NACIONAL VIAJEINOVINHO\, VAMOS COMEMORAR UM ANO DO PRIMEIRO ENCONTRÃO\, DEGUSTAÇÃO DE VINHOS\, COMIDINHAS\, QUEIJOS\, JAMÓN ESPANHOL\, MÚSICA DJ VINIL E MUITA DIVERSÃO\, AINDA TEREMOS MUITAS SURPRESAS\, VEM VIAJAR NO VINHO ✈️🍷 \n
URL:https://agendadovinho.com.br/event/3o-encontrao-viajeinovinho/
LOCATION:Le Boccato Multiespaço\, Rua Diogo Jácome\, 554 Vila Nova Conceição\, São Paulo\, SP\, Brasil
CATEGORIES:Degustação,SP - São Paulo
ATTACH;FMTTYPE=image/jpeg:https://agendadovinho.com.br/wp-content/uploads/2019/07/46760A96-B8FC-4C14-B78F-B13585053D7E.jpeg
END:VEVENT
BEGIN:VEVENT
DTSTART;TZID=America/Sao_Paulo:20190713T200000
DTEND;TZID=America/Sao_Paulo:20190713T230000
DTSTAMP:20260419T133218
CREATED:20190708T151214Z
LAST-MODIFIED:20190708T151214Z
UID:5217-1563048000-1563058800@agendadovinho.com.br
SUMMARY:Masterclass de vinhos austríacos
DESCRIPTION:Venha ter uma experiência diferente com os vinhos austríacos harmonizados com iguarias típicas. Rótulos exclusivos a partir da principal uva do país\, Grüner Veltliner\, e outros rótulos de diferentes uvas. \n*Vinho Branco Wilhelm Brundlmayer (Grüner Veltliner) 2016   harmonizado com Ceviche de Salmão \nVinho Tinto Una (Blaufrankish) 2017      harmonizado com Bresaola – presunto feito de carne bovina típico da Suíça \n*Vinho Branco Una (Riesling)  2018       harmonizado com queijo de Cabra \n*Vinho Branco Kracher (Blend) 2016    harmonizado com ceviche de peixe branco \n*Vinho Branco Hieldler (Grüner Veltliner) 2017 \nIngressos: R$70\,00 por pessoa  | 30ml por vinho \nNão se atrase para não perder nenhum momento dessa viagem ao mundo do vinho. \n
URL:https://agendadovinho.com.br/event/masterclass-de-vinhos-austriacos/
LOCATION:Cave Suíça\, Rua João Ramalho\, 1392\, São Paulo\, SP\, Brasil
CATEGORIES:Degustação,SP - São Paulo
ATTACH;FMTTYPE=image/jpeg:https://agendadovinho.com.br/wp-content/uploads/2019/07/vinhos-austriacos_130719.jpg
END:VEVENT
END:VCALENDAR