BEGIN:VCALENDAR
VERSION:2.0
PRODID:-//Agenda do Vinho - ECPv4.9.0//NONSGML v1.0//EN
CALSCALE:GREGORIAN
METHOD:PUBLISH
X-WR-CALNAME:Agenda do Vinho
X-ORIGINAL-URL:https://agendadovinho.com.br
X-WR-CALDESC:Eventos para Agenda do Vinho
BEGIN:VEVENT
DTSTART;TZID=America/Sao_Paulo:20190629T120000
DTEND;TZID=America/Sao_Paulo:20190629T220000
DTSTAMP:20260419T145050
CREATED:20190506T155745Z
LAST-MODIFIED:20190531T181143Z
UID:3262-1561809600-1561845600@agendadovinho.com.br
SUMMARY:Wine Weekend
DESCRIPTION:WINE WEEKEND SÃO PAULO FESTIVAL 2019 \nSua experiência no mundo do vinho! \nNa sua décima edição\, o WINE WEEKEND São Paulo Festival será realizado em 2019 \, de 27 a 30 de junho \, no Prédio da Bienal\, Parque Ibirapuera\, no coração de São Paulo. \nQuem gosta e aprecia um bom vinho\, já sabe que o vinho é a mais culta entre todas as bebidas adultas\, pois congrega\, une pessoas\, contagia\, encanta. \nO Vinho traz na sua garrafa muito mais do que uma bebida\, traz cultura\, elegância e glamour. \nO Wine Weekend São Paulo Festival é isso: um espaço onde o vinho é apresentado de forma unificada. Além de conhecer os melhores vinhos à disposição do consumidor brasileiro\, o visitante do evento vai poder participar de palestras\, exposições de arte\, musica ao vivo\, jantares temáticos\, oficinas e workshops\, tudo voltado ao tema vinho. \nVenha\, conheça e deguste! Venha viver a real experiência do mundo do vinho! \nPara visitar os estandes e várias atrações\, o visitante deverá adquirir um Ingresso Individual e Diário. \nIngresso Diário Individual: \nAté 30/12/2018 – R$65\,00 \n1/01/2019 a 28/02/2019 – R$75\,00 \n1/3/2019 a 30/05/2019 – R$80\,00 \nNa bilheteria – R$95\,00 \n  \n– Com direito a uma taça de degustação\, a ser retirada no local \n– Visita aos estandes no dia determinado no Ingresso \n– Visita às exposições e oficinas \n– De quinta a sábado das 12:00 às 22:00 \n– Domingo das 12:00 às 20:00 \n
URL:https://agendadovinho.com.br/event/wine-weekend-3/
LOCATION:Pavilhão da Bienal\, Vila Mariana\, São Paulo - SP\, 04094-050\, São Paulo\, SP\, 04094-050\, Brasil
CATEGORIES:Degustação,SP - São Paulo
ATTACH;FMTTYPE=image/jpeg:https://agendadovinho.com.br/wp-content/uploads/2019/05/wine-weekend_270619.jpeg
END:VEVENT
BEGIN:VEVENT
DTSTART;TZID=America/Sao_Paulo:20190629T130000
DTEND;TZID=America/Sao_Paulo:20190629T190000
DTSTAMP:20260419T145050
CREATED:20190505T114421Z
LAST-MODIFIED:20190531T181137Z
UID:3142-1561813200-1561834800@agendadovinho.com.br
SUMMARY:Feira Naturebas
DESCRIPTION:Sobre este evento \nNaturais\, orgânicos\, biodinâmicos & criados soltos. \nA Feira Naturebas está em sua sétima edição. \nÉ a primeira – e ainda única – feira do Brasil especializada em vinhos naturais\, orgânicos e biodinâmicos\, pouco a pouco se tornando a principal referência sobre o tema na América Latina. Nós começamos com 100 pessoas e 20 expositores lá em 2013. Hoje a feira cresceu e temos mais de 1500 visitantes e 100 expositores. Além dos vinhos\, contamos também com a presença de produtores artesanais ligados à alimentação\, cultura\, agroecologia e sustentabilidade. \nPara quem não sabe\, a Feira Naturebas é um evento sem fins lucrativos. A idéia é aproximar você de quem produz ou de quem importa\, sem intermediários. Não cobramos absolutamente nada dos expositores\, nem ficamos com porcentagem nas vendas – todo o lucro das negociações diretas entre o consumidor e o produtor fica com o produtor. \nOs ingressos? Sim\, toda a grana arrecadada dos ingressos é revertida para bancar a própria estrutura do evento: aluguel do espaço\, mesas\, taças\, comida\, estadia dos produtores\, som\, material gráfico\, e por aí vai. Os idealizadores não recebem pelo trampo\, e o trabalho braçal no dia parte é voluntário\, parte contratado. \nQuando e onde? \nDias 29 e 30 de Junho\, das 13h às 19h\, na Casa das Caldeiras. \nAv. Francisco Matarazzo\, 2000 \, Água Branca\, São Paulo – SP \nClassificação Etária: \n18+ \nMenores de 18 anos só terão sua entrada permitida caso acompanhados pelos pais ou responsável legal. \n
URL:https://agendadovinho.com.br/event/feira-naturebas/
LOCATION:Casa das Caldeiras\, Av. Francisco Matarazzo\, 2000 - Água Branca\, São Paulo\, SP\, 05001-200\, Brasil
CATEGORIES:Degustação,SP - São Paulo
ATTACH;FMTTYPE=image/jpeg:https://agendadovinho.com.br/wp-content/uploads/2019/05/naturebas_290619.jpg
END:VEVENT
BEGIN:VEVENT
DTSTART;TZID=America/Sao_Paulo:20190629T150000
DTEND;TZID=America/Sao_Paulo:20190629T180000
DTSTAMP:20260419T145050
CREATED:20190614T214936Z
LAST-MODIFIED:20190614T214936Z
UID:4916-1561820400-1561831200@agendadovinho.com.br
SUMMARY:Master Class do Chile: Terroir Hunter no Museu do Vinho de São Paulo.
DESCRIPTION:Degustação de 5 rótulos do projeto chileno Terroir Hunter. Master Class ministrado por Eduardo Paes. \nOs vinhos são: \nTH Sauvignon Blanc 2017\nTH Chardonnay 2015\nTH Pinot Noir 2016\nTH Cabernet Sauvignon 2016\nTH Carignan 2015 \nIngressos acesse:\nhttp://bit.ly/TERROIRHUNTER \n
URL:https://agendadovinho.com.br/event/master-class-do-chile-terroir-hunter-no-museu-do-vinho-de-sao-paulo/
LOCATION:Espaço Museu do Vinho de São Paulo\, Rua Minas Gerais\, 246\, São Paulo\, SP\, Brasil
CATEGORIES:Degustação,SP - São Paulo
ATTACH;FMTTYPE=image/jpeg:https://agendadovinho.com.br/wp-content/uploads/2019/06/IMG_20190614_130034_600.jpg
END:VEVENT
END:VCALENDAR