BEGIN:VCALENDAR
VERSION:2.0
PRODID:-//Agenda do Vinho - ECPv4.9.0//NONSGML v1.0//EN
CALSCALE:GREGORIAN
METHOD:PUBLISH
X-WR-CALNAME:Agenda do Vinho
X-ORIGINAL-URL:https://agendadovinho.com.br
X-WR-CALDESC:Eventos para Agenda do Vinho
BEGIN:VEVENT
DTSTART;TZID=America/Sao_Paulo:20190614T150000
DTEND;TZID=America/Sao_Paulo:20190614T200000
DTSTAMP:20260419T145352
CREATED:20190603T163845Z
LAST-MODIFIED:20190603T163845Z
UID:4577-1560524400-1560542400@agendadovinho.com.br
SUMMARY:Feira de Vinhos - Evento Pago
DESCRIPTION:Feira de Vinhos na Adega \nNas compras acima de R$ 50\,00 na loja\, ganhe um ingresso para participar da degustação de rótulos renomados e premiados. \n– Entrada para maiores de 18 anos; \n– Será valido para quem comprar no dia do evento\, 14/06\, na loja física da Adega. localizada na Rua Augusta\, 2710 – SP; \n– A inscrição no site não garante a entrada\, apenas para marcação do numero de clientes que comparecerão no dia; \n– Só será permitida a entrada com a pulseira\, entregue após a confirmação da compra\, acima de R$ 50\,00. \n
URL:https://agendadovinho.com.br/event/feira-de-vinhos-evento-pago/
LOCATION:Pão de Açúcar Adega\, Rua Augusta\, 2710\, São Paulo\, SP\, Brasil
CATEGORIES:Degustação,SP - São Paulo
ATTACH;FMTTYPE=image/jpeg:https://agendadovinho.com.br/wp-content/uploads/2019/04/pao-de-acucar-adega-e1556067472626.jpg
END:VEVENT
BEGIN:VEVENT
DTSTART;TZID=America/Sao_Paulo:20190614T200000
DTEND;TZID=America/Sao_Paulo:20190614T230000
DTSTAMP:20260419T145352
CREATED:20190531T141633Z
LAST-MODIFIED:20190531T180530Z
UID:4380-1560542400-1560553200@agendadovinho.com.br
SUMMARY:Masterclass Bordeaux
DESCRIPTION:A Sommelière Luciana Mota em parceria com MWEBER Eventos apresentam: \nMaster Class de vinhos de Bordeaux (Sexta-feira 14/06) \nVenha participar de nossa segunda Master Class sobre essa famosa região da França. 6 rótulos de vinhos da região serão harmonizado com queijos e charcutaria: \n*Château Barrail Meyney AOC Bordeaux 2016. (Merlot) \n*Château Bidonnet Laffitte AOC Bordeaux 2016 (Merlot) \n*Château Franc AOC Saint-Emilion Grand Cru 2014 (Merlot) \n*Le Haut Médoc de Giscours AOC Haut Médoc 2014 (Merlot) \n*Château Le Doyenné AOC Côtes de Bordeaux 2012 (Merlot) \n*Château du Taillan AOC Haut Médoc 2012. (Merlot) \n
URL:https://agendadovinho.com.br/event/masterclass-bordeaux-2/
LOCATION:Cave Suíça\, Rua João Ramalho\, 1392\, São Paulo\, SP\, Brasil
CATEGORIES:Degustação,SP - São Paulo
ATTACH;FMTTYPE=image/jpeg:https://agendadovinho.com.br/wp-content/uploads/2019/05/masterclass-bordeaux_140619.jpg
END:VEVENT
END:VCALENDAR