BEGIN:VCALENDAR
VERSION:2.0
PRODID:-//Agenda do Vinho - ECPv4.9.0//NONSGML v1.0//EN
CALSCALE:GREGORIAN
METHOD:PUBLISH
X-WR-CALNAME:Agenda do Vinho
X-ORIGINAL-URL:https://agendadovinho.com.br
X-WR-CALDESC:Eventos para Agenda do Vinho
BEGIN:VEVENT
DTSTART;TZID=America/Sao_Paulo:20190611T170000
DTEND;TZID=America/Sao_Paulo:20190611T210000
DTSTAMP:20260419T145537
CREATED:20190516T143901Z
LAST-MODIFIED:20190531T181310Z
UID:3787-1560272400-1560286800@agendadovinho.com.br
SUMMARY:28° Festival de Vinho
DESCRIPTION:raga o seu amor para degustar vinhos incríveis no nosso 28° Festival de Vinho. Será no dia 11 de junho\, o valor do convite é de R$100\,00 e poderá ser utilizado como desconto em suas compras no Empório no dia do evento ou em até 30 dias após a degustação. \nEndereço: Empório Mercantil – Rua dos Pinheiros\, 1.174 – Horário: Das 17h as 21h \n
URL:https://agendadovinho.com.br/event/28-festival-de-vinho/
LOCATION:Empório Mercantil\, Rua dos Pinheiros\, 1174\, São Paulo\, SP\, Brasil
CATEGORIES:Degustação,SP - São Paulo
ATTACH;FMTTYPE=image/jpeg:https://agendadovinho.com.br/wp-content/uploads/2019/05/festival-do-vinho_110619.jpg
END:VEVENT
BEGIN:VEVENT
DTSTART;TZID=America/Sao_Paulo:20190611T190000
DTEND;TZID=America/Sao_Paulo:20190611T210000
DTSTAMP:20260419T145537
CREATED:20190522T154950Z
LAST-MODIFIED:20190531T180543Z
UID:3962-1560279600-1560286800@agendadovinho.com.br
SUMMARY:Vinhos Robert Mondavi
DESCRIPTION:Robert Mondavi é o maior símbolo da viticultura americana\, sempre acreditou que poderia produzir vinhos dos mais altos padrões de qualidade e unir os métodos tradicionais Europeus e a tecnológica americana\, com isso se tornou um dos maior do Mundo na categoria. \n
URL:https://agendadovinho.com.br/event/vinhos-robert-mondavi/
LOCATION:Pão de Açúcar Adega\, Rua Augusta\, 2710\, São Paulo\, SP\, Brasil
CATEGORIES:Degustação,SP - São Paulo
ATTACH;FMTTYPE=image/jpeg:https://agendadovinho.com.br/wp-content/uploads/2019/04/pao-de-acucar-adega-e1556067472626.jpg
END:VEVENT
BEGIN:VEVENT
DTSTART;TZID=America/Sao_Paulo:20190611T190000
DTEND;TZID=America/Sao_Paulo:20190611T213000
DTSTAMP:20260419T145537
CREATED:20190530T232314Z
LAST-MODIFIED:20190530T232314Z
UID:4350-1560279600-1560288600@agendadovinho.com.br
SUMMARY:Workshop: Jura
DESCRIPTION:No centro-leste da França\, entre a Borgonha e a Suíça\, a região de Jura é terra da “mãe de todas as uvas” Savagnin\, de Chardonnay\, além das tintas Poulsard\, Trousseau e Pinot Noir! Região cativante também por estilos peculiares de vinificação. Nossa degustação envolverá vinhos das principais apelações de Jura\, explorando também os diferentes estilos. \n
URL:https://agendadovinho.com.br/event/workshop-jura/
LOCATION:Enocultura – São Paulo\, Alameda Lorena\, 150 - Jardim Paulista\, São Paulo\, SP\, 01424-000\, Brasil
CATEGORIES:Curso técnico,SP - São Paulo
ATTACH;FMTTYPE=image/jpeg:https://agendadovinho.com.br/wp-content/uploads/2019/05/jura_110619.jpg
END:VEVENT
BEGIN:VEVENT
DTSTART;TZID=America/Sao_Paulo:20190611T200000
DTEND;TZID=America/Sao_Paulo:20190611T200000
DTSTAMP:20260419T145537
CREATED:20190525T142348Z
LAST-MODIFIED:20190525T142348Z
UID:4120-1560283200-1560283200@agendadovinho.com.br
SUMMARY:Prove Portugal - Dalton Rangel\, Do Coz\, Recebe Marco Gomes
DESCRIPTION:DALTON RANGEL\, DO COZ\, RECEBE MARCO GOMES\nMENU ESPECIAL DA REGIÃO DA MADEIRA\n20H00 COZ\nEntrada\nBrasil: Crudo di carni (tartar de kobe temperado c/dijon\, molho inglês\, alcaparras\, azeite e maldon)\nPortugal: O pão de caco\, o tomate\, o ovo e os oregãos \nPrato principal\nBrasil: Pulpo (polvo grelhado servido com espuma de batata\, papada de cerdo\, farofa de panko\, chips longo de batata doce roxa e brotos para decorar)\nPortugal: A vitela\, o louro\, os milhos e a batata doce \nSobremesa\nBrasil: Mousse de chocolate branco\, crocante de castanhas\, macarron e frutas\nPortugal: O maracujá\, a banana e o chocolate \nIngressos à venda no restaurante Valor harmonizado: R$ 250\,00 + 12% (opcional) Valor não harmonizado: R$ 170\,00 + 12% (opcional) \n*Harmonização feita pela importadora Qualimpor \n
URL:https://agendadovinho.com.br/event/prove-portugal-dalton-rangel-do-coz-recebe-marco-gomes/
LOCATION:Coz Restaurante\, R. Pedroso Alvarenga\, 554 - Itaim Bibi\, São Paulo\, SP\, 04531-010\, Brasil
CATEGORIES:Jantar harmonizado,SP - São Paulo
ATTACH;FMTTYPE=image/png:https://agendadovinho.com.br/wp-content/uploads/2019/05/prove-portugal_040619.png
END:VEVENT
BEGIN:VEVENT
DTSTART;TZID=America/Sao_Paulo:20190611T200000
DTEND;TZID=America/Sao_Paulo:20190611T200000
DTSTAMP:20260419T145537
CREATED:20190604T160917Z
LAST-MODIFIED:20190604T160917Z
UID:4640-1560283200-1560283200@agendadovinho.com.br
SUMMARY:Confraria
DESCRIPTION:Um evento delicioso e uma experiência única!! \n✅ Harry’s Bar e Restaurante\n📞 (11) 3141-4406\n🌐 www.harrysrestaurante.com.br \n
URL:https://agendadovinho.com.br/event/confraria/
LOCATION:Harry’s Bar e Restaurante\, R. Luís Coelho\, 80 - Térreo - Consolação\, São Paulo\, SP\, 01309-000\, Brasil
CATEGORIES:Degustação,SP - São Paulo
ATTACH;FMTTYPE=image/jpeg:https://agendadovinho.com.br/wp-content/uploads/2019/06/confraria_110619.jpg
END:VEVENT
BEGIN:VEVENT
DTSTART;TZID=America/Sao_Paulo:20190611T200000
DTEND;TZID=America/Sao_Paulo:20190611T200000
DTSTAMP:20260419T145537
CREATED:20190605T153721Z
LAST-MODIFIED:20190605T153721Z
UID:4705-1560283200-1560283200@agendadovinho.com.br
SUMMARY:Wine Dinner Castelo Banfi
DESCRIPTION:Viva uma experiência única na companhia de Castello Banfi (@castellobanfi_ilborgo) durante um jantar especial em comemoração ao dia dos namorados💕\ne harmonizado com os vinhos dessa renomada vinícola Italiana! O evento contará com a presença especial de Phillippe Marconi\, diretor da marca.\nNão perca! 🇮🇹🍷💞\n⠀\n11.06 às 20h \n📍Rua Jacques Felix\, 626 A\nR$250\,00 por pessoa + taxas\n👇🏼 Reservas👇🏼\nRSVP: 55 11 2774-1710 | Reservas sujeitas a disponibilidade. \n
URL:https://agendadovinho.com.br/event/wine-dinner-castelo-banfi/
LOCATION:Enosteria\, Rua Jacques Felix\, 626 A | Vila Nova Conceição\, São Paulo\, SP\, Brasil
CATEGORIES:Jantar harmonizado,SP - São Paulo
ATTACH;FMTTYPE=image/jpeg:https://agendadovinho.com.br/wp-content/uploads/2019/06/wine-dinner-castelo-banfi_110619.jpg
END:VEVENT
END:VCALENDAR