BEGIN:VCALENDAR
VERSION:2.0
PRODID:-//Agenda do Vinho - ECPv4.9.0//NONSGML v1.0//EN
CALSCALE:GREGORIAN
METHOD:PUBLISH
X-WR-CALNAME:Agenda do Vinho
X-ORIGINAL-URL:https://agendadovinho.com.br
X-WR-CALDESC:Eventos para Agenda do Vinho
BEGIN:VEVENT
DTSTART;TZID=America/Sao_Paulo:20190608T120000
DTEND;TZID=America/Sao_Paulo:20190608T223000
DTSTAMP:20260419T145121
CREATED:20190428T171431Z
LAST-MODIFIED:20190531T181343Z
UID:2777-1559995200-1560033000@agendadovinho.com.br
SUMMARY:Vinhos de Portugal - Salão de Degustação
DESCRIPTION:Sessão 12:00h-14:00h \nSessão 15:30h-17:30h \nSessão 18:00h-20:00h \nSessão 20:30h-22:30h \n
URL:https://agendadovinho.com.br/event/vinhos-de-portugal-2/
LOCATION:JK Iguatemi\, Av. Pres. Juscelino Kubitschek\, 2041 - Vila Olímpia\, São Paulo - SP\, 04543-011\, São Paulo\, SP\, 04543-011\, Brasil
CATEGORIES:Degustação,SP - São Paulo
ATTACH;FMTTYPE=image/jpeg:https://agendadovinho.com.br/wp-content/uploads/2019/04/vinhos-de-portugal_070619.jpeg
END:VEVENT
BEGIN:VEVENT
DTSTART;TZID=America/Sao_Paulo:20190608T120000
DTEND;TZID=America/Sao_Paulo:20190608T130000
DTSTAMP:20260419T145121
CREATED:20190513T142401Z
LAST-MODIFIED:20190531T180601Z
UID:3643-1559995200-1559998800@agendadovinho.com.br
SUMMARY:Vinhos de Portugal - Provas Especiais - A batalha para descobrir a região dos melhores brancos de Portugal
DESCRIPTION:
URL:https://agendadovinho.com.br/event/vinhos-de-portugal-provas-especiais-a-batalha-para-descobrir-a-regiao-dos-melhores-brancos-de-portugal/
LOCATION:JK Iguatemi\, Av. Pres. Juscelino Kubitschek\, 2041 - Vila Olímpia\, São Paulo - SP\, 04543-011\, São Paulo\, SP\, 04543-011\, Brasil
CATEGORIES:Degustação,SP - São Paulo
ATTACH;FMTTYPE=image/jpeg:https://agendadovinho.com.br/wp-content/uploads/2019/04/vinhos-de-portugal_070619.jpeg
END:VEVENT
BEGIN:VEVENT
DTSTART;TZID=America/Sao_Paulo:20190608T120000
DTEND;TZID=America/Sao_Paulo:20190608T120000
DTSTAMP:20260419T145121
CREATED:20190603T183519Z
LAST-MODIFIED:20190603T183519Z
UID:4601-1559995200-1559995200@agendadovinho.com.br
SUMMARY:Degustação de vinhos argentinos
DESCRIPTION:Evento de degustação de 2 vinhos premiados da vinícola Fabre Montmayou\, de Mendonza. Apresentação guiada por um sommelier experiente e inclui harmonização com outros produtos do Emporio Sabor e Cia. \nDia 8/6 às 12hs. R$20\,00 por pessoa. – evento de grupo fechado e normalmente dura 1h. \nEmporio Sabor e Cia \nRua Capote Valente\, 386 – Pinheiros \n
URL:https://agendadovinho.com.br/event/degustacao-de-vinhos-argentinos/
LOCATION:Empório Sabor e Cia\, R. Capote Valente\, 386 - Pinheiros\, São Paulo\, SP\, 05409-001\, Brasil
CATEGORIES:Degustação,SP - São Paulo
ATTACH;FMTTYPE=image/jpeg:https://agendadovinho.com.br/wp-content/uploads/2019/06/vinhos-argentinos_080619.jpg
END:VEVENT
BEGIN:VEVENT
DTSTART;TZID=America/Sao_Paulo:20190608T140000
DTEND;TZID=America/Sao_Paulo:20190608T150000
DTSTAMP:20260419T145121
CREATED:20190513T142944Z
LAST-MODIFIED:20190513T142944Z
UID:3651-1560002400-1560006000@agendadovinho.com.br
SUMMARY:Vinhos de Portugal - Provas\, Cursos e Harmonizações - Vinhos inesquecíveis do Alentejo
DESCRIPTION:
URL:https://agendadovinho.com.br/event/vinhos-de-portugal-provas-cursos-e-harmonizacoes-vinhos-inesqueciveis-do-alentejo-2/
LOCATION:JK Iguatemi\, Av. Pres. Juscelino Kubitschek\, 2041 - Vila Olímpia\, São Paulo - SP\, 04543-011\, São Paulo\, SP\, 04543-011\, Brasil
CATEGORIES:Curso técnico,SP - São Paulo
ATTACH;FMTTYPE=image/jpeg:https://agendadovinho.com.br/wp-content/uploads/2019/04/vinhos-de-portugal_070619.jpeg
END:VEVENT
BEGIN:VEVENT
DTSTART;TZID=America/Sao_Paulo:20190608T140000
DTEND;TZID=America/Sao_Paulo:20190608T200000
DTSTAMP:20260419T145121
CREATED:20190605T152109Z
LAST-MODIFIED:20190605T152109Z
UID:4693-1560002400-1560024000@agendadovinho.com.br
SUMMARY:WINE DAY IHF
DESCRIPTION:Está chegando o 4° WINE DAY IHF beneficente \nMais de 20 tipos de vinhos em degustação e vários brindes sorteados!\n50% do valor da venda dos convites será destinado ao Instituto Herdeiros do Futuro\nSerá sábado\, 08/06 a partir das 14h as 20h na nossa Adega – Rua Pelotas\, 299 – Vila Mariana\nIngressos limitados\, garanta o seu (11) 94247-0707 \nVocê ajuda uma boa causa e recebe muito mais de volta!! \n
URL:https://agendadovinho.com.br/event/wine-day-ihf/
LOCATION:Adega Pelotas\, R. Pelotas\, 299 - Vila Mariana\, São Paulo\, SP\, 04012-001\, Brasil
CATEGORIES:Degustação,SP - São Paulo
ATTACH;FMTTYPE=image/jpeg:https://agendadovinho.com.br/wp-content/uploads/2019/06/wine-day-IHF_080619.jpg
END:VEVENT
BEGIN:VEVENT
DTSTART;TZID=America/Sao_Paulo:20190608T153000
DTEND;TZID=America/Sao_Paulo:20190608T163000
DTSTAMP:20260419T145121
CREATED:20190513T142953Z
LAST-MODIFIED:20190513T142953Z
UID:3652-1560007800-1560011400@agendadovinho.com.br
SUMMARY:Vinhos de Portugal - Provas\, Cursos e Harmonizações - Grandes Vinhos do Douro
DESCRIPTION:
URL:https://agendadovinho.com.br/event/vinhos-de-portugal-provas-cursos-e-harmonizacoes-grandes-vinhos-do-douro/
LOCATION:JK Iguatemi\, Av. Pres. Juscelino Kubitschek\, 2041 - Vila Olímpia\, São Paulo - SP\, 04543-011\, São Paulo\, SP\, 04543-011\, Brasil
CATEGORIES:Curso técnico,SP - São Paulo
ATTACH;FMTTYPE=image/jpeg:https://agendadovinho.com.br/wp-content/uploads/2019/04/vinhos-de-portugal_070619.jpeg
END:VEVENT
BEGIN:VEVENT
DTSTART;TZID=America/Sao_Paulo:20190608T160000
DTEND;TZID=America/Sao_Paulo:20190608T180000
DTSTAMP:20260419T145122
CREATED:20190604T175503Z
LAST-MODIFIED:20190604T180135Z
UID:4665-1560009600-1560016800@agendadovinho.com.br
SUMMARY:Lab Aromas e Sabores
DESCRIPTION:Lab Aromas e Sabores \n08/06 – sábado – 16-18h \nR$249\,00 \nPara reservas e mais informações: contato@alexandracorvo.com.br \n
URL:https://agendadovinho.com.br/event/lab-aromas-e-sabores/
LOCATION:Ciclo Das Vinhas\, Rua Artur de Azevedo\, 502\, São Paulo\, SP\, Brasil
CATEGORIES:Curso técnico,SP - São Paulo
ATTACH;FMTTYPE=image/jpeg:https://agendadovinho.com.br/wp-content/uploads/2019/06/lab-aromas-e-sabores_080619.jpg
END:VEVENT
BEGIN:VEVENT
DTSTART;TZID=America/Sao_Paulo:20190608T170000
DTEND;TZID=America/Sao_Paulo:20190608T180000
DTSTAMP:20260419T145122
CREATED:20190513T143549Z
LAST-MODIFIED:20190513T143549Z
UID:3657-1560013200-1560016800@agendadovinho.com.br
SUMMARY:Vinhos de Portugal - Provas\, Cursos e Harmonizações - Academia de Vinhos de Portugal
DESCRIPTION:
URL:https://agendadovinho.com.br/event/vinhos-de-portugal-provas-cursos-e-harmonizacoes-academia-de-vinhos-de-portugal-5/
LOCATION:JK Iguatemi\, Av. Pres. Juscelino Kubitschek\, 2041 - Vila Olímpia\, São Paulo - SP\, 04543-011\, São Paulo\, SP\, 04543-011\, Brasil
CATEGORIES:Curso técnico,SP - São Paulo
ATTACH;FMTTYPE=image/jpeg:https://agendadovinho.com.br/wp-content/uploads/2019/04/vinhos-de-portugal_070619.jpeg
END:VEVENT
BEGIN:VEVENT
DTSTART;TZID=America/Sao_Paulo:20190608T180000
DTEND;TZID=America/Sao_Paulo:20190608T220000
DTSTAMP:20260419T145122
CREATED:20190523T164919Z
LAST-MODIFIED:20190531T181331Z
UID:4011-1560016800-1560031200@agendadovinho.com.br
SUMMARY:6ª Feira de Vinhos & Destilados do Empório Santa Maria
DESCRIPTION:Para amantes de vinhos e destilados\, a tradicional Feira de Vinhos do Empório Santa Maria\, abre sua 6ª edição! \n**Com a entrada no valor de R$149\,00\, você reverte R$100\,00 em compras no evento ** \nSerão três dias de degustações com mais de 25 expositores\, entre importadoras e produtores de vinhos e destilados. \nVocê terá possibilidade de assistir sessões de master class com sommeliers das importadoras participantes\, além de desfrutar de um lounge com música ao vivo! \nAs feira promove degustações diversas e troca de conhecimento com os produtores e importadores. \nDentre eles estarão no evento: Concha y Toro\, Diageo\, Decanter\, Zahil\, Pernod Richard\, WineBrands\, Interfood\, Grand Cru\, Inovini\, Moet Hennessy\, Épice\, Cantu\, Segala\, Rothschild\, Mistral\, Vinci\, Qualimpor\, Ravin\, Bacardi\, World Wine\, Campari\, Vinibrasil\, Piscini\, Bruck\, Negroni\, Adeja Alentejana\, S&P Importadora e outros! \nHorário da Feira: das 18h às 22h \n
URL:https://agendadovinho.com.br/event/6a-feira-de-vinhos-destilados-do-emporio-santa-maria-3/
LOCATION:Empório Santa Maria\, Avenida Cidade Jardim\, 790\, São Paulo\, SP\, Brasil
CATEGORIES:Degustação,SP - São Paulo
ATTACH;FMTTYPE=image/jpeg:https://agendadovinho.com.br/wp-content/uploads/2019/05/santa-maria_060619.jpg
END:VEVENT
BEGIN:VEVENT
DTSTART;TZID=America/Sao_Paulo:20190608T190000
DTEND;TZID=America/Sao_Paulo:20190608T200000
DTSTAMP:20260419T145122
CREATED:20190513T143604Z
LAST-MODIFIED:20190513T143604Z
UID:3658-1560020400-1560024000@agendadovinho.com.br
SUMMARY:Vinhos de Portugal - Provas\, Cursos e Harmonizações - Grandes Vinhos Brancos quanto mais velho\, melhor
DESCRIPTION:
URL:https://agendadovinho.com.br/event/vinhos-de-portugal-provas-cursos-e-harmonizacoes-grandes-vinhos-brancos-quanto-mais-velho-melhor-2/
LOCATION:JK Iguatemi\, Av. Pres. Juscelino Kubitschek\, 2041 - Vila Olímpia\, São Paulo - SP\, 04543-011\, São Paulo\, SP\, 04543-011\, Brasil
CATEGORIES:Curso técnico,SP - São Paulo
ATTACH;FMTTYPE=image/jpeg:https://agendadovinho.com.br/wp-content/uploads/2019/04/vinhos-de-portugal_070619.jpeg
END:VEVENT
BEGIN:VEVENT
DTSTART;TZID=America/Sao_Paulo:20190608T200000
DTEND;TZID=America/Sao_Paulo:20190608T230000
DTSTAMP:20260419T145122
CREATED:20190528T142112Z
LAST-MODIFIED:20190531T180555Z
UID:4186-1560024000-1560034800@agendadovinho.com.br
SUMMARY:Degustação de vinhos austríacos
DESCRIPTION:A Sommelière Luciana Mota em parceria com MWEBER Eventos apresentam: \nDegustação de vinhos austríacos (Sabado 8/06) \nVenha ter uma experiência diferente com os vinhos austríacos harmonizados com iguarias típicas. 4 rótulos exclusivos a partir da principal uva do país\, Grüner Veltliner e 2 rótulos de diferentes uvas. \n*Espumante Schulumberger (Grüner Veltliner) 2018 \n*Vinho Branco Hieldler (Grüner Veltliner) 2017 \n*Vinho Branco Wilhelm Brundlmayer (Grüner Veltliner) 2016 \n*Vinho Branco Payr (Grüner Vetliner) 2017 \n*Vinho Tinto Una (Blaufrankish) 2017 \n*Vinho Branco Una (Riesling)  2018 \n
URL:https://agendadovinho.com.br/event/degustacao-de-vinhos-austriacos/
LOCATION:Cave Suíça\, Rua João Ramalho\, 1392\, São Paulo\, SP\, Brasil
CATEGORIES:Degustação,SP - São Paulo
ATTACH;FMTTYPE=image/png:https://agendadovinho.com.br/wp-content/uploads/2019/05/degustacao-vinhos-austriacos_080619.png
END:VEVENT
BEGIN:VEVENT
DTSTART;TZID=America/Sao_Paulo:20190608T210000
DTEND;TZID=America/Sao_Paulo:20190608T220000
DTSTAMP:20260419T145122
CREATED:20190513T143613Z
LAST-MODIFIED:20190513T143613Z
UID:3659-1560027600-1560031200@agendadovinho.com.br
SUMMARY:Vinhos de Portugal - Provas\, Cursos e Harmonizações - Vinhos do Dão com gastronomia brasileira
DESCRIPTION:
URL:https://agendadovinho.com.br/event/vinhos-de-portugal-provas-cursos-e-harmonizacoes-vinhos-do-dao-com-gastronomia-brasileira-2/
LOCATION:JK Iguatemi\, Av. Pres. Juscelino Kubitschek\, 2041 - Vila Olímpia\, São Paulo - SP\, 04543-011\, São Paulo\, SP\, 04543-011\, Brasil
CATEGORIES:Curso técnico,SP - São Paulo
ATTACH;FMTTYPE=image/jpeg:https://agendadovinho.com.br/wp-content/uploads/2019/04/vinhos-de-portugal_070619.jpeg
END:VEVENT
END:VCALENDAR