BEGIN:VCALENDAR
VERSION:2.0
PRODID:-//Agenda do Vinho - ECPv4.9.0//NONSGML v1.0//EN
CALSCALE:GREGORIAN
METHOD:PUBLISH
X-WR-CALNAME:Agenda do Vinho
X-ORIGINAL-URL:https://agendadovinho.com.br
X-WR-CALDESC:Eventos para Agenda do Vinho
BEGIN:VEVENT
DTSTART;TZID=America/Sao_Paulo:20190605T200000
DTEND;TZID=America/Sao_Paulo:20190605T220000
DTSTAMP:20260419T145332
CREATED:20190528T152003Z
LAST-MODIFIED:20190531T180635Z
UID:4217-1559764800-1559772000@agendadovinho.com.br
SUMMARY:Explore Ravin
DESCRIPTION:No final dos anos 80\, uma nova geração renova o setor vitivinícola de Rioja. Mario Rotllant e Carmen Daurella chegam a La Rioja\, terra de grandes Tempranillos com a intenção de criar um projeto que traga algo novo ao mundo do vinho. Então começa uma aventura emocionante\, ambiciosa\, exigente e sem precedentes: Bodegas Roda. \n
URL:https://agendadovinho.com.br/event/explore-ravin/
LOCATION:Ravin Vinho & Pasta\, R. Dr. Melo Alves\, 498 - Cerqueira César\, São Paulo - SP\, 01417-010\, São Paulo\, SP\, 01417-010\, Brasil
CATEGORIES:Degustação,SP - São Paulo
ATTACH;FMTTYPE=image/jpeg:https://agendadovinho.com.br/wp-content/uploads/2019/05/explore-ravin_050619.jpg
END:VEVENT
BEGIN:VEVENT
DTSTART;TZID=America/Sao_Paulo:20190605T200000
DTEND;TZID=America/Sao_Paulo:20190605T200000
DTSTAMP:20260419T145332
CREATED:20190601T171317Z
LAST-MODIFIED:20190601T171317Z
UID:4491-1559764800-1559764800@agendadovinho.com.br
SUMMARY:MATAOJO\, UMA NOVA ESTRELA URUGUAIA
DESCRIPTION:Na próxima quarta-feira\, dia 5 de junho\, teremos oportunidade de conhecer os vinhos de uma pequena vinícola uruguaia\, a Bodega Mataojo\, que nasceu há 12 anos com o objetivo de ser\, antes de tudo\, um lugar para receber amigos. \nA Estancia La Poderosa\, onde fica a bodega\, foi encontrada após anos de busca por uma propriedade vocacionada para abrigar um haras\, já que a criação de cavalos é outra paixão da família proprietária. Lá encontraram as condições ideais para desenvolver não apenas essa atividade\, mas também a produção de vinhos\, além de azeite de oliva e criação de gado\, outra especialidade do país vizinho. \nEm La Poderosa\, na região de Lavalejja\, foram plantados vinhedos das variedades Tannat\, Albariño\, Merlot\, Cabernet Sauvignon\, Touriga Nacional e Marselan. Além de varietais das quatro primeiras\, serão apresentados mais dois vinhos\, trazidos pelo produtor especialmente para essa ocasião: o Blend La Poderosa Reserva\, feito em partes iguais com Tannat\, Cabernet Sauvignon\, Touriga Nacional e Marselan; e um surpreendente varietal 100% Touriga Nacional de produção limitada\, uva que tem mostrado boa adaptação ao terroir uruguaio. A apresentação da vinícola e degustação dos vinhos\, importados e distribuídos no Brasil por nossa parceira Winebrands\, será conduzida por Jorge Pehar\, enólogo da Bodega Mataojo. Não perca essa oportunidade de provar vinhos de pequena produção (atualmente apenas 60 mil garrafas) de um país que já há algum tempo deixou de ser associado apenas aos potentes tintos à base de Tannat\, como se poderá comprovar nessa degustação exclusiva. Inscreva-se logo! \nVinhos que serão degustados \n\nMATAOJO ALBARINO FRESCO = R$98\,00\nMATAOJO RESERVA MERLOT = R$110\,00\nMATAOJO RESERVA TANNAT = R$110\,00\nMATAOJO RESERVA CABERNET SAUVIGNON = R$138\,00\nBLEND LA PODEROSA RESERVA MATAOJO\nTOURIGA NACIONAL RESERVA MATAOJO – EDICIÓN ESPECIAL\n\n  \n*A vaga será garantida somente mediante pagamento. Caso o pagamento não seja realizado dentro do prazo previsto a inscrição será cancelada automaticamente. \n  \n* Cancelamento/Não comparecimento: O cancelamento deverá ser solicitado formalmente\, através do e-mail abs-sp@abs-sp.com.br com 24 horas de antecedência ao evento\, caso não seja dentro desse prazo não será feito estorno do valor pago ou gerado nenhum crédito\, pois compromete a vaga de outros interessados que deixamos de atender. \n
URL:https://agendadovinho.com.br/event/mataojo-uma-nova-estrela-uruguaia/
LOCATION:ABS São Paulo\, 2 Edifício Olímpia Park\, R. Gomes de Carvalho\, 1327/1329 - Vila Olímpia\, São Paulo\, SP\, 04547-005\, Brasil
CATEGORIES:Degustação,SP - São Paulo
ATTACH;FMTTYPE=image/jpeg:https://agendadovinho.com.br/wp-content/uploads/2019/06/mataojo_050619.jpg
END:VEVENT
BEGIN:VEVENT
DTSTART;TZID=America/Sao_Paulo:20190605T200000
DTEND;TZID=America/Sao_Paulo:20190605T200000
DTSTAMP:20260419T145332
CREATED:20190601T172503Z
LAST-MODIFIED:20190601T172503Z
UID:4496-1559764800-1559764800@agendadovinho.com.br
SUMMARY:Aula de degustação de vinhos
DESCRIPTION:Quarta\, dia 05/06\, aula de degustação de vinhos 🍷\nVamos tomar 4 vinhos diferentes e aprender como identificar os aromas\, sabores e corpo deles.\nNo final vamos harmonizar com as deliciosas comidas da @ta_gastronomia 🍴\nPara participar por favor fazer a reserva antecipada. 📞 (11) 999934-3448 📧 contato@joananeuding.com.br . \n
URL:https://agendadovinho.com.br/event/aula-de-degustacao-de-vinhos/
LOCATION:TA Gastronomia\, R. Cel. Joaquim Ferreira Lôbo\, 256 - Vila Olímpia\, São Paulo\, SP\, 04544-150\, Brasil
CATEGORIES:Curso técnico,SP - São Paulo
ATTACH;FMTTYPE=image/jpeg:https://agendadovinho.com.br/wp-content/uploads/2019/06/aula-de-degustacao_050619.jpg
END:VEVENT
BEGIN:VEVENT
DTSTART;TZID=America/Sao_Paulo:20190605T200000
DTEND;TZID=America/Sao_Paulo:20190605T200000
DTSTAMP:20260419T145332
CREATED:20190604T172141Z
LAST-MODIFIED:20190604T172141Z
UID:4654-1559764800-1559764800@agendadovinho.com.br
SUMMARY:Jantar Harmonizado - Taberna da Esquina
DESCRIPTION:Desta vez\, o menu especial será harmonizado com vinhos da Casa Ferreirinha\, após uma breve apresentação da história da vinícola conduzida pelo enólogo Filipe Neves. Reserve agora uma das últimas vagas pelo 📞 11 3167-6489 e venha sentar-se à mesa conosco. 🇵🇹 #SentimosPortugal\n⠀⠀⠀⠀⠀⠀⠀⠀⠀\nÀ CHEGADA 🥂Planalto Reserva (taça de 140 ml)\nCouvert Português\n⠀⠀⠀⠀⠀⠀⠀⠀⠀\nPRA COMEÇAR 🍷Esteva (taça de 140 ml)�\nMix de folhas verdes com alheira grelhada e vinagrete\nOU\nMix de folhas verdes com sardinhas frescas grelhadas\n⠀⠀⠀⠀⠀⠀⠀⠀⠀⠀⠀⠀⠀⠀\nENTRETANTO 🍷Vinha Grande (taça de 140 ml)�\nBacalhau à Gomes de Sá\nlascas de bacalhau salteadas com alho e cebola\, finalizado com azeitonas pretas\, ovo cozido e salsa\nOU\nBlack Angus Grelhado\nservido com ovo estrelado\, molho da casa e fritas\n⠀⠀⠀⠀⠀⠀⠀⠀⠀⠀⠀⠀⠀⠀\nPOR FIM 🍷Porto Sandman Tawny (taça de 40 ml)\n�Baba de camelo OU Pudim de azeite e mel\n⠀⠀⠀⠀⠀⠀⠀⠀⠀⠀⠀⠀⠀⠀\nValor por pessoa: R$ 149 + 13% (opcional)\nApoio: @zahilvinhos \n
URL:https://agendadovinho.com.br/event/jantar-harmonizado-taberna-da-esquina/
LOCATION:Taberna da Esquina\, R. Bandeira Paulista\, 812 - Itaim Bibi\, São Paulo\, SP\, 04532-002\, Brasil
CATEGORIES:Jantar harmonizado,SP - São Paulo
ATTACH;FMTTYPE=image/jpeg:https://agendadovinho.com.br/wp-content/uploads/2019/06/taberna-da-esquina_050619.jpg
END:VEVENT
END:VCALENDAR