BEGIN:VCALENDAR
VERSION:2.0
PRODID:-//Agenda do Vinho - ECPv4.9.0//NONSGML v1.0//EN
CALSCALE:GREGORIAN
METHOD:PUBLISH
X-WR-CALNAME:Agenda do Vinho
X-ORIGINAL-URL:https://agendadovinho.com.br
X-WR-CALDESC:Eventos para Agenda do Vinho
BEGIN:VEVENT
DTSTART;TZID=America/Sao_Paulo:20190604T190000
DTEND;TZID=America/Sao_Paulo:20190604T230000
DTSTAMP:20260419T145051
CREATED:20190516T143015Z
LAST-MODIFIED:20190516T143015Z
UID:3785-1559674800-1559689200@agendadovinho.com.br
SUMMARY:Workshop SP
DESCRIPTION:WORKSHOP • TURMA SP🍷\nSommelier Rodrigo Ferraz\nTerça-feira • 04/junho \nO Clube Vinhos de Bicicleta preparou para você um workshop com o tema: Um Passeio pelo Mundo dos Vinhos. Venha aprender e se divertir com a gente através de um programa com parte teórica e degustação de vinhos. \nASSUNTOS A SEREM ABORDADOS\n• Introdução\, história e diferentes tipos de vinhos.\n• Análise sensorial\, 5 sentidos e aromas.\n• Métodos de cultivo\, vinificação e conceito de terroir.\n• Dicas de harmonização e serviço de vinhos finos.\n• Como comprar e armazenar os diferentes estilos de vinhos. \nO workshop será ministrado pelo sommelier profissional Rodrigo Ferraz. Ao final do curso\, você receberá um certificado de conclusão. \n___________________________ \nDATA E HORÁRIO🕥\n• Terça (04/06/2019).\n• Das 19:00h às 23:00h. \n___________________________ \nENDEREÇO📍\n• Ráscal Itaim: Rua Leopoldo Couto de Magalhães Júnior\, 831 – Itaim Bibi – São Paulo – SP – CEP 04542-011. \nVagas limitadas\, por ordem de reserva. \nValor:\n🏷R$ 220\,00 para ex-alunos e associados do Clube Vinhos de Bicicleta.\n🏷R$ 250\,00 para não associados do Clube Vinhos de Bicicleta. \nInscrições e mais informações com Hellen Gusmão: contato.sp@vinhosdebicicleta.com.br ou 11 9 7737-7607 (whastapp). \n
URL:https://agendadovinho.com.br/event/workshop-sp/
LOCATION:Ráscal Itaim\, R. Leopoldo Couto de Magalhães Júnior\, 831 - Itaim Bibi\, São Paulo - SP\, 04542-011\, São Paulo\, SP\, 04542-011\, Brasil
CATEGORIES:Curso técnico,SP - São Paulo
ATTACH;FMTTYPE=image/jpeg:https://agendadovinho.com.br/wp-content/uploads/2019/05/workshop-sp_040619.jpg
END:VEVENT
BEGIN:VEVENT
DTSTART;TZID=America/Sao_Paulo:20190604T193000
DTEND;TZID=America/Sao_Paulo:20190604T220000
DTSTAMP:20260419T145051
CREATED:20190524T153549Z
LAST-MODIFIED:20190524T153549Z
UID:4078-1559676600-1559685600@agendadovinho.com.br
SUMMARY:Curso completo
DESCRIPTION:Dividido em 4 módulos\, um curso para compreender de maneira dinâmica o mundo do vinho e degustar mais de 30 rótulos e estilos de vinhos. \n  \n
URL:https://agendadovinho.com.br/event/curso-completo/
LOCATION:Grand Cru Itaim Bibi\, R. Prof. Tamandaré Toledo\, 51 - Itaim Bibi\, São Paulo\, SP\, 04532-020\, Brasil
CATEGORIES:Curso técnico,SP - São Paulo
ATTACH;FMTTYPE=image/jpeg:https://agendadovinho.com.br/wp-content/uploads/2019/05/curso-completo_180619.jpg
END:VEVENT
BEGIN:VEVENT
DTSTART;TZID=America/Sao_Paulo:20190604T193000
DTEND;TZID=America/Sao_Paulo:20190604T193000
DTSTAMP:20260419T145051
CREATED:20190525T142045Z
LAST-MODIFIED:20190525T142045Z
UID:4116-1559676600-1559676600@agendadovinho.com.br
SUMMARY:Prove Portugal - Flávio Miyamura\, Do Satú Restaurante\, Recebe Ana Moura
DESCRIPTION:FLÁVIO MIYAMURA\, DO SATÚ RESTAURANTE\, RECEBE ANA MOURA\nMENU ESPECIAL DA REGIÃO DO ALENTEJO\n19:30H SATÚ RESTAURANTE\nEntrada\nBrasil: Camarões na brasa com creme de milho e tucupi\nPortugal: Legumes da estação\, tomate\, pimentos\, sementes de girassol \nPrato principal\nBrasil: Peixe do dia com purê de banana da terra\, saladinha de feijão fradinho e quiabo na brasa\nPortugal: Borrego\, batatas\, pão alentejano \nSobremesa\nBrasil: Flan de maracujá com espuma doce de wasabi e crumble de Puxuri\nPortugal: Torta de laranja \nIngressos à venda\nValor harmonizado R$ 219\,00\nValor não harmonizado R$ 189\,00 \n
URL:https://agendadovinho.com.br/event/prove-portugal-flavio-miyamura-do-satu-restaurante-recebe-ana-moura/
LOCATION:Satú Restaurante\, R. Ferreira de Araújo\, 450 - Pinheiros\, São Paulo\, SP\, 05428-001\, Brasil
CATEGORIES:Jantar harmonizado,SP - São Paulo
ATTACH;FMTTYPE=image/png:https://agendadovinho.com.br/wp-content/uploads/2019/05/prove-portugal_040619.png
END:VEVENT
END:VCALENDAR