BEGIN:VCALENDAR
VERSION:2.0
PRODID:-//Agenda do Vinho - ECPv4.9.0//NONSGML v1.0//EN
CALSCALE:GREGORIAN
METHOD:PUBLISH
X-WR-CALNAME:Agenda do Vinho
X-ORIGINAL-URL:https://agendadovinho.com.br
X-WR-CALDESC:Eventos para Agenda do Vinho
BEGIN:VEVENT
DTSTART;TZID=America/Sao_Paulo:20190603T143000
DTEND;TZID=America/Sao_Paulo:20190603T143000
DTSTAMP:20260419T145700
CREATED:20190505T232650Z
LAST-MODIFIED:20190505T232650Z
UID:3228-1559572200-1559572200@agendadovinho.com.br
SUMMARY:Curso de Formação de Sommeliers e Profissionais - Módulo I
DESCRIPTION:O Módulo Fundamentos do Vinho é um dos três módulos para Formação de Sommeliers e Profissionais da ABS-SP e dará uma sólida base teórica sobre os mais diferentes aspectos do vinho: degustação\, viticultura\, vinificação\, adegas e tudo o mais que um profissional precisa saber\, em profundidade e com muita precisão. A duração deste módulo é de 35 (trinta e cinco) semanas\, com aulas ministradas uma vez por semana. \n  \nInformações: https://www.abs-sp.com.br/turmas/t438/curso-de-formacao-de-sommeliers-e-profissionais-modulo-i \n
URL:https://agendadovinho.com.br/event/curso-de-formacao-de-sommeliers-e-profissionais-modulo-i-2/
LOCATION:ABS São Paulo\, 2 Edifício Olímpia Park\, R. Gomes de Carvalho\, 1327/1329 - Vila Olímpia\, São Paulo\, SP\, 04547-005\, Brasil
CATEGORIES:Curso técnico,SP - São Paulo
ATTACH;FMTTYPE=image/jpeg:https://agendadovinho.com.br/wp-content/uploads/2019/05/sommeliers_030619.jpg
END:VEVENT
BEGIN:VEVENT
DTSTART;TZID=America/Sao_Paulo:20190603T170000
DTEND;TZID=America/Sao_Paulo:20190603T220000
DTSTAMP:20260419T145700
CREATED:20190518T151039Z
LAST-MODIFIED:20190531T181537Z
UID:3859-1559581200-1559599200@agendadovinho.com.br
SUMMARY:World Wine Experience 2019 - São Paulo
DESCRIPTION:Dos dias 3 a 7 de junho\, acontece mais uma edição da World Wine Experience. Tanto para iniciantes quanto para experts no universo do vinho\, essa edição da feira tem como tema a Península Ibérica\, onde reúne grandes rótulos de vinícolas tradicionais que inovam na tecnologia e na produção\, e que exaltam\, principalmente\, a uva e as técnicas de vinificação. \nPromovido pela World Wine\, uma das maiores importadoras de vinhos do Brasil\, o encontro tem como objetivo aproximar grandes produtores que compõem seu portfólio ao público interessado em enocultura\, desmistificando todos os mistérios ainda presentes na bebida. Assim eles podem ter contato direto com quem produz\, conhecer a história das vinícolas e as novidades\, tudo isso no melhor formato: degustando! \nNesta edição\, serão apresentados 17 produtores\, sendo 8 de Portugal e 9 da Espanha – que representam diferentes tecnologias\, dinamismo e autenticidade na produção dos vinhos. \nAS MARCAS PRESENTES SÃO: \nPORTUGAL: Rocim\, Falorca\, CARM\, Pessegueiro\, Quinta Nova\, \nQuinta da Calçada\, Val da Ucha\, Wiese & Krohn. \nESPANHA: Borsao\, Ponce\, Vivanco\, Murrieta\, Barbadillo\, Valderiz\, \nAAlto\, Garmón\, Pere Ventura \nSaiba mais em https://www.worldwineexperience.com.br/ \nEvento destinado para maiores de 18 anos\, não será permitida a entrada de menores desacompanhados dos pais ou responsáveis legais. \n
URL:https://agendadovinho.com.br/event/world-wine-experience-2019-sao-paulo/
LOCATION:Grand Mercure Hotel São Paulo\, R. Sena Madureira\, 1355 Bloco 1 - Vila Clementino\, São Paulo\, SP\, 04021-051\, Brasil
CATEGORIES:Degustação,SP - São Paulo
ATTACH;FMTTYPE=image/jpeg:https://agendadovinho.com.br/wp-content/uploads/2019/05/ww-sao-paulo_030619.jpg
END:VEVENT
END:VCALENDAR