BEGIN:VCALENDAR
VERSION:2.0
PRODID:-//Agenda do Vinho - ECPv4.9.0//NONSGML v1.0//EN
CALSCALE:GREGORIAN
METHOD:PUBLISH
X-WR-CALNAME:Agenda do Vinho
X-ORIGINAL-URL:https://agendadovinho.com.br
X-WR-CALDESC:Eventos para Agenda do Vinho
BEGIN:VEVENT
DTSTART;TZID=America/Sao_Paulo:20190601T080000
DTEND;TZID=America/Sao_Paulo:20190601T170000
DTSTAMP:20260419T145143
CREATED:20190523T183500Z
LAST-MODIFIED:20190602T022226Z
UID:4042-1559376000-1559408400@agendadovinho.com.br
SUMMARY:Roteiro do Vinho e café da manhã em Jundiaí
DESCRIPTION:Você gostaria de conhecer o Roteiro do Vinho de Jundiaí\, suas Adegas e Parreirais de Uva? Jundiaí ficou nacionalmente conhecida com o surgimento da Uva Niágara Rosada\, assim recebendo o carinhoso apelido de “Terra da Uva”\, eis que em 1934 surgia uma das mais famosas festas do interior paulista\, a Festa da Uva de Jundiaí\, com sua forte tradição italiana e suas Adegas e Vinícolas\, estas que iremos conhecer ao longo de um de um dia regrado a muito vinho e gastronomia local. \nINVESTIMENTO POR PESSOA: R$ 135 \nClientes Passeios Baratos em SP: R$ 125\nCARTÃO DE CRÉDITO/BOLETO: : (sem desconto) R$ 140\nINCLUÍDO: Transporte\, café da manhã\, guia/monitor\, degustação nas adegas e seguro. \nReservas: enviar nome completo (sem abreviação)\, número do celular\, RG\, CPF\, data de nascimento\, e-mail para contato (caso seja diferente do enviado) e local de EMBARQUE\, estes dados devem ser enviados juntamente com o comprovante de pagamento para o e-mail “passeios@passeiosbaratosemsp.com.br \n
URL:https://agendadovinho.com.br/event/roteiro-do-vinho-e-cafe-da-manha-em-jundiai/
LOCATION:Metrô Vergueiro\, Rua Vergueiro\, 1000 - Liberdade\, São Paulo\, SP\, Brasil
CATEGORIES:Outros,SP - São Paulo
ATTACH;FMTTYPE=image/jpeg:https://agendadovinho.com.br/wp-content/uploads/2019/05/roteiro-do-vinho_010619.jpg
END:VEVENT
BEGIN:VEVENT
DTSTART;TZID=America/Sao_Paulo:20190601T130000
DTEND;TZID=America/Sao_Paulo:20190601T160000
DTSTAMP:20260419T145143
CREATED:20190529T154908Z
LAST-MODIFIED:20190531T180723Z
UID:4279-1559394000-1559404800@agendadovinho.com.br
SUMMARY:Prosa & Vinho
DESCRIPTION:Você é nossa convidada/o para conhecer mais sobre vinhos portugueses.\nDia 01/06 serão degustados 6 vinhos incríveis\, com muita música boa para passarmos uma tarde muito especial.\nEsperamos por você!\nPedimos a gentileza de enviar o nome inbox ou por email (contato@prosaevinho.com.br). \n
URL:https://agendadovinho.com.br/event/prosa-vinho/
LOCATION:Prosa & Vinho\, Galeria Metrópole - Avenida São Luís\, 187\, piso 3\, loja 1 – Centro\, São Paulo\, SP\, Brasil
CATEGORIES:Degustação,SP - São Paulo
ATTACH;FMTTYPE=image/jpeg:https://agendadovinho.com.br/wp-content/uploads/2019/05/prosa-e-vinho_010619.jpg
END:VEVENT
BEGIN:VEVENT
DTSTART;TZID=America/Sao_Paulo:20190601T140000
DTEND;TZID=America/Sao_Paulo:20190601T210000
DTSTAMP:20260419T145143
CREATED:20190505T183356Z
LAST-MODIFIED:20190531T181558Z
UID:3218-1559397600-1559422800@agendadovinho.com.br
SUMMARY:Feira de Vinhos - Varanda Experience
DESCRIPTION:2° Edição da Feira de Vinho \n01 e 02 de junho – das 14h às 21h \nIngressos limitados\nR$ 150\,00 (R$ 100\,00 do valor do ingresso será revertido em compra de vinhos) \nVenda de ingressos nas lojas Varanda ou pelo televendas (11) 3035-5857 \n
URL:https://agendadovinho.com.br/event/feira-de-vinhos-varanda-experience/
LOCATION:Varanda Empório\, Rua Olimpíadas\, 360\, São Paulo\, SP\, Brasil
CATEGORIES:Degustação,SP - São Paulo
ATTACH;FMTTYPE=image/jpeg:https://agendadovinho.com.br/wp-content/uploads/2019/05/feira-de-vinho_010619.jpg
END:VEVENT
BEGIN:VEVENT
DTSTART;TZID=UTC-3:20190601T150000
DTEND;TZID=UTC-3:20190601T200000
DTSTAMP:20260419T145143
CREATED:20190422T033613Z
LAST-MODIFIED:20190422T033636Z
UID:2295-1559401200-1559419200@agendadovinho.com.br
SUMMARY:Master class - Iniciação ao mundo do vinho
DESCRIPTION:Se você tem curiosidade para entender mais sobre vinhos\, tipos de uvas e harmonização\, essa é uma oportunidade imperdível. Você conhecera styles de vinhos de nove países e cinco regiões importantes da Itália e França. \nVenha viajar conosco degustando vinhos desses países e conhecendo suas especialidades. \nO que será ensinado: \nHistória \ntipos de uvas \nvinificação\, \nApelação \ndegustação e \nharmonização \nTudo para transformar sua paixão por vinhos em um conhecimento muito prazeroso\, para poder ser aplicado no seu dia-a-dia. \n……. Vagas limitadas.. \n
URL:https://agendadovinho.com.br/event/master-class-iniciacao-ao-mundo-do-vinho/
LOCATION:Cave Suíça\, Rua João Ramalho\, 1392\, São Paulo\, SP\, Brasil
CATEGORIES:Curso técnico,SP - São Paulo
ATTACH;FMTTYPE=image/jpeg:https://agendadovinho.com.br/wp-content/uploads/2019/04/cave-suica_010619-e1556068381918.jpg
END:VEVENT
BEGIN:VEVENT
DTSTART;TZID=America/Sao_Paulo:20190601T160000
DTEND;TZID=America/Sao_Paulo:20190601T180000
DTSTAMP:20260419T145143
CREATED:20190423T194317Z
LAST-MODIFIED:20190423T194317Z
UID:2453-1559404800-1559412000@agendadovinho.com.br
SUMMARY:Queijos e Vinhos com Alexandra Corvo
DESCRIPTION:Alguns casamentos são perfeitos\, outros\, nem tanto… Nesta aula os alunos descobrem\, na prática\, degustando queijos e vinhos\, quais estilos combinam melhor. \nInicialmente teremos um breve laboratório de aromas e sabores para desenvolver a técnica da degustação e aguçar o paladar. \nApós o conteúdo teórico degustaremos 4 vinhos às cegas para\, em seguida\, fazermos a experiência de harmonização com os queijos. Surpreenda-se! \nFundada por Alexandra Corvo\, o Ciclo das vinhas visa difundir a cultura do vinho com muito conteúdo e práticas de degustação. \nCom aulas diárias para diferentes níveis e temas diversos. Temos aulas para iniciantes\, que contemplam desde a técnica de degustação até aulas de formação profissional. \nTodas as aulas contam com degustação e algumas contemplam harmonização. Alinhado com esta visão\, a escola abriga a maior e mais importante biblioteca e livraria especializda no tema\, além de um balcão com vinhos em taça escolhidos pela Alexandra. \nSábado – 16h às 18h \nPolítica de cancelamento \nAté 7 dias úteis antes do início da aula/curso. \nApós esse período\, o valor da inscrição não será reembolsável ou transferível para outros cursos. \nEm caso de falta\, não há possibilidade de reposição \nDúvidas \n(11) 32843626 ou 963096432 \ncontato@alexandracorvo.com.br \nContato para problemas técnicos durante a compra: \ncontato@foodpass.com.br \n
URL:https://agendadovinho.com.br/event/queijos-e-vinhos-com-alexandra-corvo/
LOCATION:Ciclo Das Vinhas\, Rua Artur de Azevedo\, 502\, São Paulo\, SP\, Brasil
CATEGORIES:Curso técnico,SP - São Paulo
ATTACH;FMTTYPE=image/jpeg:https://agendadovinho.com.br/wp-content/uploads/2019/04/laboratorio_020519-e1556067037432.jpg
END:VEVENT
BEGIN:VEVENT
DTSTART;TZID=America/Sao_Paulo:20190601T173000
DTEND;TZID=America/Sao_Paulo:20190601T173000
DTSTAMP:20260419T145143
CREATED:20190524T180029Z
LAST-MODIFIED:20190524T180029Z
UID:4096-1559410200-1559410200@agendadovinho.com.br
SUMMARY:Wine Secrets
DESCRIPTION:O WINE SECRETS é um evento descontraído que tem a finalidade de harmonizar 3 elementos: VINHOS + COMIDINHAS & MÚSICA. \nVamos criar momentos especiais para desvendar os segredos do vinho em 5 passos\, 5 pratos e 5 músicas. Os 3 nomes: Cecilia Aldaz\,  Thiago Sabota e Marcos Carioba vão mostrar que há um vinho\, uma música e uma comida para cada momento. \n– A degustação dos vinhos será comandada pela argentina Cecilia Aldaz\, premiada sommèliere\, que vai desvendar os segredos do vinho através de uma conexão! \n– As comidinhas serão feitas pelo chef Marcos Carioba\, do cordel gastronômico. Ele vai preparar um menu surpreendente e totalmente conectado ao contexto da degustação e das músicas. \n– A música ficará por conta do DJ Thiago Sabota\, que apresentará sets com versões de clássicos do jazz\, blues e soul harmonizados com os vinhos da degustação. \n  \nOS 5 PASSOS DO EVENTO: \n  \n1.FRESCOR \nMood Musical: Refrescante\, “susto” com melodia \nBebida: Veuve Alban – Espumante* \nPrato: Vieira\, Uva e Gaspacho Verde \n  \n2. SURPRESA \nMood Musical: Surpresa\, mistério seguido de conforto \nBebida: Sauska Furmint – Branco \nPrato: Bun de Rabada\, Missô e Caldo de Costela \n3. DELICADEZA \nMood Musical: Delicado e elegante \nBebida: Villa Wolf Pinot Noir – Tinto Leve \nPrato: Atum\, Ponzu de Gengibre e Abacate Crocante \n4. INTENSIDADE / FORÇA \nMood Musical: Intenso\, marcante\, forte \nBebida: Maculan – Tinto Encorpado * \nPrato: Terrine de Cordeiro Defumado\, Fregola Negra e Avelãs \n5. ROMÂNTICO \nMood Musical: Romântico\, doce. \nBebida: Leonis Tokaj – Sobremesa \nPrato: Mil Folhas Rústico de Maçã e Caramelo Salgado \n  \nO ambiente será descontraído com serviço volante e música boa! \nNão dá pra ficar de fora dessa experiência! \n
URL:https://agendadovinho.com.br/event/wine-secrets/
LOCATION:Brastemp Experience\, R. Dr. Melo Alves\, 651 - Cerqueira César\, São Paulo\, SP\, 01417-010\, Brasil
CATEGORIES:Outros,SP - São Paulo
ATTACH;FMTTYPE=image/jpeg:https://agendadovinho.com.br/wp-content/uploads/2019/05/wine-secrets_010619.jpg
END:VEVENT
BEGIN:VEVENT
DTSTART;TZID=America/Sao_Paulo:20190601T180000
DTEND;TZID=America/Sao_Paulo:20190601T180000
DTSTAMP:20260419T145143
CREATED:20190530T175151Z
LAST-MODIFIED:20190530T175151Z
UID:4342-1559412000-1559412000@agendadovinho.com.br
SUMMARY:Comidinha da Mamãe
DESCRIPTION:Que harmonização clássica não é mesmo? \nVinho especial para a Comidinha da mamãe\, quem curte as comidinhas de Portugal e um bom vinho português\, tem que estar aqui no boteco no sábado “ ora pois” … 🇵🇹🍷💚❤️ \n
URL:https://agendadovinho.com.br/event/comidinha-da-mamae/
LOCATION:Vai de Vinho Boteco\, Rua João de Sousa Dias\, 377 - Campo Belo\, São Paulo\, SP\, 04618-000\, Brasil
CATEGORIES:Jantar harmonizado,SP - São Paulo
ATTACH;FMTTYPE=image/jpeg:https://agendadovinho.com.br/wp-content/uploads/2019/05/comidinha-da-mamae_010619.jpg
END:VEVENT
BEGIN:VEVENT
DTSTART;TZID=America/Sao_Paulo:20190601T190000
DTEND;TZID=America/Sao_Paulo:20190601T190000
DTSTAMP:20260419T145143
CREATED:20190529T160743Z
LAST-MODIFIED:20190531T180656Z
UID:4288-1559415600-1559415600@agendadovinho.com.br
SUMMARY:2° AZULEJO & JOHWINE
DESCRIPTION:2° AZULEJO & JOHWINE \nDegustação de vinhos e harmonização com comidas.\n– 16 rótulos entre espumante\, brancos\, rosé e tintos\, de 5 países (Chile\, Espanha\, França\, Itália e Portugal).\n– Buffet de petiscos e comida do restaurante (bruscheta de carne seca e queijo reino\, patolas de caranguejo\, dadinhos de tapioca e risoto de carne de panela) \, frutas secas e frutas frescas\, azeite e pães.\nEvento imperdível para um delicioso Happy Hour ou uma noite especial com apreciação de bons vinhos e comida de excelência. \nDias 30 e 31/05\, à partir das 18 hr.\nDia 01/06 às 19 hr.\nR$ 80\,00 por pessoa – Tudo incluso!\nAzulejo Pernanbucano\nRua Caraíbas\, 871 – Perdizes\nInformaçoes :\ncomercial@azulejopernanbucano.com.br\nWhastApp – 19 99746 2393\nTodos os vinhos degustados estarão à venda\, com preços especiais. \n
URL:https://agendadovinho.com.br/event/2-azulejo-johwine-3/
LOCATION:Azulejo Pernambucano\, R. Caraíbas\, 871 - Perdizes\, São Paulo\, SP\, 05020-000\, Brasil
CATEGORIES:Degustação,SP - São Paulo
ATTACH;FMTTYPE=image/jpeg:https://agendadovinho.com.br/wp-content/uploads/2019/05/azulejo-e-johwine_300519.jpg
END:VEVENT
BEGIN:VEVENT
DTSTART;TZID=America/Sao_Paulo:20190601T200000
DTEND;TZID=America/Sao_Paulo:20190601T230000
DTSTAMP:20260419T145143
CREATED:20190527T142116Z
LAST-MODIFIED:20190531T180649Z
UID:4129-1559419200-1559430000@agendadovinho.com.br
SUMMARY:Degustação de vinhos Loma Larga
DESCRIPTION:A vinícola Loma Larga\, proveniente do Valle de Casablanca no Chile\, chega ao Brasil!\nA Cave Suíça\, em parceria com a Sommelier4U\, trazem essa novidade para você numa degustação inédita e exclusiva! Você poderá apreciar 5 rótulos* da tradicional vinícola\, harmonizados com queijos artesanais e suíços: \n> Chardonnay \n> Sauvignon Blanc \n> Rosé Cabernet Franc \n> Pinot Noir \n>  Quintento \n  \nInvestimento: \nR$ 65\,00 por pessoa \nQuando: \n1º de junho \ndas 20:00 às 23:00 horas \nOnde: \nRua João Ramalho\, 1396 \nPerdizes\, São Paulo – SP \nCave Suíça \n
URL:https://agendadovinho.com.br/event/degustacao-de-vinhos-loma-larga/
LOCATION:Cave Suíça\, Rua João Ramalho\, 1392\, São Paulo\, SP\, Brasil
CATEGORIES:Degustação,SP - São Paulo
ATTACH;FMTTYPE=image/jpeg:https://agendadovinho.com.br/wp-content/uploads/2019/05/loma-larga_010619.jpg
END:VEVENT
BEGIN:VEVENT
DTSTART;TZID=America/Sao_Paulo:20190601T203000
DTEND;TZID=America/Sao_Paulo:20190601T233000
DTSTAMP:20260419T145143
CREATED:20190428T232850Z
LAST-MODIFIED:20190428T232850Z
UID:2848-1559421000-1559431800@agendadovinho.com.br
SUMMARY:Jantar Harmonizado Com Vinhos Clube da Mesa Posta
DESCRIPTION:Jantar Hamonizado Com Vihos Clube Da Mesa Posta \nExperiências que se complementam. \nO Clube da Mesa Posta em parceria com o Lelui Bar e Cozinha convidam você para viver essa grande experiência. \nUm jantar com harmonização de vinhos com apoio da vinícola Dal Pizzol. \nData 01/06/2019 \nHorário :20:30 \nLocal; LeLui Bar e Cozinha \nNossa proposta inclui por pessoa: \nEntradinha \nSequência de 3 Pratos harmonizados com 3 taças diferentes de vinho da Vinícola Dal Pizzol \n1 Sobremesa \nÁgua \nCafé \nEntradas – Bolinhos de Bacalhau ou Bruschetta Clássica aos 3 abores. Fatias de pão italiano chapeados e recheados com funghi / pomodoro e mussarela / brie com mel \nMassa – Gnocchi de Batata ao Molho Suave de Dolcelatte e Macadamia \nBacalhau – Bacalhau con Natas Lascas \nCarnes – Filet Mignon com Gratin de Batatas \nSobremesa – Torta de Chocolate Tenerina com Calda de Laranja Carameliada ou Panna Cotta com Calda de Frutas Vermelhas \n
URL:https://agendadovinho.com.br/event/jantar-harmonizado-com-vinhos-clube-da-mesa-posta/
LOCATION:Lelui Bar e Cozinha\, R. Jacuna\, 302 - Carandiru\, São Paulo - SP\, 02068-010\, São Paulo\, SP\, 02068-010\, Brasil
CATEGORIES:Jantar harmonizado,SP - São Paulo
ATTACH;FMTTYPE=image/jpeg:https://agendadovinho.com.br/wp-content/uploads/2019/04/jantar-harmonizado_090519.jpg
END:VEVENT
END:VCALENDAR