BEGIN:VCALENDAR
VERSION:2.0
PRODID:-//Agenda do Vinho - ECPv4.9.0//NONSGML v1.0//EN
CALSCALE:GREGORIAN
METHOD:PUBLISH
X-WR-CALNAME:Agenda do Vinho
X-ORIGINAL-URL:https://agendadovinho.com.br
X-WR-CALDESC:Eventos para Agenda do Vinho
BEGIN:VEVENT
DTSTART;TZID=America/Sao_Paulo:20190530T160000
DTEND;TZID=America/Sao_Paulo:20190530T210000
DTSTAMP:20260419T145332
CREATED:20190515T221108Z
LAST-MODIFIED:20190515T221108Z
UID:3739-1559232000-1559250000@agendadovinho.com.br
SUMMARY:Open House - Alvino Expert
DESCRIPTION:Open House Alvino Expert \nAbriremos nosso escritório para amantes de vinhos. \nVenham degustar e conhecer vinhos brasileiros gratuitamente!! \nDegustaremos 6 rótulos de vinícolas diferentes!! \nDescontos especiais de até 50%!! \nConfirme presença através do WhatsApp 11-94204-2012 ou e-mail contato@alvinoexpert.com.br \n
URL:https://agendadovinho.com.br/event/open-house-alvino-expert/
LOCATION:Alvino Expert\, R. Dr. Samuel Pôrto\, 351 - cj 14 - Saúde\, São Paulo - SP\, 04054-010\, São Paulo\, SP\, 04054-010\, Brasil
CATEGORIES:Degustação limitada,SP - São Paulo
ATTACH;FMTTYPE=image/jpeg:https://agendadovinho.com.br/wp-content/uploads/2019/05/open-house_300519.jpg
END:VEVENT
BEGIN:VEVENT
DTSTART;TZID=America/Sao_Paulo:20190530T180000
DTEND;TZID=America/Sao_Paulo:20190530T180000
DTSTAMP:20260419T145332
CREATED:20190529T160224Z
LAST-MODIFIED:20190529T160224Z
UID:4282-1559239200-1559239200@agendadovinho.com.br
SUMMARY:2° AZULEJO & JOHWINE
DESCRIPTION:2° AZULEJO & JOHWINE \nDegustação de vinhos e harmonização com comidas.\n– 16 rótulos entre espumante\, brancos\, rosé e tintos\, de 5 países (Chile\, Espanha\, França\, Itália e Portugal).\n– Buffet de petiscos e comida do restaurante (bruscheta de carne seca e queijo reino\, patolas de caranguejo\, dadinhos de tapioca e risoto de carne de panela) \, frutas secas e frutas frescas\, azeite e pães.\nEvento imperdível para um delicioso Happy Hour ou uma noite especial com apreciação de bons vinhos e comida de excelência. \nDias 30 e 31/05\, à partir das 18 hr.\nDia 01/06 às 19 hr.\nR$ 80\,00 por pessoa – Tudo incluso!\nAzulejo Pernanbucano\nRua Caraíbas\, 871 – Perdizes\nInformaçoes :\ncomercial@azulejopernanbucano.com.br\nWhastApp – 19 99746 2393\nTodos os vinhos degustados estarão à venda\, com preços especiais. \n
URL:https://agendadovinho.com.br/event/2-azulejo-johwine/
LOCATION:Azulejo Pernambucano\, R. Caraíbas\, 871 - Perdizes\, São Paulo\, SP\, 05020-000\, Brasil
CATEGORIES:Degustação limitada,SP - São Paulo
ATTACH;FMTTYPE=image/jpeg:https://agendadovinho.com.br/wp-content/uploads/2019/05/azulejo-e-johwine_300519.jpg
END:VEVENT
BEGIN:VEVENT
DTSTART;TZID=America/Sao_Paulo:20190530T190000
DTEND;TZID=America/Sao_Paulo:20190530T220000
DTSTAMP:20260419T145332
CREATED:20190509T154739Z
LAST-MODIFIED:20190509T154751Z
UID:3448-1559242800-1559253600@agendadovinho.com.br
SUMMARY:Confraria DELAS: Especial Dia dos Namorados
DESCRIPTION:CONFRARIA DELAS – ESPECIAL DIA DOS NAMORADOS\nHarmonização\, Degustações e Palestras sobre Vinhos para uma Noite Especial + Aula De Sextoys + Experiência Sensorial “Despertando seus Sentidos”. \nO próximo encontro da Confraria DELAS está pra lá de especial!!! Com a proximidade do dia dos namorados\, preparamos 3 surpresas para nossas participantes: \n> Palestra\, degustação e harmonização de rótulos especialmente escolhidos pela sommeliére Vanessa Thomaz\, para você degustar com MUITO prazer! \n> Aula de sextoys com a Ella Íntima! Vamos explicar quais são e como usar os melhores sextoys do mercado. Você vai aprender a se divertir! \n> Experiência sensorial “Despertando seus Sentidos” realizada pela marca de cosméticos eróticos mais em evidência\, a Sophie Sensual Feelings! \nE o melhor de tudo: todas essas surpresas você poderá aplicar\, na prática\, com alguém ou sozinha\, porque tanto prazeres etílicos e sexuais não são exclusividades dos namorados/casados/enrolados/amantes! \nRelembrando: A cada encontro da Confraria DELAS\, as participantes terão vivências sensoriais\, com degustação e harmonização de 3 rótulos com queijos\, frios e outros petiscos! \nAs novas participantes pagam R$120\,00\, mas esse valor passa a ser de R$ 80\,00 para as reuniões seguintes. Venha participar de nossa Confraria! \nINFORMAÇÕES SOBRE O EVENTO: \nData: 30 de maio de 2019 (quinta-feira) \nHorário: Das 19 às 22 h \nLocal: Casa do Sentir – Rua Luís Anhaia\, 47 – Vila Madalena. \nInvestimento: R$ 120\,00 \nEstacionamentos: O mais próximo fica na Rua Aspicuelta\, 553. Outros: Rua Wisard\, 522 (ao lado da Padaria Vila Grano) e Rua Aspicuelta\, 702. \nInformações importantes: A Casa do Sentir fica em uma pequena rua\, com portões e vigilância 24 h. Os portões para carros são fechados às 19 h e para pedestres\, às 22 h. Após esses horários\, tanto carros como pedestres devem sair pela entrada na rua\, esquina com a Rua Wisard. \n
URL:https://agendadovinho.com.br/event/confraria-delas-especial-dia-dos-namorados/
LOCATION:Casa do Sentir\, Rua Luiz Anhaia\, 47 - Vila Madalena\, São Paulo - SP\, 05433-020\, São Paulo\, SP\, 05433-020\, Brasil
CATEGORIES:Outros,SP - São Paulo
ATTACH;FMTTYPE=image/jpeg:https://agendadovinho.com.br/wp-content/uploads/2019/05/confraria-delas_300519.jpg
END:VEVENT
BEGIN:VEVENT
DTSTART;TZID=America/Sao_Paulo:20190530T190000
DTEND;TZID=America/Sao_Paulo:20190530T231000
DTSTAMP:20260419T145332
CREATED:20190515T200419Z
LAST-MODIFIED:20190515T200419Z
UID:3735-1559242800-1559257800@agendadovinho.com.br
SUMMARY:Dicas do Sommelier\, da degustação a compra certa!
DESCRIPTION:Ser amante de um bom vinho é fácil. Mas quem nunca passou por aquela cena clássica: Na prateleira de um supermercado ou diante de uma carta no restaurante\, se depara com milhares de opções de vinho disponíveis e fica completamente perdido em relação a qual bebida levar para casa ou pedir ao garçom? Dúvidas como qual vinho combina melhor com o prato escolhido\, qual é a uva mais leve\, qual a melhor safra. Será que tudo isso importa? E é com esse tema tão interessante que o The Women fará o seu 3º encontro de 2019: “Dicas do Sommelier\, da degustação a compra certa!”\, que acontecerá no dia 30 de maio\, em São Paulo\, no Show Room da Marel Design Mobili\, no Jardim América. \n
URL:https://agendadovinho.com.br/event/dicas-do-sommelier-da-degustacao-a-compra-certa/
LOCATION:Show Room Marel Design Mobili\, Al. Gabriel Monteiro da Silva\, 1903\, Jd. América\, São Paulo\, SP\, Brasil
CATEGORIES:Jantar harmonizado,SP - São Paulo
ATTACH;FMTTYPE=image/jpeg:https://agendadovinho.com.br/wp-content/uploads/2019/05/FOTO-MARCOS-MESQUITA-156.jpg
END:VEVENT
BEGIN:VEVENT
DTSTART;TZID=America/Sao_Paulo:20190530T190000
DTEND;TZID=America/Sao_Paulo:20190530T190000
DTSTAMP:20260419T145332
CREATED:20190518T152510Z
LAST-MODIFIED:20190518T152510Z
UID:3867-1559242800-1559242800@agendadovinho.com.br
SUMMARY:Festa de 4 anos do Eataly
DESCRIPTION:Uma belíssima noite será dedicada ao próximo aniversário do Eataly! \nNo dia 30/05/2019\, teremos uma grande comemoração com um tema inédito\, o ”Baile de mascaras Veneziano”\, no primeiro e segundo andar abertos apenas para você que irá participar da festa. \nNessa festa teremos grande variedades de bares\, atrações\, comidas e claro muita música boa… tudo incluso! \nFESTA 4 ANOS EATALY \n30/05/2019 das 19h ás 00h \nOpen Food & Open Drink \nTraje: \n–Social \n–Obrigatório vir com mascara \nIngressos: \n2º Lote – R$230\,00 \nComidas típicas de Venezia: \n1 – Carpaccio de carne a la Cipriani \n(Clássico carpaccio de carne com molho à base gema\, mostarda e azeite) \n2 – Risoto de rabada com vinho tinto \n(Arroz Vialone Nano cozido com ragú de rabada e vinho tinto\, finalizado com grana padano e manteiga) \n3 – Fricandó \n(Carne assada com presunto cru\, anchova e legumes) \n4 – Carpaccio de Atum a la Cipriani \n(Carpaccio de atum fresco com clássico molho à base de gemas\, mostarda e azeite) \n5 – Sardinha in saor \n(Sardinhas fritas e marinadas com vinagre\, açúcar\, uvas passas e pinoles) \n6 – Peixe branco a la vicentina \n(Peixe assado com molho de cebola\, anchova\, salsinha\, leite e grana padano) \n7 – Calamari i Cozze in umido con polenta \n(Lulas e mexilhões frescos cozidos com molho de tomate\, servidos com polenta cremosa) \n(Lulas frescas cozidas com a própria tinta\, servidas com polenta cremosa) \n8 – Ravióli nero de bacalhau \n(Massa fresca com tinta de lula recheada com bacalhau confitado) \n9 – Pasta com ragú de pato \n(Massa seca servida com molho à base de pato e legumes) \n10 – Risi e bisi \n(Clássico risoto feito com arroz Vialone nano\, ervilhas e pancetta) \n11 – Pizza margherita Verace \n12 – Pizza Rossopomodoro \n13 – Pizza marinara Napoletana \n14 – Polenta cremosa con nero di sepia \n15 – Baccalà alla vicentina \n16 – Crostini de prosciutto\, mozzarella e pomodori sechi \n17 – Mozzarella in carrozza \n18 – Pasta na forma de queijo \n(Bucatini All’Amatriciana) \n* Bolo especial de aniversário criado pela Venchi \n– Gelatos: diversos sabores \n– Tiramissú \n– Chiacchiera: Doce veneziano a base de farinha\, frito e coberto com açucar de confeiteiro \nBebidas: \n–  Bares de Spirits \n–  Bares de vinhos italianos \n– Bares de cervejas artesanais \n– Todas as bebidas sem álcool como água\, café\, sucos etc. \nAtrações: \n– 2 bandas ao vivo \n– 2 DJs para animar a pista de dança \n– Photo op com gondola Veneziana \n– E muito mais \n*Crianças com até 5 anos de idade não será cobrado o ingresso. \nCANCELAMENTOS E REEMBOLSOS: \nO Eataly reserva-se o direito de alterar as datas ou cancelar o evento\, caso o número de participantes não atinja o mínimo previsto\, avisando os participantes com antecedência. \nEm caso de cancelamento\, por parte do cliente\, favor enviar um e-mail para cursos@eataly.com.br com no mínimo 48h de antecedência do evento adquirido\, a remarcação será analisada de acordo com a disponibilidade de vagas no curso de interesse. \nSomente serão aceitas solicitações através do e-mail e dentro do prazo. \nCaso entre em contato com no mínimo 48 horas de antecedência o Eataly devolverá o valor integral. Após este prazo fica impossibilitado o cancelamento assim como o estorno do valor ou troca de evento. \nTe esperamos! \nDúvidas: \n(11)95648-5682 / cursos@eataly.com.br \n  \n
URL:https://agendadovinho.com.br/event/festa-de-4-anos-do-eataly/
LOCATION:Eataly\, Avenida Presidente Juscelino Kubitschek\, 1489\, São Paulo\, SP\, Brasil
CATEGORIES:Outros,SP - São Paulo
ATTACH;FMTTYPE=image/png:https://agendadovinho.com.br/wp-content/uploads/2019/05/4-anos-eataly_300519.png
END:VEVENT
BEGIN:VEVENT
DTSTART;TZID=America/Sao_Paulo:20190530T190000
DTEND;TZID=America/Sao_Paulo:20190530T220000
DTSTAMP:20260419T145332
CREATED:20190529T153434Z
LAST-MODIFIED:20190529T153434Z
UID:4272-1559242800-1559253600@agendadovinho.com.br
SUMMARY:Ícones Italianos
DESCRIPTION:Venha degustar os Ícones italianos!! \nReservas: contato@alexandracorvo.com.br \n
URL:https://agendadovinho.com.br/event/icones-italianos/
LOCATION:Ciclo Das Vinhas\, Rua Artur de Azevedo\, 502\, São Paulo\, SP\, Brasil
CATEGORIES:Curso técnico,SP - São Paulo
ATTACH;FMTTYPE=image/jpeg:https://agendadovinho.com.br/wp-content/uploads/2019/05/icones-italianos_300519.jpg
END:VEVENT
BEGIN:VEVENT
DTSTART;TZID=America/Sao_Paulo:20190530T193000
DTEND;TZID=America/Sao_Paulo:20190530T193000
DTSTAMP:20260419T145332
CREATED:20190529T150720Z
LAST-MODIFIED:20190529T150720Z
UID:4258-1559244600-1559244600@agendadovinho.com.br
SUMMARY:Degustação de vinhos da Toscana
DESCRIPTION:Não perca a oportunidade – vagas limitadas! R$ 149\,00 com credito de R$ 40\,00 na compra de qualquer vinho da VINDAME. \n
URL:https://agendadovinho.com.br/event/degustacao-de-vinhos-da-toscana/
LOCATION:Casa Vindame\, Rua Pascoal Pais\, 50 - Vila Cordeiro\, São Paulo\, SP\, 04581-060\, Brasil
CATEGORIES:Degustação limitada,SP - São Paulo
ATTACH;FMTTYPE=image/jpeg:https://agendadovinho.com.br/wp-content/uploads/2019/05/vinhos-da-toscana_300519.jpg
END:VEVENT
BEGIN:VEVENT
DTSTART;TZID=America/Sao_Paulo:20190530T200000
DTEND;TZID=America/Sao_Paulo:20190530T230000
DTSTAMP:20260419T145332
CREATED:20190428T224019Z
LAST-MODIFIED:20190428T224019Z
UID:2799-1559246400-1559257200@agendadovinho.com.br
SUMMARY:Noite da Raclette
DESCRIPTION:Venha ter uma experiencia única! \nUma noite com um prato tradicional e tipico da Suíça Raclette\, um prato cheio de sabor\, acompanhado de uma deliciosa taça de vinho\, será uma noite inesquecível. \nInvestimento: \n50 reais: uma porção de raclette com 2 taças de vinhos a escolha ( 150 ml de vinho por taça) \nIndividual 40 reais: uma porção de raclette com 1 taça de vinhos a escolha. ( 150 ml de vinho por taça) \nVinho Brancos \nChardonnay Promesa -Chile \nCancellus Premium Douro Portugues \nVinhos tintos: \nL.Tramier Côtes de Rhone França \nOld Vines in Young Hands Douro Portugal \ndas 20h ás 23H \nonde: \nCave Suíça \nRua João ramalho 1392 – Perdizes \n
URL:https://agendadovinho.com.br/event/noite-da-raclette-4/
LOCATION:Cave Suíça\, Rua João Ramalho\, 1392\, São Paulo\, SP\, Brasil
CATEGORIES:Degustação limitada,SP - São Paulo
ATTACH;FMTTYPE=image/jpeg:https://agendadovinho.com.br/wp-content/uploads/2019/04/cave-suica_250419-e1556068309559.jpg
END:VEVENT
BEGIN:VEVENT
DTSTART;TZID=America/Sao_Paulo:20190530T200000
DTEND;TZID=America/Sao_Paulo:20190530T200000
DTSTAMP:20260419T145332
CREATED:20190507T204205Z
LAST-MODIFIED:20190507T204536Z
UID:3349-1559246400-1559246400@agendadovinho.com.br
SUMMARY:Grand Hyatt Wine Club - Vinhos da África do Sul
DESCRIPTION:Participe da edição especial do Wine Club no dia 30 de maio de 2019 (quinta-feira) às 20h –  Vinhos da África do Sul –  R$ 220 por pessoa. \nCom mais de 600 vinícolas espalhadas pelo país\, a África do Sul está entre as 10 maiores produtoras do mundo\, sendo dona de vinhos elegantes e ao mesmo tempo potentes. Os primeiros vinhedos do país foram plantados no começo do século XVII\, e obtiveram grande impulso por conta da presença de imigrantes na região do Cabo. Serão mais de 50 vinhos sul-africanos acompanhados por um menu de petiscos que terá como influência também a culinária do país. \nDestaque para a uva Pinotage (1925)\, que foi criada na África do Sul e é originária de um cruzamento entre a Pinot Noir e a Cinsault. \nEstá preparado para aprender muito mais sobre os vinhos sul-africanos? Não fique de fora dessa experiência exclusiva! \n
URL:https://agendadovinho.com.br/event/grand-hyatt-wine-club-vinhos-da-africa-do-sul/
LOCATION:Grand Hyatt Sao Paulo\, Av. das Nações Unidas\, 13301 - Itaim Bibi\, São Paulo - SP\, 04578-000\, São Paulo\, SP\, 04578-000\, Brasil
CATEGORIES:Degustação livre,SP - São Paulo
ATTACH;FMTTYPE=image/jpeg:https://agendadovinho.com.br/wp-content/uploads/2019/05/hyatt_300519.jpg
END:VEVENT
BEGIN:VEVENT
DTSTART;TZID=America/Sao_Paulo:20190530T200000
DTEND;TZID=America/Sao_Paulo:20190530T200000
DTSTAMP:20260419T145332
CREATED:20190530T173434Z
LAST-MODIFIED:20190530T173434Z
UID:4330-1559246400-1559246400@agendadovinho.com.br
SUMMARY:Wine Dinner Coppo
DESCRIPTION:A vinícola responsável pela fabricação do Pomorosso\, um dos maiores vinhos tintos da Itália. Coppo é uma das mais antigas vinícolas familiares da Itália\, com uma história que remonta às adegas subterrâneas do século XVIII\, reconhecidas como patrimônio histórico da humanidade pela Unesco. \nConvidamos você a participar do nosso próximo Wine Dinner\, um jantar harmonizado com vinhos do início ao fim\, uma verdadeira experiência gastronômica. \nUma história cheia de tradição e sabor\, que será contada por Luigi Coppo nesta noite. Acesse o menu http://bit.ly/wine-dinner-coppo \nDia 30/05 (quinta-feira) às 20h\nConvite: R$ 290\,00 por pessoa\n📍 Av. Major Sílvio de Magalhães Padilha\, 16671 – Morumbi\, São Paulo\nPara fazer sua reserva\, fale conosco: ☎ (11) 3755-5550 ou WhatsApp (11) 99903-2574 \n
URL:https://agendadovinho.com.br/event/wine-dinner-coppo/
LOCATION:Wine House Baby Beef\, Av. Major Sílvio de Magalhães Padilha\, 16671 - Morumbi\, São Paulo\, SP\, 05693-000\, Brasil
CATEGORIES:Jantar harmonizado,SP - São Paulo
ATTACH;FMTTYPE=image/jpeg:https://agendadovinho.com.br/wp-content/uploads/2019/05/wine-dinner-coppo_300519.jpg
END:VEVENT
END:VCALENDAR