BEGIN:VCALENDAR
VERSION:2.0
PRODID:-//Agenda do Vinho - ECPv4.9.0//NONSGML v1.0//EN
CALSCALE:GREGORIAN
METHOD:PUBLISH
X-WR-CALNAME:Agenda do Vinho
X-ORIGINAL-URL:https://agendadovinho.com.br
X-WR-CALDESC:Eventos para Agenda do Vinho
BEGIN:VEVENT
DTSTART;TZID=America/Sao_Paulo:20190525T160000
DTEND;TZID=America/Sao_Paulo:20190525T160000
DTSTAMP:20260419T161845
CREATED:20190423T194104Z
LAST-MODIFIED:20190423T194104Z
UID:2450-1558800000-1558800000@agendadovinho.com.br
SUMMARY:Básico do Básico do Básico com Alexandra Corvo
DESCRIPTION:Para você que ADORA VINHO\, mas fica meio perdido pra entender o que influencia os estilos dos vinhos. Conteúdo dinâmico e degustação deliciosamente ilustrativa com 4 vinhos. \nFundada por Alexandra Corvo\, o Ciclo das vinhas visa difundir a cultura do vinho com muito conteúdo e práticas de degustação. \nCom aulas diárias para diferentes níveis e temas diversos. Temos aulas para iniciantes\, que contemplam desde a técnica de degustação até aulas de formação profissional. \nTodas as aulas contam com degustação e algumas contemplam harmonização. Alinhado com esta visão\, a escola abriga a maior e mais importante biblioteca e livraria especializada no tema\, além de um balcão com vinhos em taça escolhidos pela Alexandra. \nPolítica de cancelamento \nAté 7 dias úteis antes do início da aula/curso. \nApós esse período\, o valor da inscrição não será reembolsável ou transferível para outros cursos. \nEm caso de falta\, não há possibilidade de reposição \nDúvidas \n(11) 32843626 ou 963096432 \ncontato@alexandracorvo.com.br \nContato para problemas técnicos durante a compra: \ncontato@foodpass.com.br \n
URL:https://agendadovinho.com.br/event/basico-do-basico-do-basico-com-alexandra-corvo/
LOCATION:Ciclo Das Vinhas\, Rua Artur de Azevedo\, 502\, São Paulo\, SP\, Brasil
CATEGORIES:Curso técnico,SP - São Paulo
ATTACH;FMTTYPE=image/jpeg:https://agendadovinho.com.br/wp-content/uploads/2019/04/laboratorio_020519-e1556067037432.jpg
END:VEVENT
BEGIN:VEVENT
DTSTART;TZID=UTC-3:20190525T190000
DTEND;TZID=UTC-3:20190525T203000
DTSTAMP:20260419T161845
CREATED:20190420T231957Z
LAST-MODIFIED:20190420T233050Z
UID:2264-1558810800-1558816200@agendadovinho.com.br
SUMMARY:Luís Pato Winegrower - Com Flavio Ghirotti
DESCRIPTION:Luis Pato é uma verdadeira lenda em Portugal\, o “revolucionário da Bairrada”\, que domesticou a casta Baga e transformou os vinhos da região em alguns dos melhores\, mais finos\, estruturados e complexos exemplares do país. \n
URL:https://agendadovinho.com.br/event/luis-pato-winegrower-com-flavio-ghirotti/
LOCATION:Pão de Açúcar Adega\, Rua Augusta\, 2710\, São Paulo\, SP\, Brasil
CATEGORIES:Degustação livre,SP - São Paulo
ATTACH;FMTTYPE=image/jpeg:https://agendadovinho.com.br/wp-content/uploads/2019/04/pao-de-acucar-adega-e1556067472626.jpg
END:VEVENT
BEGIN:VEVENT
DTSTART;TZID=America/Sao_Paulo:20190525T190000
DTEND;TZID=America/Sao_Paulo:20190525T220000
DTSTAMP:20260419T161845
CREATED:20190519T142626Z
LAST-MODIFIED:20190519T142626Z
UID:3881-1558810800-1558821600@agendadovinho.com.br
SUMMARY:Masterclass - Degustação de Grandes Rótulos Italianos
DESCRIPTION:Masterclass: Degustação – Grandes nomes italianos. – A degustação é aberta ao público geral é será uma grande oportunidade para conhecer um pouco mais sobre a história dos vinhos italianos e também dos grandes nomes da vitivinicultura mundial como Angelo Gaja\, Biondi Santi e Giulio Ferrari.\nSerão degustados 8 vinhos de diferentes regiões italianas.\n1 aula\nCarga horária total: 3 horas\nDegustação de 8 vinhos conforme especificado pela Sommelier School – Ferrari Maximum – Produtor Giulio Ferrari – Região Trento. \n– Grechetto – Produtor Castello di Magione – Região Umbria \n– Nerello Mascalese – Produtor IL Padrinho – Região Sicília .\n– Montepulciano d’Abruzzo – Produtor Itinera – Região Abruzzo \n– Aglianico Irpinia – Produtor Villa Raiano – Região Campanha .\n– Sassoarollo – Produtor Jacob Biondi Santi – Região Toscana .\n– Promis – Produtor Angelo Gaja – Região Toscana .\n– Vin Santo – Produtor Rocca delle Macie – Toscana .\nVagas limitadas. \nReserva mediante pagamento.\nInscrições e maiores informações pelo site .\nhttps://www.sommelierschool.com.br/categoria-produto/cursos/masterclass/ \n
URL:https://agendadovinho.com.br/event/masterclass-degustacao-de-grandes-rotulos-italianos/
LOCATION:Ville du Vin – Itaim Bibi\, R. Leopoldo Couto de Magalhães Júnior\, 490 - Itaim Bibi\, São Paulo\, SP\, 04532-012\, Brasil
CATEGORIES:Curso técnico,SP - São Paulo
ATTACH;FMTTYPE=image/jpeg:https://agendadovinho.com.br/wp-content/uploads/2019/05/masterclass_250519.jpg
END:VEVENT
BEGIN:VEVENT
DTSTART;TZID=America/Sao_Paulo:20190525T193000
DTEND;TZID=America/Sao_Paulo:20190525T230000
DTSTAMP:20260419T161845
CREATED:20190518T150612Z
LAST-MODIFIED:20190518T150612Z
UID:3853-1558812600-1558825200@agendadovinho.com.br
SUMMARY:Experimento - Roteiro multissensorial
DESCRIPTION:\nEXPERIMENTO\n\n\n \n\n\nUm roteiro multissensorial onde obras de arte são harmonizadas com uma deliciosa degustação de vinhos guiado pelo artista Ca Cau e a Sommelière Renata Guidoti de uma forma lúdica\, poética e sensorial\,promovendo um conhecimento mais profundo e entusiasta em relação ao vinho e não somente um aprendizado técnico para harmonizações\, mas uma real aproximação\, dentro de uma percepção diferente de experiência\, proporcionando entre seus participantes: diálogos\, conexões\, sensações\,descobertas…afeto! Uma vivência única dentro de uma galeria de arte contemporânea\, com pinturas\, poesia\, objetos\, vídeo instalação\, cores\, aromas\, sons… e durante todo o trajeto várias formas de estímulos são provocados nos dando a oportunidade de explorar o sensorial e estimular novas percepções em um momento de entrega ao mundo fantástico de vinho e da arte!\n\n\n \n\n\nROTEIRO:\n\n\n19:30 Hrs: Abertura do Atelier com Welcome Drink\n\n\n20:00 Hrs: Início pontualmente da Harmonização\n\n\nRoteiro multissesorial\, com poesia\, arte\, Pocket show do Ca Cau Artista\, vinho e diálogos.\n\n\n23:00 Hrs: Encerramento\n\n\n \n\n\nSOMENTE INGRESSO ANTECIPADO:\n\n\nValor R$ 60\,00 – O valor inclui todo roteiro\, 5 ambientes\, 5 rótulos de vinho (1 taça para cada ambiente)\, café de encerramento e patês.\n\n\n \n\n\nCapacidade: 30 pessoas\n\n\n \n\n\nDúvidas e ou Sugestões \n\n\nTravessia Produções\n\n\n11 2362- 2363\n\n\n11 9 9629-6652 (whatsapp) \n\n\nateliertravessia@gmail.com \n\n\n \n\n\nMuita luz e poesia!\n\n
URL:https://agendadovinho.com.br/event/experimento-roteiro-multissensorial/
LOCATION:Atelier Travessia\, Rua Minas Gerais\, 201\, Higienópolis\, São Paulo\, SP\, Brasil
CATEGORIES:Outros,SP - São Paulo
ATTACH;FMTTYPE=image/jpeg:https://agendadovinho.com.br/wp-content/uploads/2019/05/experimento_250519.jpg
END:VEVENT
END:VCALENDAR