BEGIN:VCALENDAR
VERSION:2.0
PRODID:-//Agenda do Vinho - ECPv4.9.0//NONSGML v1.0//EN
CALSCALE:GREGORIAN
METHOD:PUBLISH
X-WR-CALNAME:Agenda do Vinho
X-ORIGINAL-URL:https://agendadovinho.com.br
X-WR-CALDESC:Eventos para Agenda do Vinho
BEGIN:VEVENT
DTSTART;TZID=America/Sao_Paulo:20190522T193000
DTEND;TZID=America/Sao_Paulo:20190522T223000
DTSTAMP:20260419T162006
CREATED:20190509T001623Z
LAST-MODIFIED:20190509T001623Z
UID:3399-1558553400-1558564200@agendadovinho.com.br
SUMMARY:Novo Mundo
DESCRIPTION:Um “passeio” pelo novo mundo com degustação dos vinhos das principais regiões produtoras. Vagas limitadas!\n*Não incluso jantar \nPanorama sobre os países do Novo Mundo\, suas histórias\, terroirs\, e degustação de 10 vinhos que bem representam essas regiões. \n
URL:https://agendadovinho.com.br/event/novo-mundo/
LOCATION:Grand Cru Moema\, Alameda dos Nhambiquaras\, 614 - Moema\, São Paulo - SP\, 04090-001\, São Paulo\, SP\, 04090-001
CATEGORIES:Curso técnico,SP - São Paulo
ATTACH;FMTTYPE=image/png:https://agendadovinho.com.br/wp-content/uploads/2019/05/novo-mundo_220519.png
END:VEVENT
BEGIN:VEVENT
DTSTART;TZID=America/Sao_Paulo:20190522T193000
DTEND;TZID=America/Sao_Paulo:20190522T220000
DTSTAMP:20260419T162006
CREATED:20190517T180227Z
LAST-MODIFIED:20190517T180227Z
UID:3827-1558553400-1558562400@agendadovinho.com.br
SUMMARY:ConfraDellas - Confraria Feminina do Museu do Vinho de São Paulo
DESCRIPTION:Jantar harmonizado em quatro tempos (entrada\, dois pratos principais e sobremesa)\n\n\nEntrada\nMuçarela de búfala com tomate sweet e prato de manjericão\n\nPratos principais\nAgnolotti recheado com alho poro e molho de ricota defumada\nPolentinha rústica e tostada com ragu de osso buco\n\nSobremesa \nBolo três lenhes\n\n\nQuatro  tipo de vinhos da Sonoma.\nSorteio de brindes.\n\n\n
URL:https://agendadovinho.com.br/event/confradellas-confraria-feminina-do-museu-do-vinho-de-sao-paulo/
LOCATION:Espaço Museu do Vinho de São Paulo\, Rua Minas Gerais\, 246\, São Paulo\, SP\, Brasil
CATEGORIES:Jantar harmonizado,SP - São Paulo
ATTACH;FMTTYPE=image/jpeg:https://agendadovinho.com.br/wp-content/uploads/2019/05/confra-dellas_220519.jpg
END:VEVENT
BEGIN:VEVENT
DTSTART;TZID=America/Sao_Paulo:20190522T200000
DTEND;TZID=America/Sao_Paulo:20190522T220000
DTSTAMP:20260419T162006
CREATED:20190507T161627Z
LAST-MODIFIED:20190507T161627Z
UID:3304-1558555200-1558562400@agendadovinho.com.br
SUMMARY:Vinhos Brasileiros na A Bruncheria
DESCRIPTION:A diversidade climática típica de um país continental e a criatividade do brasileiro\, conhecido pela capacidade de reinventar tudo\, levaram o país a alcançar uma vitivinicultura completamente original. Os rótulos feitos aqui são alegres\, jovens\, autênticos\, antenados e focados nas pessoas que procuram uma vida mais feliz e são atentas a novas experiências. É por isso que os vinhos brasileiros têm a cara do Brasil. \nVenha participar da desgustação Vinhos do Brasil na A Bruncheria e se aprofundar no mundo do vinho nacional. \nVocê vai se surpreender! \n
URL:https://agendadovinho.com.br/event/vinhos-brasileiros-na-a-bruncheria/
LOCATION:A Bruncheria\, Av. Padre Antônio José dos Santos\, 1066\, São Paulo\, SP\, Brasil
CATEGORIES:Degustação limitada,SP - São Paulo
ATTACH;FMTTYPE=image/jpeg:https://agendadovinho.com.br/wp-content/uploads/2019/05/vinhos-brasileiros_220519.jpg
END:VEVENT
BEGIN:VEVENT
DTSTART;TZID=America/Sao_Paulo:20190522T200000
DTEND;TZID=America/Sao_Paulo:20190522T200000
DTSTAMP:20260419T162006
CREATED:20190517T181713Z
LAST-MODIFIED:20190517T181713Z
UID:3844-1558555200-1558555200@agendadovinho.com.br
SUMMARY:Curso Simples de Introdução aos Vinhos
DESCRIPTION:Temos uma nova edição do nosso Curso Simples de Introdução ao Vinho!\nComo nos cursos anteriores\, falaremos de taninos\, de rolhas\, de diferentes regiões\, mas o foco não é sair especialista e sim um amador mais treinado\, capaz de sentir melhor os aromas e sabores dos vinhos. 🍷 \nInscrições: adm@vinhoepasta.com.br \n
URL:https://agendadovinho.com.br/event/curso-simples-de-introducao-aos-vinhos/
LOCATION:Ravin Vinho & Pasta\, R. Dr. Melo Alves\, 498 - Cerqueira César\, São Paulo - SP\, 01417-010\, São Paulo\, SP\, 01417-010\, Brasil
CATEGORIES:Curso técnico,SP - São Paulo
ATTACH;FMTTYPE=image/jpeg:https://agendadovinho.com.br/wp-content/uploads/2019/05/introducao-aos-vinhos_220519.jpg
END:VEVENT
END:VCALENDAR