BEGIN:VCALENDAR
VERSION:2.0
PRODID:-//Agenda do Vinho - ECPv4.9.0//NONSGML v1.0//EN
CALSCALE:GREGORIAN
METHOD:PUBLISH
X-WR-CALNAME:Agenda do Vinho
X-ORIGINAL-URL:https://agendadovinho.com.br
X-WR-CALDESC:Eventos para Agenda do Vinho
BEGIN:VEVENT
DTSTART;TZID=America/Sao_Paulo:20190511T110000
DTEND;TZID=America/Sao_Paulo:20190511T203000
DTSTAMP:20260419T161855
CREATED:20190428T230442Z
LAST-MODIFIED:20190428T230442Z
UID:2818-1557572400-1557606600@agendadovinho.com.br
SUMMARY:A casa é tua!
DESCRIPTION:Um novo conceito em compras que veio para ficar. \nEvento de moda\, lifestyle\, design\, workshop e gourmet. \nÉ a 14° edição do evento A casa é tua! espera te receber para conhecer um conjunto de expositores selecionados de alto nível unindo diversão\, cultura\, gourmet\, vinhos\, musica\, moda e vários workshops. \nEssa edição terá uma área gourmet com lançamentos que não se encontra no mercado\, inclusive vinhos e queijos que são exclusivos. \nVenha brindar com a gente! \nEntrada: doação espontânea para instituição cristo salva. \nVallet no local. \n
URL:https://agendadovinho.com.br/event/a-casa-e-tua-3/
LOCATION:Casa Miracolli\, R. Colômbia\, 84 - Jardim Paulista\, São Paulo - SP\, 01438-000\, São Paulo\, SP\, 01438-000
CATEGORIES:Outros,SP - São Paulo
ATTACH;FMTTYPE=image/jpeg:https://agendadovinho.com.br/wp-content/uploads/2019/04/a-casa-e-tua_090519.jpg
END:VEVENT
BEGIN:VEVENT
DTSTART;TZID=America/Sao_Paulo:20190511T170000
DTEND;TZID=America/Sao_Paulo:20190511T190000
DTSTAMP:20260419T161855
CREATED:20190510T174958Z
LAST-MODIFIED:20190510T174958Z
UID:3508-1557594000-1557601200@agendadovinho.com.br
SUMMARY:Degustação especial com vinhos Bellaquinta
DESCRIPTION:Neste sábado 11/5\, véspera de Dia das Mães\, a JM Wines terá uma degustação especial com o Gustavo Borges\, enólogo da vinícola Bella Quinta! A Bella Quinta tem uma belíssima produção de vinhos tanto em São Roque como no Rio Grande do Sul. Traga sua mama e amigos e venha provar umas tacinhas com a gente. \n
URL:https://agendadovinho.com.br/event/degustacao-especial-com-vinhos-bellaquinta/
LOCATION:Shopping Cidade São Paulo\, Av. Paulista\, 1230 - Bela Vista\, São Paulo - SP\, 01310-100\, São Paulo\, SP\, 01310-100\, Brasil
CATEGORIES:Degustação livre,SP - São Paulo
ATTACH;FMTTYPE=image/jpeg:https://agendadovinho.com.br/wp-content/uploads/2019/05/degustacao-bellaquinta_110519.jpg
END:VEVENT
BEGIN:VEVENT
DTSTART;TZID=America/Sao_Paulo:20190511T173000
DTEND;TZID=America/Sao_Paulo:20190511T200000
DTSTAMP:20260419T161855
CREATED:20190501T203017Z
LAST-MODIFIED:20190501T203017Z
UID:2983-1557595800-1557604800@agendadovinho.com.br
SUMMARY:Workshop de Vinho - Feira Jabuticaba
DESCRIPTION:Um workshop para você que gosta de beber um bom vinho\, mas não sabe nem por onde começar ; )\n \nGuiado pelo sommelier Fernando Rodrigues\, a degustação será acompanhada de pães\, queijos\, chocolates e outros produtos dos próprios expositores da feira! Como se não bastasse\, você ainda receberá de presente uma garrafa de vinho escolhida a dedo pelo nosso sommelier e de acordo com as suas preferências. \n \nInvestimento total: R$170\,00 + R$ 17\,00 (taxa)\n
URL:https://agendadovinho.com.br/event/workshop-de-vinho-feira-jabuticaba/
LOCATION:AKQA\, Rua dos Macunis\, 455\, Vila Madalena\, São Paulo\, SP\, Brasil
CATEGORIES:Curso técnico,SP - São Paulo
ATTACH;FMTTYPE=image/jpeg:https://agendadovinho.com.br/wp-content/uploads/2019/04/imagem3.jpg
END:VEVENT
BEGIN:VEVENT
DTSTART;TZID=UTC-3:20190511T190000
DTEND;TZID=UTC-3:20190511T203000
DTSTAMP:20260419T161855
CREATED:20190420T153839Z
LAST-MODIFIED:20190420T191326Z
UID:2245-1557601200-1557606600@agendadovinho.com.br
SUMMARY:Bodega Catena Zapata - Com Marcelo Vilhena
DESCRIPTION:Catena Zapata é indiscutivelmente o melhor e mais reverenciado produtor da Argentina\, na opinião unânime de toda a imprensa especializada internacional\, de quem recebe sempre as melhores notas e prêmios. \nPara a Wine Spectator\, trata-se do “líder inquestionável de qualidade na Argentina” e\, para o prestigiado Robert Parker\, “Catena representa o máximo em vinhos da América do Sul”. \n
URL:https://agendadovinho.com.br/event/bodega-catena-zapata-com-marcelo-vilhena/
LOCATION:Pão de Açúcar Adega\, Rua Augusta\, 2710\, São Paulo\, SP\, Brasil
CATEGORIES:Degustação livre,SP - São Paulo
ATTACH;FMTTYPE=image/jpeg:https://agendadovinho.com.br/wp-content/uploads/2019/04/pao-de-acucar-adega-e1556067472626.jpg
END:VEVENT
BEGIN:VEVENT
DTSTART;TZID=UTC-3:20190511T200000
DTEND;TZID=UTC-3:20190511T230000
DTSTAMP:20260419T161855
CREATED:20190422T034556Z
LAST-MODIFIED:20190422T034556Z
UID:2309-1557604800-1557615600@agendadovinho.com.br
SUMMARY:Master Class - Bourdeaux
DESCRIPTION:Master Class Bordeaux \nVenha provar e conhecer mais sobre essa região.\n6 rótulos de vinho da região sendo harmonizados com queijos e charcutaria. \nRótulos de vinhos a serem degustados: \nChâteau Barrail Meyney AOC Bordeaux 2016 \nChâteau Bidonnet Laffitte AOC Bordeaux 2016 \nChâteau Franc AOC Saint-Emilion Grand Cru 2014 \nLe Haut Médoc de Giscours AOC Haut Médoc 2014. \nChâteau Le Doyenné AOC Côtes de Bordeaux 2012 \nChâteau du Taillan AOC Haut Médoc 2012 \nInvestimento: \n60 reais por pessoa \n
URL:https://agendadovinho.com.br/event/master-class-bourdeaux/
LOCATION:Cave Suíça\, Rua João Ramalho\, 1392\, São Paulo\, SP\, Brasil
CATEGORIES:Degustação limitada,SP - São Paulo
ATTACH;FMTTYPE=image/jpeg:https://agendadovinho.com.br/wp-content/uploads/2019/04/cave-suica_110519-e1556068348960.jpg
END:VEVENT
END:VCALENDAR