BEGIN:VCALENDAR
VERSION:2.0
PRODID:-//Agenda do Vinho - ECPv4.9.0//NONSGML v1.0//EN
CALSCALE:GREGORIAN
METHOD:PUBLISH
X-WR-CALNAME:Agenda do Vinho
X-ORIGINAL-URL:https://agendadovinho.com.br
X-WR-CALDESC:Eventos para Agenda do Vinho
BEGIN:VEVENT
DTSTART;TZID=America/Sao_Paulo:20190504T110000
DTEND;TZID=America/Sao_Paulo:20190504T220000
DTSTAMP:20260419T161605
CREATED:20190427T135554Z
LAST-MODIFIED:20190427T135554Z
UID:2725-1556967600-1557007200@agendadovinho.com.br
SUMMARY:Feira de vinhos do DEGUSTASP
DESCRIPTION:No fim de semana de abertura do DEGUSTA SP\, nos dias 03\, 04 e 05 de maio\, o Museu do Vinho de São Paulo\, recebe uma feira de Vinhos\, com alguns dos melhores importadores e importadores do país. \nO espaço enocultural terá degustações\, foodpoints com comidinhas\, música ao vivo e uma venda especial de vinhos em taças e garrafas a preços promocionais. \nO Art Wine trará um time de artistas para pintar telas com motivos do mundo do deus Baco. \nSexta dia 3/05\, das 18h00 às 22h00 \nSábado dia 4/05\, das 11h00 às 22h00 \nDomingo dia 05/05\, das 11h00 às 20h00 \n
URL:https://agendadovinho.com.br/event/feira-de-vinhos-do-degustasp-2/
LOCATION:Espaço Museu do Vinho de São Paulo\, Rua Minas Gerais\, 246\, São Paulo\, SP\, Brasil
CATEGORIES:Outros,SP - São Paulo
ATTACH;FMTTYPE=image/jpeg:https://agendadovinho.com.br/wp-content/uploads/2019/04/feira-de-vinhos_030519-e1556067053931.jpg
END:VEVENT
BEGIN:VEVENT
DTSTART;TZID=UTC-3:20190504T120000
DTEND;TZID=UTC-3:20190504T160000
DTSTAMP:20260419T161605
CREATED:20190420T103240Z
LAST-MODIFIED:20190420T191348Z
UID:2190-1556971200-1556985600@agendadovinho.com.br
SUMMARY:2º Festival de Vinhos
DESCRIPTION:2º festival de vinho da Adega Pão de açúcar. \nComprando uma taça Finlandek na loja física da Adega (Rua Augusta\, 2710)\, ganhe um ingresso para participar do evento. \nSerão mais de 20 rótulos de vinhos e queijos para serem degustados e apreciados. \nA entrada será por grupos e por ordem de chegada. \n
URL:https://agendadovinho.com.br/event/2o-festival-de-vinhos/
LOCATION:Pão de Açúcar Adega\, Rua Augusta\, 2710\, São Paulo\, SP\, Brasil
CATEGORIES:Degustação livre,SP - São Paulo
ATTACH;FMTTYPE=image/jpeg:https://agendadovinho.com.br/wp-content/uploads/2019/04/pao-de-acucar-adega-e1556067472626.jpg
END:VEVENT
BEGIN:VEVENT
DTSTART;TZID=America/Sao_Paulo:20190504T120000
DTEND;TZID=America/Sao_Paulo:20190504T180000
DTSTAMP:20260419T161605
CREATED:20190430T140829Z
LAST-MODIFIED:20190430T140829Z
UID:2883-1556971200-1556992800@agendadovinho.com.br
SUMMARY:Vinho e Saúde Experience
DESCRIPTION:A @academianutricaoevinho e o @chorodavideira estão juntos para um super evento: \n– Degustação de 25 rótulos de vinho 🥂😱🍷 !!!!\n. – “Espaço Degustando ComSciência” com Masterclasses de: @rosanaraele(nutricionista)\, Leandro Baena\, o @chorodavideira (influenciador digital\, especialista em vinhos) e @gabrielraele(eleito melhor sommelier de vinhos de SP pela ABS-SP em 2018)\n. – Oportunidade de compra direta com os importadores e produtores presentes no evento 🙏🏻😊🍷 !!!! \nQuando 🤔 ??? . \nDia 4 de Maio\, Sábado das 12:00hs às 18:00hs 😎🥂 !!!! Onde 🛴 ??? . \nFleming’s Prime Steakhouse & Wine Bar : @flemingsbrasil 🍖🍷🇧🇷 !!!! . \nAvenida Cidade Jardim\, 318 – Jardim Paulistano (esquina da Faria Lima / Cidade Jardim / 9 de Julho) 🍾😎🥂 !!!! . \nQuanto 💳😊 ??? . \nR$150\,00 o ingresso\, onde R$50\,00 serão revertidos\, em compra de vinhos 🍷\, no dia do evento 😉 !!!! . \nInscrições pelo e-mail : .\nnutricaoevinho@gmail.com \nSerão 6 horas ⏰ com muita degustação 🍷\, unindo ciência e vinho\, em um ambiente acolhedor e descontraído. \n🍷 ESPERAMOS VOCÊS 🍷😁🇧🇷🥂🎸🛴 !!!! . \n
URL:https://agendadovinho.com.br/event/vinho-e-saude-experience/
LOCATION:Fleming’s Prime Steakhouse & Wine Bar\, Avenida Cidade Jardim\, 318 - Jardim Paulistano\, São Paulo\, SP\, Brasil
CATEGORIES:Degustação livre,SP - São Paulo
ATTACH;FMTTYPE=image/jpeg:https://agendadovinho.com.br/wp-content/uploads/2019/04/vinho-e-saude_040519.jpg
END:VEVENT
BEGIN:VEVENT
DTSTART;TZID=UTC-3:20190504T140000
DTEND;TZID=UTC-3:20190504T230000
DTSTAMP:20260419T161605
CREATED:20190422T034319Z
LAST-MODIFIED:20190422T034319Z
UID:2307-1556978400-1557010800@agendadovinho.com.br
SUMMARY:Degustação Especial Dia das Mães
DESCRIPTION:Degustação de vinhos dos dias mães \nNada melhor do que passar um tempo com uma pessoa tão importante e com bons vinhos a serem apreciados. \nRótulos de vinho que serão apresentados na degustação: \nBranco Loma Larga Sauvignon Blanc Chile\, e premiados descorchados93\, James suckling 91\, e Tim Atkin90 \nRose Loma Larga cabernet Franc Chile\, Premados 90 pontos Descorchados \nRose Avarizza uva Canari 2018 Mendonza Argentina (primeira vez no Brasil) \nBranco Cancellus Premium Douro Portugal \nTinto Old Vines in Young Hands Douro Portugal 2017 \nTinto L. TRamier & Fils Cotes de Rhone 2012 \nEspumante: Czarnobay Brut naciconal 90 pontos Descorchados \nEspumante Tosti Brut Grand Cuveé Veneto Italia \nEspumante Tosti Butterfly Moscato \, Veneto Italia \nEspumante Tosti DOCG Moscato Veneto Italia \nOs vinhos secos serão servidos acompanhados de mini raclette (um prato típico suíço) e os Espumantes doces serão servidos com fondue de chocolate. \n30 ml de cada rótulo de vinho. \nValor Individual: 60 reais \nmãe acompanhada: 30 reais \n
URL:https://agendadovinho.com.br/event/degustacao-especial-dia-das-maes/
LOCATION:Cave Suíça\, Rua João Ramalho\, 1392\, São Paulo\, SP\, Brasil
CATEGORIES:Degustação limitada,SP - São Paulo
ATTACH;FMTTYPE=image/jpeg:https://agendadovinho.com.br/wp-content/uploads/2019/04/cave-suica_040519-e1556068364747.jpg
END:VEVENT
BEGIN:VEVENT
DTSTART;TZID=America/Sao_Paulo:20190504T150000
DTEND;TZID=America/Sao_Paulo:20190504T170000
DTSTAMP:20260419T161605
CREATED:20190429T234530Z
LAST-MODIFIED:20190429T234530Z
UID:2879-1556982000-1556989200@agendadovinho.com.br
SUMMARY:Degustação de Vinhos Brasileiros Premium
DESCRIPTION:10 rótulos por apenas R$65\,00 por pessoa \nData: 04/05 \nLocal: Alvino Expert \nApenas 15 pessoas \nContato: (11) 5094-0921 \n  \n
URL:https://agendadovinho.com.br/event/degustacao-de-vinhos-brasileiros-premium/
LOCATION:Alvino Expert\, R. Dr. Samuel Pôrto\, 351 - cj 14 - Saúde\, São Paulo - SP\, 04054-010\, São Paulo\, SP\, 04054-010\, Brasil
CATEGORIES:Degustação limitada,SP - São Paulo
ATTACH;FMTTYPE=image/jpeg:https://agendadovinho.com.br/wp-content/uploads/2019/04/alvino-expert_040519.jpg
END:VEVENT
END:VCALENDAR