BEGIN:VCALENDAR
VERSION:2.0
PRODID:-//Agenda do Vinho - ECPv4.9.0//NONSGML v1.0//EN
CALSCALE:GREGORIAN
METHOD:PUBLISH
X-WR-CALNAME:Agenda do Vinho
X-ORIGINAL-URL:https://agendadovinho.com.br
X-WR-CALDESC:Eventos para Agenda do Vinho
BEGIN:VEVENT
DTSTART;TZID=UTC-3:20190502T080000
DTEND;TZID=UTC-3:20190502T210000
DTSTAMP:20260419T161605
CREATED:20190420T153332Z
LAST-MODIFIED:20190420T191413Z
UID:2243-1556784000-1556830800@agendadovinho.com.br
SUMMARY:Amarula e Codorniu - Especial Mães
DESCRIPTION:Venha você e traga sua mãe para uma degustação especial de Espumante Codorniu e Amarula. \n
URL:https://agendadovinho.com.br/event/amarula-e-codorniu-especial-maes/
LOCATION:Pão de Açúcar Adega\, Rua Augusta\, 2710\, São Paulo\, SP\, Brasil
CATEGORIES:Degustação livre,SP - São Paulo
ATTACH;FMTTYPE=image/jpeg:https://agendadovinho.com.br/wp-content/uploads/2019/04/pao-de-acucar-adega-e1556067472626.jpg
END:VEVENT
BEGIN:VEVENT
DTSTART;TZID=America/Sao_Paulo:20190502T170000
DTEND;TZID=America/Sao_Paulo:20190502T170000
DTSTAMP:20260419T161605
CREATED:20190430T215022Z
LAST-MODIFIED:20190430T215022Z
UID:2946-1556816400-1556816400@agendadovinho.com.br
SUMMARY:Degustação especial de Vinhos Neozelandeses
DESCRIPTION:No próximo dia 2\, quinta-feira\, às 17 horas\, teremos degustação especial de vinhos da Nova Zelândia\, como parte das comemorações do Sauvignon Blanc Day\, que acontece dia 3. A atividade é aberta a sócios e sommeliers já formados ou que atualmente frequentem os cursos da ABS-SP. \n  \n
URL:https://agendadovinho.com.br/event/degustacao-especial-de-vinhos-neozelandeses/
LOCATION:ABS São Paulo\, 2 Edifício Olímpia Park\, R. Gomes de Carvalho\, 1327/1329 - Vila Olímpia\, São Paulo\, SP\, 04547-005\, Brasil
CATEGORIES:Degustação limitada,SP - São Paulo
ATTACH;FMTTYPE=image/jpeg:https://agendadovinho.com.br/wp-content/uploads/2019/04/vinhos-neozelandezes_020519.jpg
END:VEVENT
BEGIN:VEVENT
DTSTART;TZID=America/Sao_Paulo:20190502T173000
DTEND;TZID=America/Sao_Paulo:20190502T193000
DTSTAMP:20260419T161605
CREATED:20190428T173145Z
LAST-MODIFIED:20190428T173145Z
UID:2795-1556818200-1556825400@agendadovinho.com.br
SUMMARY:Master Class Vinhos de Israel
DESCRIPTION:Apesar de Israel ter comemorado 70 anos de independência em 2018\, a sua tradição na produção de vinhos é milenar. São cerca de 5.000 anos de história de vinificação no país. Com pequena extensão territorial\, Israel apresenta uma incrível diversidade geoclimática. \nCom “terroir” mediterrâneo\, seus vinhos possuem características semelhantes a Portugal\, Espanha\, França\, Itália e Grécia\, já tradicionais produtores de vinhos e azeites. \nA partir de 2012\, a indústria vitivinícola israelense passou a produzir uma média de 36 milhões de garrafas por ano em uma variedade de estilos que vão desde tintos\, brancos\, rosé\, espumantes e de sobremesa. \nExistem 35 vinícolas comerciais em Israel e mais de 250 vinícolas boutique. Degustação de 9 vinhos \nLista de Vinícolas de Vinhos: \nTabor\, 562 Brut’\nDalton (Vinik)\, Estate Chardonnay 2016\nTulip\, White Tulip 2016\nHar Bracha\, Jozef 2016\nCarmel\, Appellation  2014\nPsagot\, Psagot EDOM 2015\nBen Haim\, Tradition Senna  2015\nBiyamina\, The Chosen Diamond  2013\nGolan Heights\, Yarden Cabernet Sauvignon 2015 \n
URL:https://agendadovinho.com.br/event/master-class-vinhos-de-israel/
LOCATION:Espaço Museu do Vinho de São Paulo\, Rua Minas Gerais\, 246\, São Paulo\, SP\, Brasil
CATEGORIES:Degustação limitada,SP - São Paulo
ATTACH;FMTTYPE=image/png:https://agendadovinho.com.br/wp-content/uploads/2019/04/vinhos-de-israel_020519.png
END:VEVENT
BEGIN:VEVENT
DTSTART;TZID=America/Sao_Paulo:20190502T200000
DTEND;TZID=America/Sao_Paulo:20190502T230000
DTSTAMP:20260419T161605
CREATED:20190428T224001Z
LAST-MODIFIED:20190428T224001Z
UID:2797-1556827200-1556838000@agendadovinho.com.br
SUMMARY:Noite da Raclette
DESCRIPTION:Venha ter uma experiencia única! \nUma noite com um prato tradicional e tipico da Suíça Raclette\, um prato cheio de sabor\, acompanhado de uma deliciosa taça de vinho\, será uma noite inesquecível. \nInvestimento: \n50 reais: uma porção de raclette com 2 taças de vinhos a escolha ( 150 ml de vinho por taça) \nIndividual 40 reais: uma porção de raclette com 1 taça de vinhos a escolha. ( 150 ml de vinho por taça) \nVinho Brancos \nChardonnay Promesa -Chile \nCancellus Premium Douro Portugues \nVinhos tintos: \nL.Tramier Côtes de Rhone França \nOld Vines in Young Hands Douro Portugal \ndas 20h ás 23H \nonde: \nCave Suíça \nRua João ramalho 1392 – Perdizes \n
URL:https://agendadovinho.com.br/event/noite-da-raclette-2/
LOCATION:Cave Suíça\, Rua João Ramalho\, 1392\, São Paulo\, SP\, Brasil
CATEGORIES:Degustação limitada,SP - São Paulo
ATTACH;FMTTYPE=image/jpeg:https://agendadovinho.com.br/wp-content/uploads/2019/04/cave-suica_250419-e1556068309559.jpg
END:VEVENT
BEGIN:VEVENT
DTSTART;TZID=America/Sao_Paulo:20190502T203000
DTEND;TZID=America/Sao_Paulo:20190502T203000
DTSTAMP:20260419T161605
CREATED:20190430T225058Z
LAST-MODIFIED:20190430T225058Z
UID:2953-1556829000-1556829000@agendadovinho.com.br
SUMMARY:Wine Dinner! Uruguai além da Tannat!
DESCRIPTION:A Vinoteca Paulistana e a Bodega Garzón convidam para nosso Wine Dinner! Uruguai além da Tannat! Será uma noite incrível com o jantar elaborado pelo Chef Alexandre Vorpagel!\n👉Data: Dia 02 de Maio / Quinta-feira\n👉Horario: Às 20:30\n👉Endereço: Rua Ministro Ferreira Alves 54 / Perdizes ☎️ 011 2305-3471\n💲Valor: R$ 170\,00 com Serviço incluso.\nRSVP: Sandra. \n
URL:https://agendadovinho.com.br/event/wine-dinner-uruguai-alem-da-tannat/
LOCATION:Vinoteca Paulistana\, R. Min. Ferreira Alves\, 54 - Vila Pompeia\, São Paulo - SP\, 05009-060\, São Paulo\, SP\, 05009-060
CATEGORIES:Jantar harmonizado,SP - São Paulo
ATTACH;FMTTYPE=image/jpeg:https://agendadovinho.com.br/wp-content/uploads/2019/04/wine-dinner_020519.jpg
END:VEVENT
END:VCALENDAR