BEGIN:VCALENDAR
VERSION:2.0
PRODID:-//Agenda do Vinho - ECPv4.9.0//NONSGML v1.0//EN
CALSCALE:GREGORIAN
METHOD:PUBLISH
X-WR-CALNAME:Agenda do Vinho
X-ORIGINAL-URL:https://agendadovinho.com.br
X-WR-CALDESC:Eventos para Agenda do Vinho
BEGIN:VEVENT
DTSTART;TZID=America/Sao_Paulo:20190430T193000
DTEND;TZID=America/Sao_Paulo:20190430T193000
DTSTAMP:20260419T161353
CREATED:20190428T234600Z
LAST-MODIFIED:20190428T234600Z
UID:2858-1556652600-1556652600@agendadovinho.com.br
SUMMARY:Confraria Ovo e Uva - Vinhos de Autor
DESCRIPTION:A Confraria do Ovo e Uva está de volta! Marque no seu calendário: terça-feira\, dia 30 de abril às 19:30hs. \nO tema da noite será: “Vinhos do autor”. São vinhos únicos\, feitos por produtores que simplesmente não têm medo de ousar. \nSerão degustados 6 vinhos\, com petiscos e prato principal\, por R$ 230 por pessoa. \nE aí\, vai abrir mão dessa experiência única? \nVem fazer tintin com a gente! \n  \nInformações: https://www.instagram.com/p/BwkMCLOHjcz/ \n
URL:https://agendadovinho.com.br/event/confraria-ovo-e-uva-vinhos-de-autor/
LOCATION:Ovo e Uva\, R. Mateus Grou\, 286 - Pinheiros\, São Paulo - SP\, 05415-040\, São Paulo\, SP\, 05415-040\, Brasil
CATEGORIES:Degustação limitada,SP - São Paulo
ATTACH;FMTTYPE=image/jpeg:https://agendadovinho.com.br/wp-content/uploads/2019/04/ovo-e-uva_300419.jpg
END:VEVENT
END:VCALENDAR