BEGIN:VCALENDAR
VERSION:2.0
PRODID:-//Agenda do Vinho - ECPv4.9.0//NONSGML v1.0//EN
CALSCALE:GREGORIAN
METHOD:PUBLISH
X-WR-CALNAME:Agenda do Vinho
X-ORIGINAL-URL:https://agendadovinho.com.br
X-WR-CALDESC:Eventos para Agenda do Vinho
BEGIN:VEVENT
DTSTART;TZID=UTC-3:20190425T180000
DTEND;TZID=UTC-3:20190425T220000
DTSTAMP:20260419T173647
CREATED:20190422T035621Z
LAST-MODIFIED:20190422T035936Z
UID:2314-1556215200-1556229600@agendadovinho.com.br
SUMMARY:7º Wine Festival HortiSabor
DESCRIPTION:A Megadegustação 7º Wine Festival HortiSabor será no dia 25 de Abril de 2019\, das 18h as 22h\, quinta-feira!\nSão mais de 120 rótulos das melhores importadoras para degustar! Escolhemos um local especial\, o Jardim Aurelia\, dentro de uma vila aconchegante na rua Tabapuã\, 838 no Itaim Bibi em São Paulo. O valor de R$ 150 gera o crédito de R$ 100 na compra de vinhos durante o evento!!! \nAtenção!!: Evento permitido apenas para maiores de 18 anos. Entrada no evento condicionada á apresentação de documentação que comprove a maioridade\, além da apresentação do ingresso. SÃO PROIBIDAS A VENDA E A ENTREGA DE BEBIDAS ALCOÓLICAS A MENORES DE 18 (DEZOITO) ANOS (art. 81\, II do Estatuto da Criança e do Adolescente). APRECIE COM MODERAÇÃO. Se beber\, não dirija. \n
URL:https://agendadovinho.com.br/event/7o-wine-festival-hortisabor/
LOCATION:Jardim Aurélia\, Rua Tabapuã\, 838\, São Paulo\, SP\, Brasil
CATEGORIES:Degustação livre,SP - São Paulo
ATTACH;FMTTYPE=image/jpeg:https://agendadovinho.com.br/wp-content/uploads/2019/04/emporio-hortisabor-e1556068289227.jpg
END:VEVENT
BEGIN:VEVENT
DTSTART;TZID=America/Sao_Paulo:20190425T180000
DTEND;TZID=America/Sao_Paulo:20190425T210000
DTSTAMP:20260419T173647
CREATED:20190425T145903Z
LAST-MODIFIED:20190425T145903Z
UID:2564-1556215200-1556226000@agendadovinho.com.br
SUMMARY:Adega Oba
DESCRIPTION:Participe de uma Experiência incrível! \nDegustação de rótulos selecionados especialmente para você. \nLocal – Av. Corifeu de Azevedo Marques\, 1000 – Butantã – São Paulo – SP \nConfirme sua presença através do e-mail:\nadega.butanta@redeoba.com.br \nPara mais informações\, ligue (11) 3723-5300 \nEntrada: R$ 60\,00\n100% revertido nos vinhos do evento no mesmo dia. \n
URL:https://agendadovinho.com.br/event/adega-oba/
LOCATION:Oba Butantã\, Av. Corifeu de Azevedo Marques\, 1000 - Butantã - São Paulo - SP\, São Paulo\, SP\, Brasil
CATEGORIES:Degustação livre,SP - São Paulo
ATTACH;FMTTYPE=image/jpeg:https://agendadovinho.com.br/wp-content/uploads/2019/04/adega-oba.jpg
END:VEVENT
BEGIN:VEVENT
DTSTART;TZID=UTC-3:20190425T190000
DTEND;TZID=UTC-3:20190425T210000
DTSTAMP:20260419T173647
CREATED:20190420T133912Z
LAST-MODIFIED:20190420T191553Z
UID:2199-1556218800-1556226000@agendadovinho.com.br
SUMMARY:Wine of Argentina
DESCRIPTION:Venha saborear rótulos diferenciados de vinícolas renomadas da Argentina e conheça mais sabores e aromas. \n
URL:https://agendadovinho.com.br/event/wine-of-argentina/
LOCATION:Pão de Açúcar Adega\, Rua Augusta\, 2710\, São Paulo\, SP\, Brasil
CATEGORIES:Degustação livre,SP - São Paulo
ATTACH;FMTTYPE=image/jpeg:https://agendadovinho.com.br/wp-content/uploads/2019/04/pao-de-acucar-adega-e1556067472626.jpg
END:VEVENT
BEGIN:VEVENT
DTSTART;TZID=UTC-3:20190425T190000
DTEND;TZID=UTC-3:20190425T230000
DTSTAMP:20260419T173647
CREATED:20190423T145110Z
LAST-MODIFIED:20190426T113349Z
UID:2425-1556218800-1556233200@agendadovinho.com.br
SUMMARY:Malbec Day | Museu do Vinho de São Paulo
DESCRIPTION:O Espaço Museu do Vinho de São Paulo é um projeto que pretende ser um “hub” da cultura do vinho. Um lugar de encontro de produtores\, importadores\, distribuidores\, entusiastas\, imprensa e apreciadores em geral deste maravilhoso produto \nEm todo o mundo\, abril é o mês do Malbec. Por vários países haverá celebração e degustação de vinhos argentinos e brasileiros\, os principais produtores de vinhos desta uva. \nO Museu do Vinho de São Paulo quer promover um grande encontro de produtores premiados de Malbec\, trazendo rótulos de expressão que se diferenciam por sua qualidade\, na Argentina e no Brasil. \nSerá uma noite com 4h de duração para explorar o universo Malbec e a cultura Argentina\, em parceria com produtores\, clube de vinhos\, casa de culinária argentina\, dançarinos e perfumista\, com o objetivo de trabalhar todos os sentidos em imersão total. \nNosso objetivo é dar continuidade a nossa missão de promover e desenvolver a cultura do vinho\, agregando valor a sociedade. \nInserir conhecimento\, diversidade\, experiência de forma democrática\, reforçando por meio de parcerias as práticas de excelência na produção\, distribuição e associação ao mundo do vinho. \nCelebrar e ratificar conceitos e datas importantes na história vitivinícola do Brasil e do Mundo. \nO ingresso inclui: \n\nApresentação de Tango\n6 Vinhos para Degustação\nDegustação de Empanada\nDegustação de Chocolate\nDegustação dos Perfumes Malbec\nAula de Vinho com Sommelier\nTaça Vintage (brinde – Kit)\n\nDuração: das 19h às 23h \n
URL:https://agendadovinho.com.br/event/malbec-day-museu-do-vinho-de-sao-paulo/
LOCATION:Espaço Museu do Vinho de São Paulo\, Rua Minas Gerais\, 246\, São Paulo\, SP\, Brasil
CATEGORIES:Degustação limitada,SP - São Paulo
ATTACH;FMTTYPE=image/jpeg:https://agendadovinho.com.br/wp-content/uploads/2019/04/malbec-day_250419_2.jpg
END:VEVENT
BEGIN:VEVENT
DTSTART;TZID=UTC-3:20190425T193000
DTEND;TZID=UTC-3:20190425T193000
DTSTAMP:20260419T173647
CREATED:20190423T145332Z
LAST-MODIFIED:20190423T145332Z
UID:2435-1556220600-1556220600@agendadovinho.com.br
SUMMARY:Clube Do Vinho: Dal Chianti Al Brunello Di Montalcino
DESCRIPTION:RÓTULOS DEGUSTADOS NESTE MÓDULO: \n– Quarceto Chianti \n– Rosso Montalcino \n– Brunello Di Montalcino \nIMPORTADORA: Bruck \nHARMONIZAÇÃO: \n– Embutidos \n– Queijos \nSOBRE O CURSO: \nTipo de aula: Aula show \nDescubra os segredos e histórias da Toscana seus belos vinhos Chianti\, Rosso Di Montalccino e os magníficos Brunelllo Di Montalcino\, uma harmonia entre paisagens\, solo\, castas e homem. \nSOBRE O SOMMELIER: \nVitor Fernandes tem 11 anos de experiências em vinhos Nacionais e Internacionais. \nEstagiado em Portugal Douro e Vinho Verde 2012. \nSommelier Carnaval de SP Ibravin 2013. \n4 lugar concurso de vinhos de Portugal 2011. \n3 lugar no concursos de vinhos do Brasil 2018. \nSommelier com passagem em várias importadoras entre elas Cantu e Grand Cru. \nCANCELAMENTOS E REEMBOLSOS: \nO Eataly reserva-se o direito de alterar as datas ou cancelar o evento\, caso o número de participantes não atinja o mínimo previsto\, avisando os participantes com antecedência. \nEm caso de cancelamento\, por parte do cliente\, favor enviar um e-mail para cursos@eataly.com.br com no mínimo 48h de antecedência do evento adquirido\, a remarcação será analisada de acordo com a disponibilidade de vagas no curso de interesse. \nSomente serão aceitas solicitações através do e-mail e dentro do prazo. \nCaso entre em contato com no mínimo 48 horas de antecedência o Eataly devolverá o valor integral. Após este prazo fica impossibilitado o cancelamento assim como o estorno do valor ou troca de evento. \nTe esperamos! \nDúvidas: \n(11)95648-5682 / cursos@eataly.com.br \nContato para problemas técnicos durante a compra: \ncontato@foodpass.com.br \n
URL:https://agendadovinho.com.br/event/clube-do-vinho-dal-chianti-al-brunello-di-montalcino/
LOCATION:Eataly\, Avenida Presidente Juscelino Kubitschek\, 1489\, São Paulo\, SP\, Brasil
CATEGORIES:Curso técnico,SP - São Paulo
ATTACH;FMTTYPE=image/jpeg:https://agendadovinho.com.br/wp-content/uploads/2019/04/clube-do-vinho_250419-e1556067022649.jpg
END:VEVENT
BEGIN:VEVENT
DTSTART;TZID=UTC-3:20190425T200000
DTEND;TZID=UTC-3:20190425T220000
DTSTAMP:20260419T173647
CREATED:20190421T120108Z
LAST-MODIFIED:20190421T120555Z
UID:2281-1556222400-1556229600@agendadovinho.com.br
SUMMARY:Varanda Experience
DESCRIPTION:Venha degustar conosco vinhos e azeites da Adega Alentejana. \nVaranda – Shopping Vila Olímpia \nInscrições: 11-3047-6002 \n
URL:https://agendadovinho.com.br/event/varanda-experience-2/
LOCATION:Varanda Empório\, Rua Olimpíadas\, 360\, São Paulo\, SP\, Brasil
CATEGORIES:Degustação livre,SP - São Paulo
ATTACH;FMTTYPE=image/jpeg:https://agendadovinho.com.br/wp-content/uploads/2019/04/varanda_230419.jpg
END:VEVENT
BEGIN:VEVENT
DTSTART;TZID=UTC-3:20190425T200000
DTEND;TZID=UTC-3:20190425T230000
DTSTAMP:20260419T173647
CREATED:20190422T033957Z
LAST-MODIFIED:20190422T033957Z
UID:2305-1556222400-1556233200@agendadovinho.com.br
SUMMARY:Noite da Raclette
DESCRIPTION:Venha ter uma experiencia única! \nUma noite com um prato tradicional e tipico da Suíça Raclette\, um prato cheio de sabor\, acompanhado de uma deliciosa taça de vinho\, será uma noite inesquecível. \nInvestimento: \n50 reais: uma porção de raclette com 2 taças de vinhos a escolha ( 150 ml de vinho por taça) \nIndividual 40 reais: uma porção de raclette com 1 taça de vinhos a escolha. ( 150 ml de vinho por taça) \nVinho Brancos \nChardonnay Promesa -Chile \nCancellus Premium Douro Portugues \nVinhos tintos: \nL.Tramier Côtes de Rhone França \nOld Vines in Young Hands Douro Portugal \n
URL:https://agendadovinho.com.br/event/noite-da-raclette/
LOCATION:Cave Suíça\, Rua João Ramalho\, 1392\, São Paulo\, SP\, Brasil
CATEGORIES:Degustação limitada,SP - São Paulo
ATTACH;FMTTYPE=image/jpeg:https://agendadovinho.com.br/wp-content/uploads/2019/04/cave-suica_250419-e1556068309559.jpg
END:VEVENT
BEGIN:VEVENT
DTSTART;TZID=America/Sao_Paulo:20190425T200000
DTEND;TZID=America/Sao_Paulo:20190425T230000
DTSTAMP:20260419T173647
CREATED:20190424T022923Z
LAST-MODIFIED:20190425T154144Z
UID:2489-1556222400-1556233200@agendadovinho.com.br
SUMMARY:Diálogos Etílicos - Toscana
DESCRIPTION:Degustação guiada pelos sommeliers Gabriele Frizon e Diego Arrebola. \n  \nVinhos: \n\nRosso de Toscana Camponovo 2016\nRosso de Montalcino 2016\nGran Selezione Panzano 2012\nChianti Clássico Castelgreve 2015\nChiante Clássico Riserva Castelgreve 2012\nBrunelo di Montalcino Bueno-Cipresso 2005\n\n  \nReservas: contato@entrecopos.com.br \n  \n
URL:https://agendadovinho.com.br/event/dialogos-eticos-toscana/
LOCATION:Casa Santo Antônio\, Av. João Carlos da Silva Borges\, 764\, São Paulo\, SP\, Brasil
CATEGORIES:Jantar harmonizado,SP - São Paulo
ATTACH;FMTTYPE=image/jpeg:https://agendadovinho.com.br/wp-content/uploads/2019/04/806623470_124737.jpg
END:VEVENT
BEGIN:VEVENT
DTSTART;TZID=America/Sao_Paulo:20190425T200000
DTEND;TZID=America/Sao_Paulo:20190425T200000
DTSTAMP:20260419T173647
CREATED:20190425T104546Z
LAST-MODIFIED:20190425T104546Z
UID:2529-1556222400-1556222400@agendadovinho.com.br
SUMMARY:Wine Dinner Itália
DESCRIPTION:A World Wine e o restaurante Neto do Four Seasons convidam para o Wine Dinner das vinícolas italianas Siro Pacenti (Toscana)\, Schiopetto (Friuli) e Antica Fratta (Lombardia). O evento terá a participação de Cristian Maddalena\, diretor global das marcas apresentadas. \nFour Seasons Hotel at Nações Unidas\nR. Engenheiro Mesquita Sampaio\, 820 – Chácara Santo Antônio \nUma grande oportunidade para degustar vinhos ícones de diferentes regiões da Itália harmonizados com um excelente jantar. Participe!🍾🍷🍝\n⠀\n25.04 às 20h00\nRSVP: (11) 2526-0100 | reservations.saopaulo@fourseasons.com |\nR$ 320\,00 por pessoa + taxa de serviço. | *Reservas sujeitas a disponibilidade. \n
URL:https://agendadovinho.com.br/event/wine-dinner-italia/
LOCATION:Four Seasons Hotel at Nações Unidas\, R. Engenheiro Mesquita Sampaio\, 820\, São Paulo\, SP\, Brasil
CATEGORIES:Jantar harmonizado,SP - São Paulo
ATTACH;FMTTYPE=image/jpeg:https://agendadovinho.com.br/wp-content/uploads/2019/04/wine-dinner-italia_250419.jpg
END:VEVENT
END:VCALENDAR