BEGIN:VCALENDAR
VERSION:2.0
PRODID:-//Agenda do Vinho - ECPv4.9.0//NONSGML v1.0//EN
CALSCALE:GREGORIAN
METHOD:PUBLISH
X-WR-CALNAME:Agenda do Vinho
X-ORIGINAL-URL:https://agendadovinho.com.br
X-WR-CALDESC:Eventos para Agenda do Vinho
BEGIN:VEVENT
DTSTART;TZID=America/Sao_Paulo:20220717T110000
DTEND;TZID=America/Sao_Paulo:20220717T140000
DTSTAMP:20260420T161059
CREATED:20220617T121826Z
LAST-MODIFIED:20220617T121826Z
UID:18239-1658055600-1658066400@agendadovinho.com.br
SUMMARY:Vinho na Vila Rio de Janeiro
DESCRIPTION:17/jul \n
URL:https://agendadovinho.com.br/event/vinho-na-vila-rio-de-janeiro-4/
LOCATION:Estádio de Remo da Lagoa Rodrigo de Freitas\, Lagoa Rodrigo de Freitas\, Rio de Janeiro\, RJ\, Brasil
CATEGORIES:Degustação,RJ - Rio de Janeiro
ATTACH;FMTTYPE=image/png:https://agendadovinho.com.br/wp-content/uploads/2022/06/vinho-na-vila-rio-de-janeiro_160722.png
END:VEVENT
BEGIN:VEVENT
DTSTART;TZID=America/Sao_Paulo:20220717T143000
DTEND;TZID=America/Sao_Paulo:20220717T173000
DTSTAMP:20260420T161059
CREATED:20220617T121829Z
LAST-MODIFIED:20220617T121829Z
UID:18240-1658068200-1658079000@agendadovinho.com.br
SUMMARY:Vinho na Vila Rio de Janeiro
DESCRIPTION:17/jul \n
URL:https://agendadovinho.com.br/event/vinho-na-vila-rio-de-janeiro-5/
LOCATION:Estádio de Remo da Lagoa Rodrigo de Freitas\, Lagoa Rodrigo de Freitas\, Rio de Janeiro\, RJ\, Brasil
CATEGORIES:Degustação,RJ - Rio de Janeiro
ATTACH;FMTTYPE=image/png:https://agendadovinho.com.br/wp-content/uploads/2022/06/vinho-na-vila-rio-de-janeiro_160722.png
END:VEVENT
BEGIN:VEVENT
DTSTART;TZID=America/Sao_Paulo:20220717T180000
DTEND;TZID=America/Sao_Paulo:20220717T210000
DTSTAMP:20260420T161059
CREATED:20220617T121831Z
LAST-MODIFIED:20220617T121831Z
UID:18241-1658080800-1658091600@agendadovinho.com.br
SUMMARY:Vinho na Vila Rio de Janeiro
DESCRIPTION:17/jul \n
URL:https://agendadovinho.com.br/event/vinho-na-vila-rio-de-janeiro-6/
LOCATION:Estádio de Remo da Lagoa Rodrigo de Freitas\, Lagoa Rodrigo de Freitas\, Rio de Janeiro\, RJ\, Brasil
CATEGORIES:Degustação,RJ - Rio de Janeiro
ATTACH;FMTTYPE=image/png:https://agendadovinho.com.br/wp-content/uploads/2022/06/vinho-na-vila-rio-de-janeiro_160722.png
END:VEVENT
END:VCALENDAR