BEGIN:VCALENDAR
VERSION:2.0
PRODID:-//Agenda do Vinho - ECPv4.9.0//NONSGML v1.0//EN
CALSCALE:GREGORIAN
METHOD:PUBLISH
X-WR-CALNAME:Agenda do Vinho
X-ORIGINAL-URL:https://agendadovinho.com.br
X-WR-CALDESC:Eventos para Agenda do Vinho
BEGIN:VEVENT
DTSTART;TZID=America/Sao_Paulo:20240308T193000
DTEND;TZID=America/Sao_Paulo:20240308T223000
DTSTAMP:20260422T011951
CREATED:20240222T141647Z
LAST-MODIFIED:20240222T141647Z
UID:19307-1709926200-1709937000@agendadovinho.com.br
SUMMARY:Curso de Vinhos para Mulheres
DESCRIPTION:
URL:https://agendadovinho.com.br/event/curso-de-vinhos-para-mulheres-3/
LOCATION:La Mia Cucina\, R. Paulo Graeser Sobrinho\, 1124 - Mercês\, Curitiba\, PR\, 80510-170\, Brasil
CATEGORIES:Curso técnico,PR - Curitiba
ATTACH;FMTTYPE=image/jpeg:https://agendadovinho.com.br/wp-content/uploads/2024/02/curso-de-vinhos-para-mulheres_080324.jpg
END:VEVENT
END:VCALENDAR