BEGIN:VCALENDAR
VERSION:2.0
PRODID:-//Agenda do Vinho - ECPv4.9.0//NONSGML v1.0//EN
CALSCALE:GREGORIAN
METHOD:PUBLISH
X-WR-CALNAME:Agenda do Vinho
X-ORIGINAL-URL:https://agendadovinho.com.br
X-WR-CALDESC:Eventos para Agenda do Vinho
BEGIN:VEVENT
DTSTART;TZID=America/Sao_Paulo:20210715T200000
DTEND;TZID=America/Sao_Paulo:20210715T200000
DTSTAMP:20260426T031011
CREATED:20210712T191158Z
LAST-MODIFIED:20210712T191158Z
UID:17616-1626379200-1626379200@agendadovinho.com.br
SUMMARY:Tintas clássicas do sul brasileiro
DESCRIPTION:15/jul – 20:00 \n
URL:https://agendadovinho.com.br/event/tintas-classicas-do-sul-brasileiro/
LOCATION:Instagram
CATEGORIES:Curso técnico,Online
ATTACH;FMTTYPE=image/jpeg:https://agendadovinho.com.br/wp-content/uploads/2021/07/sobreovinho_150721.jpg
END:VEVENT
BEGIN:VEVENT
DTSTART;TZID=America/Sao_Paulo:20210715T210000
DTEND;TZID=America/Sao_Paulo:20210715T210000
DTSTAMP:20260426T031011
CREATED:20210712T191236Z
LAST-MODIFIED:20210712T191236Z
UID:17620-1626382800-1626382800@agendadovinho.com.br
SUMMARY:Vinho sem frescuras
DESCRIPTION:15/jul – 21:00 \n
URL:https://agendadovinho.com.br/event/vinho-sem-frescuras/
LOCATION:Instagram
CATEGORIES:Curso técnico,Online
ATTACH;FMTTYPE=image/jpeg:https://agendadovinho.com.br/wp-content/uploads/2021/07/adolfo_lona_150721.jpg
END:VEVENT
END:VCALENDAR