BEGIN:VCALENDAR
VERSION:2.0
PRODID:-//Agenda do Vinho - ECPv4.9.0//NONSGML v1.0//EN
CALSCALE:GREGORIAN
METHOD:PUBLISH
X-WR-CALNAME:Agenda do Vinho
X-ORIGINAL-URL:https://agendadovinho.com.br
X-WR-CALDESC:Eventos para Agenda do Vinho
BEGIN:VEVENT
DTSTART;TZID=America/Sao_Paulo:20240420T140000
DTEND;TZID=America/Sao_Paulo:20240420T210000
DTSTAMP:20260421T123023
CREATED:20240320T191350Z
LAST-MODIFIED:20240320T191350Z
UID:19629-1713621600-1713646800@agendadovinho.com.br
SUMMARY:VINHO NA VILA BH
DESCRIPTION:
URL:https://agendadovinho.com.br/event/vinho-na-vila-bh/
LOCATION:Parque do Palácio\, Rua Arquiteto Rafaello Berti\, 330 - Mangabeiras\, Belo Horizonte\, MG\, 30210-120\, Brasil
CATEGORIES:Degustação,MG - Belo Horizonte
ATTACH;FMTTYPE=image/jpeg:https://agendadovinho.com.br/wp-content/uploads/2024/03/vinho-na-vila_200424.jpg
END:VEVENT
END:VCALENDAR