BEGIN:VCALENDAR
VERSION:2.0
PRODID:-//Agenda do Vinho - ECPv4.9.0//NONSGML v1.0//EN
CALSCALE:GREGORIAN
METHOD:PUBLISH
X-WR-CALNAME:Agenda do Vinho
X-ORIGINAL-URL:https://agendadovinho.com.br
X-WR-CALDESC:Eventos para Agenda do Vinho
BEGIN:VEVENT
DTSTART;TZID=America/Sao_Paulo:20210911T120000
DTEND;TZID=America/Sao_Paulo:20210911T190000
DTSTAMP:20260423T112625
CREATED:20210802T201423Z
LAST-MODIFIED:20210802T201423Z
UID:17657-1631361600-1631386800@agendadovinho.com.br
SUMMARY:Encontro de Vinhos Belo Horizonte
DESCRIPTION:11/set – 12:00 \n
URL:https://agendadovinho.com.br/event/encontro-de-vinhos-belo-horizonte-2/
LOCATION:Espaço Maggiore\, R. Ituiutaba\, 304 - Prado\, Belo Horizonte\, MG\, 30411-023\, Brasil
CATEGORIES:Degustação,MG - Belo Horizonte
ATTACH;FMTTYPE=image/jpeg:https://agendadovinho.com.br/wp-content/uploads/2021/08/encontro-de-vinhos_040921.jpg
END:VEVENT
END:VCALENDAR