BEGIN:VCALENDAR
VERSION:2.0
PRODID:-//Agenda do Vinho - ECPv4.9.0//NONSGML v1.0//EN
CALSCALE:GREGORIAN
METHOD:PUBLISH
X-WR-CALNAME:Agenda do Vinho
X-ORIGINAL-URL:https://agendadovinho.com.br
X-WR-CALDESC:Eventos para Agenda do Vinho
BEGIN:VEVENT
DTSTART;TZID=America/Sao_Paulo:20240608T193000
DTEND;TZID=America/Sao_Paulo:20240608T193000
DTSTAMP:20260420T075239
CREATED:20240322T102339Z
LAST-MODIFIED:20240322T102339Z
UID:19683-1717875000-1717875000@agendadovinho.com.br
SUMMARY:Jantar harmonizado
DESCRIPTION:
URL:https://agendadovinho.com.br/event/jantar-harmonizado-152/
LOCATION:Pousada Calza\, ERS 444 Km 23+518m\, n° 287 - Vale dos Vinhedos\, Bento Gonçalves\, RS\, 95711-000\, Brasil
CATEGORIES:Jantar harmonizado,RS - Demais cidades
ATTACH;FMTTYPE=image/jpeg:https://agendadovinho.com.br/wp-content/uploads/2024/03/jantar-harmonizado_080624.jpg
END:VEVENT
END:VCALENDAR