BEGIN:VCALENDAR
VERSION:2.0
PRODID:-//Agenda do Vinho - ECPv4.9.0//NONSGML v1.0//EN
CALSCALE:GREGORIAN
METHOD:PUBLISH
X-WR-CALNAME:Agenda do Vinho
X-ORIGINAL-URL:https://agendadovinho.com.br
X-WR-CALDESC:Eventos para Agenda do Vinho
BEGIN:VEVENT
DTSTART;TZID=America/Sao_Paulo:20240605T193000
DTEND;TZID=America/Sao_Paulo:20240605T230000
DTSTAMP:20260420T075239
CREATED:20240603T184540Z
LAST-MODIFIED:20240603T184540Z
UID:20193-1717615800-1717628400@agendadovinho.com.br
SUMMARY:Jantar Harmonizado Woman's Wine - edição para homens e mulheres
DESCRIPTION:
URL:https://agendadovinho.com.br/event/jantar-harmonizado-womans-wine-edicao-para-homens-e-mulheres/
LOCATION:Espaço Gourmet Vera Moreira\, R. Ferroviário Manoel Gonçalves Filho\, 6 - Mangabeiras\, Maceió\, AL\, 57035-852\, Brasil
CATEGORIES:AL - Maceió,Jantar harmonizado
ATTACH;FMTTYPE=image/png:https://agendadovinho.com.br/wp-content/uploads/2024/06/jantar-harmonizado_050624.png
END:VEVENT
END:VCALENDAR