BEGIN:VCALENDAR
VERSION:2.0
PRODID:-//Agenda do Vinho - ECPv4.9.0//NONSGML v1.0//EN
CALSCALE:GREGORIAN
METHOD:PUBLISH
X-WR-CALNAME:Agenda do Vinho
X-ORIGINAL-URL:https://agendadovinho.com.br
X-WR-CALDESC:Eventos para Agenda do Vinho
BEGIN:VEVENT
DTSTART;TZID=America/Sao_Paulo:20240511T193000
DTEND;TZID=America/Sao_Paulo:20240511T220000
DTSTAMP:20260420T093605
CREATED:20240507T150507Z
LAST-MODIFIED:20240507T150507Z
UID:20046-1715455800-1715464800@agendadovinho.com.br
SUMMARY:Jantar harmonizado
DESCRIPTION:
URL:https://agendadovinho.com.br/event/jantar-harmonizado-157/
LOCATION:Nonno Casa Italiana\, R. Rio Eiru\, 22 - Nossa Sra. das Gracas - Nossa Sra. das Graças\, Manaus\, AM\, 69053-520\, Brasil
CATEGORIES:AM - Manaus,Jantar harmonizado
ATTACH;FMTTYPE=image/jpeg:https://agendadovinho.com.br/wp-content/uploads/2024/05/jantar-harmonizado_110524-scaled.jpg
END:VEVENT
END:VCALENDAR