BEGIN:VCALENDAR
VERSION:2.0
PRODID:-//Agenda do Vinho - ECPv4.9.0//NONSGML v1.0//EN
CALSCALE:GREGORIAN
METHOD:PUBLISH
X-WR-CALNAME:Agenda do Vinho
X-ORIGINAL-URL:https://agendadovinho.com.br
X-WR-CALDESC:Eventos para Agenda do Vinho
BEGIN:VEVENT
DTSTART;TZID=America/Sao_Paulo:20240509T193000
DTEND;TZID=America/Sao_Paulo:20240509T220000
DTSTAMP:20260420T093733
CREATED:20240503T151755Z
LAST-MODIFIED:20240503T151755Z
UID:19997-1715283000-1715292000@agendadovinho.com.br
SUMMARY:Jantar harmonizado
DESCRIPTION:
URL:https://agendadovinho.com.br/event/jantar-harmonizado-155/
LOCATION:Almeria Restaurante\, ST SCES Trecho 02 Conjunto 17 Lote Parte 01\, Asa sul\, Brasília\, DF\, 70200-002\, Brasil
CATEGORIES:DF - Brasília,Jantar harmonizado
ATTACH;FMTTYPE=image/jpeg:https://agendadovinho.com.br/wp-content/uploads/2024/05/jantar-harmonizado_090524.jpg
END:VEVENT
END:VCALENDAR