BEGIN:VCALENDAR
VERSION:2.0
PRODID:-//Agenda do Vinho - ECPv4.9.0//NONSGML v1.0//EN
CALSCALE:GREGORIAN
METHOD:PUBLISH
X-WR-CALNAME:Agenda do Vinho
X-ORIGINAL-URL:https://agendadovinho.com.br
X-WR-CALDESC:Eventos para Agenda do Vinho
BEGIN:VEVENT
DTSTART;TZID=America/Sao_Paulo:20240425T193000
DTEND;TZID=America/Sao_Paulo:20240425T223000
DTSTAMP:20260420T104247
CREATED:20240409T170036Z
LAST-MODIFIED:20240409T170036Z
UID:19816-1714073400-1714084200@agendadovinho.com.br
SUMMARY:Champagne: Savoire-Faire Singulier
DESCRIPTION:
URL:https://agendadovinho.com.br/event/champagne-savoire-faire-singulier/
LOCATION:Olivia Mediterrâneo\, Alameda Oscar Niemeyer\, 1033 - loja 18 - Vila da Serra\, Nova Lima\, MG\, 34006-065\, Brasil
CATEGORIES:Jantar harmonizado,MG - Demais cidades
ATTACH;FMTTYPE=image/png:https://agendadovinho.com.br/wp-content/uploads/2024/04/champagne_250424.png
END:VEVENT
BEGIN:VEVENT
DTSTART;TZID=America/Sao_Paulo:20240425T193000
DTEND;TZID=America/Sao_Paulo:20240425T210000
DTSTAMP:20260420T104247
CREATED:20240422T150952Z
LAST-MODIFIED:20240422T150952Z
UID:19956-1714073400-1714078800@agendadovinho.com.br
SUMMARY:Dinner Experience Vinhos do Mundo: Lançamento Boschendal
DESCRIPTION:
URL:https://agendadovinho.com.br/event/dinner-experience-vinhos-do-mundo-lancamento-boschendal/
LOCATION:Vinhos do Mundo Alípio César\, Alameda Alípio César\, 203 - Boa Vista\, Porto Alegre\, RS\, 91340-310\, Brasil
CATEGORIES:Jantar harmonizado,RS - Porto Alegre
ATTACH;FMTTYPE=image/jpeg:https://agendadovinho.com.br/wp-content/uploads/2024/04/dinner-experience_250424.jpg
END:VEVENT
END:VCALENDAR