BEGIN:VCALENDAR
VERSION:2.0
PRODID:-//Agenda do Vinho - ECPv4.9.0//NONSGML v1.0//EN
CALSCALE:GREGORIAN
METHOD:PUBLISH
X-WR-CALNAME:Agenda do Vinho
X-ORIGINAL-URL:https://agendadovinho.com.br
X-WR-CALDESC:Eventos para Agenda do Vinho
BEGIN:VEVENT
DTSTART;TZID=America/Sao_Paulo:20240418T190000
DTEND;TZID=America/Sao_Paulo:20240418T220000
DTSTAMP:20260420T105131
CREATED:20240328T151933Z
LAST-MODIFIED:20240328T151933Z
UID:19747-1713466800-1713477600@agendadovinho.com.br
SUMMARY:Masterclass Crus de Beaujolais
DESCRIPTION:
URL:https://agendadovinho.com.br/event/masterclass-crus-de-beaujolais/
LOCATION:Le Jardin Bistrot\, SEPS 708/907\, Sia Lt A - Asa Sul\, Brasília\, DF\, 70390-079
CATEGORIES:DF - Brasília,Jantar harmonizado
ATTACH;FMTTYPE=image/jpeg:https://agendadovinho.com.br/wp-content/uploads/2024/03/masterclass-crus-de-beaujolais_180424.jpg
END:VEVENT
END:VCALENDAR