BEGIN:VCALENDAR
VERSION:2.0
PRODID:-//Agenda do Vinho - ECPv4.9.0//NONSGML v1.0//EN
CALSCALE:GREGORIAN
METHOD:PUBLISH
X-WR-CALNAME:Agenda do Vinho
X-ORIGINAL-URL:https://agendadovinho.com.br
X-WR-CALDESC:Eventos para Agenda do Vinho
BEGIN:VEVENT
DTSTART;TZID=America/Sao_Paulo:20240416T193000
DTEND;TZID=America/Sao_Paulo:20240416T230000
DTSTAMP:20260420T104248
CREATED:20240412T150733Z
LAST-MODIFIED:20240412T150733Z
UID:19886-1713295800-1713308400@agendadovinho.com.br
SUMMARY:Jantar Harmonizado Kitchen Asian Food
DESCRIPTION:
URL:https://agendadovinho.com.br/event/jantar-harmonizado-kitchen-asian-food/
LOCATION:Kitchen Asian Food – Marina da Glória\, Av. Infante Dom Henrique\, s/n - loja 101 - Glória\, Rio de Janeiro\, RJ\, 20021-140\, Brasil
CATEGORIES:Jantar harmonizado,RJ - Rio de Janeiro
ATTACH;FMTTYPE=image/jpeg:https://agendadovinho.com.br/wp-content/uploads/2024/04/jantar-harmonizado_160424.jpg
END:VEVENT
END:VCALENDAR