BEGIN:VCALENDAR
VERSION:2.0
PRODID:-//Agenda do Vinho - ECPv4.9.0//NONSGML v1.0//EN
CALSCALE:GREGORIAN
METHOD:PUBLISH
X-WR-CALNAME:Agenda do Vinho
X-ORIGINAL-URL:https://agendadovinho.com.br
X-WR-CALDESC:Eventos para Agenda do Vinho
BEGIN:VEVENT
DTSTART;TZID=America/Sao_Paulo:20240321T193000
DTEND;TZID=America/Sao_Paulo:20240321T213000
DTSTAMP:20260420T121149
CREATED:20240316T185910Z
LAST-MODIFIED:20240316T185910Z
UID:19589-1711049400-1711056600@agendadovinho.com.br
SUMMARY:Jantar Harmonizado
DESCRIPTION:
URL:https://agendadovinho.com.br/event/jantar-harmonizado-149/
LOCATION:Vino Leopoldina\, R. Guaipá\, 880 - Vila Leopoldina\, São Paulo\, SP\, 05089-000\, Brasil
CATEGORIES:Jantar harmonizado,SP - São Paulo
ATTACH;FMTTYPE=image/jpeg:https://agendadovinho.com.br/wp-content/uploads/2024/03/jantar-harmonizado_210324.jpg
END:VEVENT
BEGIN:VEVENT
DTSTART;TZID=America/Sao_Paulo:20240321T200000
DTEND;TZID=America/Sao_Paulo:20240321T200000
DTSTAMP:20260420T121149
CREATED:20240320T194455Z
LAST-MODIFIED:20240320T194455Z
UID:19650-1711051200-1711051200@agendadovinho.com.br
SUMMARY:Jantar harmonizado
DESCRIPTION:
URL:https://agendadovinho.com.br/event/jantar-harmonizado-150/
LOCATION:DiBaco\, R. Jacques Félix\, 365 - Vila Nova Conceição\, São Paulo\, SP\, 04509-001\, Brasil
CATEGORIES:Jantar harmonizado,SP - São Paulo
ATTACH;FMTTYPE=image/jpeg:https://agendadovinho.com.br/wp-content/uploads/2024/03/jantar-harmonizado_210324_2.jpg
END:VEVENT
END:VCALENDAR