BEGIN:VCALENDAR
VERSION:2.0
PRODID:-//Agenda do Vinho - ECPv4.9.0//NONSGML v1.0//EN
CALSCALE:GREGORIAN
METHOD:PUBLISH
X-WR-CALNAME:Agenda do Vinho
X-ORIGINAL-URL:https://agendadovinho.com.br
X-WR-CALDESC:Eventos para Agenda do Vinho
BEGIN:VEVENT
DTSTART;TZID=America/Sao_Paulo:20240314T193000
DTEND;TZID=America/Sao_Paulo:20240314T193000
DTSTAMP:20260420T122138
CREATED:20240222T143755Z
LAST-MODIFIED:20240222T143755Z
UID:19333-1710444600-1710444600@agendadovinho.com.br
SUMMARY:Noite de gastronomia e vinhos
DESCRIPTION:
URL:https://agendadovinho.com.br/event/noite-de-gastronomia-e-vinhos/
LOCATION:Mamuh Steakhouse\, R. Cônego Cipriano de Souza Oliveira\, 840 - Vila Sao Luiz\, Limeira\, SP\, 13480-369\, Brasil
CATEGORIES:Jantar harmonizado,SP - Demais cidades
ATTACH;FMTTYPE=image/jpeg:https://agendadovinho.com.br/wp-content/uploads/2024/02/noite-de-gastronomia-e-vinhos_140324.jpg
END:VEVENT
BEGIN:VEVENT
DTSTART;TZID=America/Sao_Paulo:20240314T193000
DTEND;TZID=America/Sao_Paulo:20240314T193000
DTSTAMP:20260420T122138
CREATED:20240227T154101Z
LAST-MODIFIED:20240227T154101Z
UID:19425-1710444600-1710444600@agendadovinho.com.br
SUMMARY:Jantar harmonizado
DESCRIPTION:
URL:https://agendadovinho.com.br/event/jantar-harmonizado-147/
LOCATION:Cantina Spina\, R. Gen. Lima e Silva\, 1244 - Azenha\, Porto Alegre\, RS\, 90050-092\, Brasil
CATEGORIES:Jantar harmonizado,RS - Porto Alegre
ATTACH;FMTTYPE=image/jpeg:https://agendadovinho.com.br/wp-content/uploads/2024/02/jantar-harmonizado_140324.jpg
END:VEVENT
END:VCALENDAR