BEGIN:VCALENDAR
VERSION:2.0
PRODID:-//Agenda do Vinho - ECPv4.9.0//NONSGML v1.0//EN
CALSCALE:GREGORIAN
METHOD:PUBLISH
X-WR-CALNAME:Agenda do Vinho
X-ORIGINAL-URL:https://agendadovinho.com.br
X-WR-CALDESC:Eventos para Agenda do Vinho
BEGIN:VEVENT
DTSTART;TZID=America/Sao_Paulo:20240308T190000
DTEND;TZID=America/Sao_Paulo:20240308T220000
DTSTAMP:20260420T121148
CREATED:20240305T200428Z
LAST-MODIFIED:20240305T200428Z
UID:19507-1709924400-1709935200@agendadovinho.com.br
SUMMARY:Jantar Harmonizado: Especial Dia da Mulher: La Vi Es Rose
DESCRIPTION:
URL:https://agendadovinho.com.br/event/jantar-harmonizado-especial-dia-da-mulher-la-vi-es-rose/
LOCATION:Ateliêr Don’Anna – Spazio Mateus Cohama\, Av. Daniel de La Touche - Cohama\, São Luís\, MA\, 65074-115\, Brasil
CATEGORIES:Jantar harmonizado,MA - São Luís
ATTACH;FMTTYPE=image/jpeg:https://agendadovinho.com.br/wp-content/uploads/2024/03/jantar-harmonizado-la-vie-est-rose_080324.jpg
END:VEVENT
BEGIN:VEVENT
DTSTART;TZID=America/Sao_Paulo:20240308T193000
DTEND;TZID=America/Sao_Paulo:20240308T220000
DTSTAMP:20260420T121148
CREATED:20240304T213005Z
LAST-MODIFIED:20240304T213005Z
UID:19478-1709926200-1709935200@agendadovinho.com.br
SUMMARY:Wine Experience Vinhos do Mundo: Brinde a Força e a Elegância Feminina
DESCRIPTION:
URL:https://agendadovinho.com.br/event/wine-experience-vinhos-do-mundo-brinde-a-forca-e-a-elegancia-feminina/
LOCATION:Vinhos do Mundo Getúlio Vargas\, Av. Getúlio Vargas\, 1135 - Menino Deus\, Porto Alegre\, RS\, Brasil
CATEGORIES:Jantar harmonizado,RS - Porto Alegre
ATTACH;FMTTYPE=image/jpeg:https://agendadovinho.com.br/wp-content/uploads/2024/03/wine-experience_080324.jpg
END:VEVENT
BEGIN:VEVENT
DTSTART;TZID=America/Sao_Paulo:20240308T200000
DTEND;TZID=America/Sao_Paulo:20240308T200000
DTSTAMP:20260420T121148
CREATED:20240227T153614Z
LAST-MODIFIED:20240227T153614Z
UID:19423-1709928000-1709928000@agendadovinho.com.br
SUMMARY:Jantar harmonizado especial Dia da Mulher
DESCRIPTION:
URL:https://agendadovinho.com.br/event/jantar-harmonizado-especial-dia-da-mulher/
LOCATION:POA Bistrô\, R. Olávo Barreto Viana\, 18 - Moinhos de Vento\, Porto Alegre\, RS\, 90570-070\, Brasil
CATEGORIES:Jantar harmonizado,RS - Porto Alegre
ATTACH;FMTTYPE=image/jpeg:https://agendadovinho.com.br/wp-content/uploads/2024/02/jantar-harmonizado_080324.jpg
END:VEVENT
BEGIN:VEVENT
DTSTART;TZID=America/Sao_Paulo:20240308T200000
DTEND;TZID=America/Sao_Paulo:20240308T200000
DTSTAMP:20260420T121148
CREATED:20240304T213842Z
LAST-MODIFIED:20240304T213842Z
UID:19488-1709928000-1709928000@agendadovinho.com.br
SUMMARY:Jantar com Chef Morselli
DESCRIPTION:
URL:https://agendadovinho.com.br/event/jantar-com-chef-morselli/
LOCATION:Mercavino\, Av. Cel. Marcos\, 642 - Pedra Redonda\, Porto Alegre\, RS\, 91760-000\, Brasil
CATEGORIES:Jantar harmonizado,RS - Porto Alegre
ATTACH;FMTTYPE=image/jpeg:https://agendadovinho.com.br/wp-content/uploads/2024/03/jantar-mercavino_080324.jpg
END:VEVENT
END:VCALENDAR