BEGIN:VCALENDAR
VERSION:2.0
PRODID:-//Agenda do Vinho - ECPv4.9.0//NONSGML v1.0//EN
CALSCALE:GREGORIAN
METHOD:PUBLISH
X-WR-CALNAME:Agenda do Vinho
X-ORIGINAL-URL:https://agendadovinho.com.br
X-WR-CALDESC:Eventos para Agenda do Vinho
BEGIN:VEVENT
DTSTART;TZID=America/Sao_Paulo:20240301T200000
DTEND;TZID=America/Sao_Paulo:20240301T200000
DTSTAMP:20260420T121146
CREATED:20240222T144136Z
LAST-MODIFIED:20240222T144136Z
UID:19332-1709323200-1709323200@agendadovinho.com.br
SUMMARY:Jantar português harmonizado
DESCRIPTION:
URL:https://agendadovinho.com.br/event/jantar-portugues-harmonizado/
LOCATION:Käse Haus\, R. Lauro Müller\, n° 545 - Jardim Blumenau\, Blumenau\, SC\, 89010-380\, Brasil
CATEGORIES:Jantar harmonizado,SC - Demais cidades
ATTACH;FMTTYPE=image/jpeg:https://agendadovinho.com.br/wp-content/uploads/2024/02/jantar-português-harmonizado_010324.jpg
END:VEVENT
BEGIN:VEVENT
DTSTART;TZID=America/Sao_Paulo:20240301T201500
DTEND;TZID=America/Sao_Paulo:20240301T201500
DTSTAMP:20260420T121146
CREATED:20240221T173106Z
LAST-MODIFIED:20240221T173106Z
UID:19275-1709324100-1709324100@agendadovinho.com.br
SUMMARY:Jantar harmonizado
DESCRIPTION:
URL:https://agendadovinho.com.br/event/jantar-harmonizado-141/
LOCATION:Empório Grand Chef\, Av. Mascote\, 1274 - Vila Mascote\, São Paulo\, SP\, 04363-001\, Brasil
CATEGORIES:Jantar harmonizado,SP - São Paulo
ATTACH;FMTTYPE=image/jpeg:https://agendadovinho.com.br/wp-content/uploads/2024/02/jantar-harmonizado_010324.jpg
END:VEVENT
END:VCALENDAR