BEGIN:VCALENDAR
VERSION:2.0
PRODID:-//Agenda do Vinho - ECPv4.9.0//NONSGML v1.0//EN
CALSCALE:GREGORIAN
METHOD:PUBLISH
X-WR-CALNAME:Agenda do Vinho
X-ORIGINAL-URL:https://agendadovinho.com.br
X-WR-CALDESC:Eventos para Agenda do Vinho
BEGIN:VEVENT
DTSTART;TZID=America/Sao_Paulo:20240227T193000
DTEND;TZID=America/Sao_Paulo:20240227T193000
DTSTAMP:20260420T134932
CREATED:20240223T155904Z
LAST-MODIFIED:20240223T155904Z
UID:19364-1709062200-1709062200@agendadovinho.com.br
SUMMARY:Jantar harmonizado
DESCRIPTION:
URL:https://agendadovinho.com.br/event/jantar-harmonizado-144/
LOCATION:Peixaria Mar & Rio Pescados – Zona Sul\, Av. Francisco das C. Oliveira\, 1180 - Jardim Morumbi\, São José do Rio Preto\, SP\, 15090-190\, Brasil
CATEGORIES:Jantar harmonizado,SP - Demais cidades
ATTACH;FMTTYPE=image/jpeg:https://agendadovinho.com.br/wp-content/uploads/2024/02/jantar-harmonizado_270224.jpg
END:VEVENT
END:VCALENDAR