BEGIN:VCALENDAR
VERSION:2.0
PRODID:-//Agenda do Vinho - ECPv4.9.0//NONSGML v1.0//EN
CALSCALE:GREGORIAN
METHOD:PUBLISH
X-WR-CALNAME:Agenda do Vinho
X-ORIGINAL-URL:https://agendadovinho.com.br
X-WR-CALDESC:Eventos para Agenda do Vinho
BEGIN:VEVENT
DTSTART;TZID=America/Sao_Paulo:20230309T200000
DTEND;TZID=America/Sao_Paulo:20230309T220000
DTSTAMP:20260421T054515
CREATED:20230227T134426Z
LAST-MODIFIED:20230227T134426Z
UID:18569-1678392000-1678399200@agendadovinho.com.br
SUMMARY:Jantar Harmonizado "Celebração à Enogastronomia"
DESCRIPTION:Casa Dom Bernardo\, Vinhólogo – Vinhos BR e Sobre o Vinho apresentam… \nCELEBRAÇÃO À ENOGASTRONOMIA \nVocê é nossa(o) convidada(o) para uma experiência sensorial completa\, através do apaixonante mundo da enogastronomia!\nPreparamos com o time da Casa Dom Bernardo um jantar muito especial em 03 etapas (entrada\, 02 principais e sobremesa)\, harmonizados com alguns dos mais instigantes vinhos produzidos atualmente no Brasil\, de pequenas vinícolas e produção limitada! \nEntrada:\nTartar de Salmão com Cream Cheese\nVinho: Augguro Brut Chardonnay 2022\nFarroupilha/RS (Brasil) \nPrincipais:\nRisoto de Camarão\nVinho: Parole di Famiglia Pinot Noir Rosé 2021\nSerra Gaúcha/RS (Brasil) \nFilé Mignon ao Molho de Mostarda Dijon c/Batatas Rústicas\nVinho: Augguro Pinot Noir Reserva 2021\nFarroupilha/RS (Brasil) \nSobremesa:\nCreme Brulée\nVinho: Distinto Licoroso 05 Anos\nSerra Gaúcha/RS (Brasil) \nCondução: Bruno Lopes Teixeira (Vinhólogo – Vinhos BR) e Fábio Romão Prado (Sobre o Vinho) \nSensacional\, não é mesmo? O investimento é de R$179\,90 por pessoa e o evento ocorrerá no dia 09/03/2023 às 20h00 na Casa Dom Bernardo (Rua das Aroeiras\, 510 – Bairro Jardim – Santo André/SP). \nContamos com a sua presença! Saúde! \n
URL:https://agendadovinho.com.br/event/jantar-harmonizado-celebracao-a-enogastronomia/
LOCATION:Casa Dom Bernardo\, R. das Aroeiras\, 510 - Jardim\, Santo André\, SP\, 09090-000\, Brasil
CATEGORIES:Jantar harmonizado,SP - Demais cidades
ATTACH;FMTTYPE=image/jpeg:https://agendadovinho.com.br/wp-content/uploads/2023/02/IMG-20230214-WA0022.jpg
END:VEVENT
END:VCALENDAR