BEGIN:VCALENDAR
VERSION:2.0
PRODID:-//Agenda do Vinho - ECPv4.9.0//NONSGML v1.0//EN
CALSCALE:GREGORIAN
METHOD:PUBLISH
X-WR-CALNAME:Agenda do Vinho
X-ORIGINAL-URL:https://agendadovinho.com.br
X-WR-CALDESC:Eventos para Agenda do Vinho
BEGIN:VEVENT
DTSTART;TZID=America/Sao_Paulo:20220804T193000
DTEND;TZID=America/Sao_Paulo:20220804T193000
DTSTAMP:20260423T162801
CREATED:20220802T125612Z
LAST-MODIFIED:20220802T125612Z
UID:18322-1659641400-1659641400@agendadovinho.com.br
SUMMARY:Jantar Harmonizado
DESCRIPTION:
URL:https://agendadovinho.com.br/event/jantar-harmonizado-137/
LOCATION:Boucherie Marine\, R. Prudente de Morais\, 168 - Carmo\, Olinda\, PE\, 53020-140\, Brasil
CATEGORIES:Jantar harmonizado,PE - Demais cidades
ATTACH;FMTTYPE=image/png:https://agendadovinho.com.br/wp-content/uploads/2022/08/Jantar-Harmonizado_040822.png
END:VEVENT
END:VCALENDAR