BEGIN:VCALENDAR
VERSION:2.0
PRODID:-//Agenda do Vinho - ECPv4.9.0//NONSGML v1.0//EN
CALSCALE:GREGORIAN
METHOD:PUBLISH
X-WR-CALNAME:Agenda do Vinho
X-ORIGINAL-URL:https://agendadovinho.com.br
X-WR-CALDESC:Eventos para Agenda do Vinho
BEGIN:VEVENT
DTSTART;TZID=America/Sao_Paulo:20201125T193000
DTEND;TZID=America/Sao_Paulo:20201125T193000
DTSTAMP:20260425T012308
CREATED:20201104T165910Z
LAST-MODIFIED:20201104T165910Z
UID:16476-1606332600-1606332600@agendadovinho.com.br
SUMMARY:Jantar harmonizado - Uma noite na Espanha
DESCRIPTION:25/nov – 19:30 \n
URL:https://agendadovinho.com.br/event/jantar-harmonizado-uma-noite-na-espanha/
LOCATION:Emporium Pasto & Pizzas\, Av. Eusébio de Queiroz\, 1890 - Amador\, Eusébio\, CE\, 61760-000\, Brasil
CATEGORIES:CE - Demais cidades,Jantar harmonizado
ATTACH;FMTTYPE=image/jpeg:https://agendadovinho.com.br/wp-content/uploads/2020/11/pastoepizzasemporium_251120.jpg
END:VEVENT
BEGIN:VEVENT
DTSTART;TZID=America/Sao_Paulo:20201125T193000
DTEND;TZID=America/Sao_Paulo:20201125T193000
DTSTAMP:20260425T012308
CREATED:20201112T152302Z
LAST-MODIFIED:20201112T152302Z
UID:16641-1606332600-1606332600@agendadovinho.com.br
SUMMARY:Jantar harmonizado
DESCRIPTION:25/nov – 19:30 \n
URL:https://agendadovinho.com.br/event/jantar-harmonizado-131/
LOCATION:Extásia Restaurante\, Rua Diogo Jácome\, 361 - Vila Nova Conceição\, São Paulo\, SP\, 04512-001\, Brasil
CATEGORIES:Jantar harmonizado,SP - São Paulo
ATTACH;FMTTYPE=image/jpeg:https://agendadovinho.com.br/wp-content/uploads/2020/11/extasiarestaurante_251120.jpg
END:VEVENT
BEGIN:VEVENT
DTSTART;TZID=America/Sao_Paulo:20201125T200000
DTEND;TZID=America/Sao_Paulo:20201125T200000
DTSTAMP:20260425T012308
CREATED:20201124T153522Z
LAST-MODIFIED:20201124T153522Z
UID:16805-1606334400-1606334400@agendadovinho.com.br
SUMMARY:Jantar Harmonizado
DESCRIPTION:25/nov – 20:00 \n
URL:https://agendadovinho.com.br/event/jantar-harmonizado-133/
LOCATION:Adega das Onze\, R. Padre Champagnat\, 302 - Cidade Velha\, Belém\, PA\, 66020-470\, Brasil
CATEGORIES:Jantar harmonizado,PA - Belém
ATTACH;FMTTYPE=image/jpeg:https://agendadovinho.com.br/wp-content/uploads/2020/11/adegadasonze_251120.jpg
END:VEVENT
END:VCALENDAR