BEGIN:VCALENDAR
VERSION:2.0
PRODID:-//Agenda do Vinho - ECPv4.9.0//NONSGML v1.0//EN
CALSCALE:GREGORIAN
METHOD:PUBLISH
X-WR-CALNAME:Agenda do Vinho
X-ORIGINAL-URL:https://agendadovinho.com.br
X-WR-CALDESC:Eventos para Agenda do Vinho
BEGIN:VEVENT
DTSTART;TZID=America/Sao_Paulo:20201119T190000
DTEND;TZID=America/Sao_Paulo:20201119T220000
DTSTAMP:20260425T012138
CREATED:20201113T202603Z
LAST-MODIFIED:20201113T202603Z
UID:16657-1605812400-1605823200@agendadovinho.com.br
SUMMARY:Menu harmonizado
DESCRIPTION:19/nov – 19:00 \n
URL:https://agendadovinho.com.br/event/menu-harmonizado-3/
LOCATION:Restaurante Il Pescatore Mediterrâneo\, R. José Maria Lisboa\, 891 - Jardins\, São Paulo\, SP\, 01423-002\, Brasil
CATEGORIES:Jantar harmonizado,SP - São Paulo
ATTACH;FMTTYPE=image/jpeg:https://agendadovinho.com.br/wp-content/uploads/2020/11/ilpescatoreoficial_191120.jpg
END:VEVENT
BEGIN:VEVENT
DTSTART;TZID=America/Sao_Paulo:20201119T200000
DTEND;TZID=America/Sao_Paulo:20201119T200000
DTSTAMP:20260425T012138
CREATED:20201104T161434Z
LAST-MODIFIED:20201104T161434Z
UID:16475-1605816000-1605816000@agendadovinho.com.br
SUMMARY:Harmonias enogastronômicas
DESCRIPTION:19/nov – 20:00 \n
URL:https://agendadovinho.com.br/event/harmonias-enogastronomicas/
LOCATION:Alberobello Forneria\, Av. Palmital\, 129 - Jardim Flamboyant\, Campinas\, SP\, 13091-133\, Brasil
CATEGORIES:Jantar harmonizado,SP - Demais cidades
ATTACH;FMTTYPE=image/jpeg:https://agendadovinho.com.br/wp-content/uploads/2020/11/gestao_em_foodservice_191120.jpg
END:VEVENT
END:VCALENDAR