BEGIN:VCALENDAR
VERSION:2.0
PRODID:-//Agenda do Vinho - ECPv4.9.0//NONSGML v1.0//EN
CALSCALE:GREGORIAN
METHOD:PUBLISH
X-WR-CALNAME:Agenda do Vinho
X-ORIGINAL-URL:https://agendadovinho.com.br
X-WR-CALDESC:Eventos para Agenda do Vinho
BEGIN:VEVENT
DTSTART;TZID=America/Sao_Paulo:20201027T203000
DTEND;TZID=America/Sao_Paulo:20201027T203000
DTSTAMP:20260425T010910
CREATED:20201022T145721Z
LAST-MODIFIED:20201022T145721Z
UID:16314-1603830600-1603830600@agendadovinho.com.br
SUMMARY:Jantar harmonizado
DESCRIPTION:27/out – 20:30 \nRio de Janeiro – RJ \n
URL:https://agendadovinho.com.br/event/jantar-harmonizado-119/
LOCATION:Galpão Gourmet GG\, R. Ituverava\, 665 - Freguesia de Jacarepaguá\, Rio de Janeiro\, RJ\, 22750-006\, Brasil
CATEGORIES:Jantar harmonizado,RJ - Rio de Janeiro
ATTACH;FMTTYPE=image/jpeg:https://agendadovinho.com.br/wp-content/uploads/2020/10/galpaogourmetgg_271020.jpg
END:VEVENT
END:VCALENDAR