BEGIN:VCALENDAR
VERSION:2.0
PRODID:-//Agenda do Vinho - ECPv4.9.0//NONSGML v1.0//EN
CALSCALE:GREGORIAN
METHOD:PUBLISH
X-WR-CALNAME:Agenda do Vinho
X-ORIGINAL-URL:https://agendadovinho.com.br
X-WR-CALDESC:Eventos para Agenda do Vinho
BEGIN:VEVENT
DTSTART;TZID=America/Sao_Paulo:20240831T120000
DTEND;TZID=America/Sao_Paulo:20240831T210000
DTSTAMP:20260420T031222
CREATED:20240611T131358Z
LAST-MODIFIED:20240611T131358Z
UID:20227-1725105600-1725138000@agendadovinho.com.br
SUMMARY:Encontro de Vinhos Rio de Janeiro - Agosto
DESCRIPTION:
URL:https://agendadovinho.com.br/event/encontro-de-vinhos-rio-de-janeiro-agosto/
LOCATION:Salão Nobre do Clube Fluminense\, R. Álvaro Chaves\, 41 - Laranjeiras\, Rio de Janeiro\, RJ\, 22231-110\, Brasil
CATEGORIES:Degustação,RJ - Rio de Janeiro
ATTACH;FMTTYPE=image/jpeg:https://agendadovinho.com.br/wp-content/uploads/2024/06/encontro-de-vinhos_310824.jpg
END:VEVENT
END:VCALENDAR