BEGIN:VCALENDAR
VERSION:2.0
PRODID:-//Agenda do Vinho - ECPv4.9.0//NONSGML v1.0//EN
CALSCALE:GREGORIAN
METHOD:PUBLISH
X-WR-CALNAME:Agenda do Vinho
X-ORIGINAL-URL:https://agendadovinho.com.br
X-WR-CALDESC:Eventos para Agenda do Vinho
BEGIN:VEVENT
DTSTART;TZID=America/Sao_Paulo:20240802T190000
DTEND;TZID=America/Sao_Paulo:20240802T235900
DTSTAMP:20260420T044428
CREATED:20240613T153136Z
LAST-MODIFIED:20240613T153136Z
UID:20260-1722625200-1722643140@agendadovinho.com.br
SUMMARY:2ª Mostra de Vinhos Center Box
DESCRIPTION:
URL:https://agendadovinho.com.br/event/2a-mostra-de-vinhos-center-box/
LOCATION:Marques Plaza Hotel\, Av. Prefeito Tuany Toledo\, 801 - Fatima II\, Pouso Alegre\, MG\, 37553-571\, Brasil
CATEGORIES:Degustação,MG - Demais cidades
ATTACH;FMTTYPE=image/png:https://agendadovinho.com.br/wp-content/uploads/2024/06/2-mostra-de-vinhos-center-box_020824.png
END:VEVENT
END:VCALENDAR